BEGIN:VCALENDAR
VERSION:2.0
PRODID:-//PAWTUXET RANGERS, RIHM  - 1774 - ECPv6.15.20//NONSGML v1.0//EN
CALSCALE:GREGORIAN
METHOD:PUBLISH
X-WR-CALNAME:PAWTUXET RANGERS, RIHM  - 1774
X-ORIGINAL-URL:https://www.pawtuxetrangers.com
X-WR-CALDESC:Events for PAWTUXET RANGERS, RIHM  - 1774
REFRESH-INTERVAL;VALUE=DURATION:PT1H
X-Robots-Tag:noindex
X-PUBLISHED-TTL:PT1H
BEGIN:VTIMEZONE
TZID:America/New_York
BEGIN:DAYLIGHT
TZOFFSETFROM:-0500
TZOFFSETTO:-0400
TZNAME:EDT
DTSTART:20230312T070000
END:DAYLIGHT
BEGIN:STANDARD
TZOFFSETFROM:-0400
TZOFFSETTO:-0500
TZNAME:EST
DTSTART:20231105T060000
END:STANDARD
BEGIN:DAYLIGHT
TZOFFSETFROM:-0500
TZOFFSETTO:-0400
TZNAME:EDT
DTSTART:20240310T070000
END:DAYLIGHT
BEGIN:STANDARD
TZOFFSETFROM:-0400
TZOFFSETTO:-0500
TZNAME:EST
DTSTART:20241103T060000
END:STANDARD
BEGIN:DAYLIGHT
TZOFFSETFROM:-0500
TZOFFSETTO:-0400
TZNAME:EDT
DTSTART:20250309T070000
END:DAYLIGHT
BEGIN:STANDARD
TZOFFSETFROM:-0400
TZOFFSETTO:-0500
TZNAME:EST
DTSTART:20251102T060000
END:STANDARD
END:VTIMEZONE
BEGIN:VEVENT
DTSTART;TZID=America/New_York:20240403T200000
DTEND;TZID=America/New_York:20240403T210000
DTSTAMP:20260422T110830
CREATED:20240330T211309Z
LAST-MODIFIED:20240330T211309Z
UID:2620-1712174400-1712178000@www.pawtuxetrangers.com
SUMMARY:Weekly Business Meeting
DESCRIPTION:
URL:https://www.pawtuxetrangers.com/event/weekly-business-meeting/
LOCATION:Armory Hall\, 59 Remington Street\, Warwick\, RI\, 02888\, United States
END:VEVENT
BEGIN:VEVENT
DTSTART;TZID=America/New_York:20240405T080000
DTEND;TZID=America/New_York:20240406T170000
DTSTAMP:20260422T110830
CREATED:20240330T211959Z
LAST-MODIFIED:20240330T211959Z
UID:2631-1712304000-1712422800@www.pawtuxetrangers.com
SUMMARY:Major-General Nathanial Greene Encampment
DESCRIPTION:
URL:https://www.pawtuxetrangers.com/event/major-general-nathanial-greene-encampment/
LOCATION:Nathaniel Greene Homestead\, 50 Taft Street\, Coventry\, RI\, 02816\, United States
END:VEVENT
BEGIN:VEVENT
DTSTART;TZID=America/New_York:20240410T200000
DTEND;TZID=America/New_York:20240410T210000
DTSTAMP:20260422T110830
CREATED:20240330T211347Z
LAST-MODIFIED:20240330T211632Z
UID:2623-1712779200-1712782800@www.pawtuxetrangers.com
SUMMARY:Annual Meeting of the Company and Election of Officers
DESCRIPTION:
URL:https://www.pawtuxetrangers.com/event/weekly-business-meeting-2/
LOCATION:Armory Hall\, 59 Remington Street\, Warwick\, RI\, 02888\, United States
END:VEVENT
BEGIN:VEVENT
DTSTART;TZID=America/New_York:20240417T200000
DTEND;TZID=America/New_York:20240417T210000
DTSTAMP:20260422T110830
CREATED:20240330T211458Z
LAST-MODIFIED:20240330T211458Z
UID:2626-1713384000-1713387600@www.pawtuxetrangers.com
SUMMARY:Weekly Business Meeting
DESCRIPTION:
URL:https://www.pawtuxetrangers.com/event/weekly-business-meeting-3/
LOCATION:Armory Hall\, 59 Remington Street\, Warwick\, RI\, 02888\, United States
END:VEVENT
BEGIN:VEVENT
DTSTART;TZID=America/New_York:20240424T200000
DTEND;TZID=America/New_York:20240424T210000
DTSTAMP:20260422T110830
CREATED:20240330T211539Z
LAST-MODIFIED:20240330T211539Z
UID:2628-1713988800-1713992400@www.pawtuxetrangers.com
SUMMARY:Weekly Business Meeting
DESCRIPTION:
URL:https://www.pawtuxetrangers.com/event/weekly-business-meeting-4/
LOCATION:Armory Hall\, 59 Remington Street\, Warwick\, RI\, 02888\, United States
END:VEVENT
BEGIN:VEVENT
DTSTART;TZID=America/New_York:20240427T080000
DTEND;TZID=America/New_York:20240427T170000
DTSTAMP:20260422T110830
CREATED:20240330T212214Z
LAST-MODIFIED:20240330T212214Z
UID:2636-1714204800-1714237200@www.pawtuxetrangers.com
SUMMARY:Knight's Templar Event
DESCRIPTION:Time TBD
URL:https://www.pawtuxetrangers.com/event/knights-templar-event/
END:VEVENT
END:VCALENDAR