BEGIN:VCALENDAR
VERSION:2.0
PRODID:-//PAWTUXET RANGERS, RIHM  - 1774 - ECPv6.15.20//NONSGML v1.0//EN
CALSCALE:GREGORIAN
METHOD:PUBLISH
X-ORIGINAL-URL:https://www.pawtuxetrangers.com
X-WR-CALDESC:Events for PAWTUXET RANGERS, RIHM  - 1774
REFRESH-INTERVAL;VALUE=DURATION:PT1H
X-Robots-Tag:noindex
X-PUBLISHED-TTL:PT1H
BEGIN:VTIMEZONE
TZID:America/New_York
BEGIN:DAYLIGHT
TZOFFSETFROM:-0500
TZOFFSETTO:-0400
TZNAME:EDT
DTSTART:20220313T070000
END:DAYLIGHT
BEGIN:STANDARD
TZOFFSETFROM:-0400
TZOFFSETTO:-0500
TZNAME:EST
DTSTART:20221106T060000
END:STANDARD
BEGIN:DAYLIGHT
TZOFFSETFROM:-0500
TZOFFSETTO:-0400
TZNAME:EDT
DTSTART:20230312T070000
END:DAYLIGHT
BEGIN:STANDARD
TZOFFSETFROM:-0400
TZOFFSETTO:-0500
TZNAME:EST
DTSTART:20231105T060000
END:STANDARD
BEGIN:DAYLIGHT
TZOFFSETFROM:-0500
TZOFFSETTO:-0400
TZNAME:EDT
DTSTART:20240310T070000
END:DAYLIGHT
BEGIN:STANDARD
TZOFFSETFROM:-0400
TZOFFSETTO:-0500
TZNAME:EST
DTSTART:20241103T060000
END:STANDARD
END:VTIMEZONE
BEGIN:VEVENT
DTSTART;TZID=America/New_York:20230506T173000
DTEND;TZID=America/New_York:20230506T173000
DTSTAMP:20260423T014726
CREATED:20230504T020850Z
LAST-MODIFIED:20230504T021603Z
UID:2472-1683394200-1683394200@www.pawtuxetrangers.com
SUMMARY:RI Heritage Hall of Fame Induction Ceremony
DESCRIPTION:Crown Plaza Warwick; 801 Greenwich Ave\, Warwick RI \nReporting Time: 1715 \nEvent Begins: 1740
URL:https://www.pawtuxetrangers.com/event/ri-heritage-hall-of-fame-induction-ceremony/
LOCATION:Crowne Plaza Hotel\, 801 Greenwich Avenue\, Warwick\, RI\, United States
END:VEVENT
BEGIN:VEVENT
DTSTART;TZID=America/New_York:20230512T143000
DTEND;TZID=America/New_York:20230512T150000
DTSTAMP:20260423T014726
CREATED:20230504T021141Z
LAST-MODIFIED:20230504T021628Z
UID:2476-1683901800-1683903600@www.pawtuxetrangers.com
SUMMARY:DAR Event-North Burial Ground
DESCRIPTION:VOLUNTARY EVENT \nReporting Time: 1430
URL:https://www.pawtuxetrangers.com/event/dar-event-north-burial-ground/
LOCATION:North Burial Ground\, 5 Branch Avenue\, Providence\, RI\, 02904\, United States
END:VEVENT
BEGIN:VEVENT
DTSTART;TZID=America/New_York:20230513T100000
DTEND;TZID=America/New_York:20230513T110000
DTSTAMP:20260423T014726
CREATED:20230504T021326Z
LAST-MODIFIED:20230504T021655Z
UID:2480-1683972000-1683975600@www.pawtuxetrangers.com
SUMMARY:Edgewood Yacht Club Opening Day
DESCRIPTION:Edgewood Yacht Club \nReporting Time: 10:00am \nEvent Starts: 10:30
URL:https://www.pawtuxetrangers.com/event/edgewood-yacht-club-opening-day-4/
LOCATION:Edgewood Yacht Club\, 3 Shaw Avenue\, Cranston\, RI\, 02905\, United States
END:VEVENT
BEGIN:VEVENT
DTSTART;TZID=America/New_York:20230520T120000
DTEND;TZID=America/New_York:20230520T130000
DTSTAMP:20260423T014726
CREATED:20230504T021436Z
LAST-MODIFIED:20230504T021719Z
UID:2483-1684584000-1684587600@www.pawtuxetrangers.com
SUMMARY:Gaspee Proclamation
DESCRIPTION:Gaspee Proclamation \nReporting Time: TBD; Pawtuxet Rangers Armory \nStep-Off: 12:00
URL:https://www.pawtuxetrangers.com/event/gaspee-proclamation-4/
END:VEVENT
BEGIN:VEVENT
DTSTART;TZID=America/New_York:20230527T080000
DTEND;TZID=America/New_York:20230529T170000
DTSTAMP:20260423T014726
CREATED:20230504T021533Z
LAST-MODIFIED:20230504T021533Z
UID:2485-1685174400-1685379600@www.pawtuxetrangers.com
SUMMARY:Recruiting Booth
DESCRIPTION:Gaspee Days Arts and Crafts Festival \nPlease reach out to Rachel for Sign-Up
URL:https://www.pawtuxetrangers.com/event/recruiting-booth-3/
END:VEVENT
BEGIN:VEVENT
DTSTART;TZID=America/New_York:20230529T080000
DTEND;TZID=America/New_York:20230529T170000
DTSTAMP:20260423T014726
CREATED:20230504T021809Z
LAST-MODIFIED:20230504T021809Z
UID:2487-1685347200-1685379600@www.pawtuxetrangers.com
SUMMARY:West Greenwich Memorial Day Parade
DESCRIPTION:West Greenwich Memorial Day Parade \nEvent Details TBD
URL:https://www.pawtuxetrangers.com/event/west-greenwich-memorial-day-parade-2/
END:VEVENT
BEGIN:VEVENT
DTSTART;TZID=America/New_York:20230529T130000
DTEND;TZID=America/New_York:20230529T140000
DTSTAMP:20260423T014726
CREATED:20230504T021916Z
LAST-MODIFIED:20230504T021916Z
UID:2489-1685365200-1685368800@www.pawtuxetrangers.com
SUMMARY:Park Ceremony and Arts and Crafts Walkthrough
DESCRIPTION:Gaspee Arts and Crafts Walkthrough and Memorial Day Ceremony in Pawtuxet Park \nStep Off: 1300
URL:https://www.pawtuxetrangers.com/event/park-ceremony-and-arts-and-crafts-walkthrough/
END:VEVENT
END:VCALENDAR