BEGIN:VCALENDAR
VERSION:2.0
PRODID:-//PAWTUXET RANGERS, RIHM  - 1774 - ECPv6.15.20//NONSGML v1.0//EN
CALSCALE:GREGORIAN
METHOD:PUBLISH
X-WR-CALNAME:PAWTUXET RANGERS, RIHM  - 1774
X-ORIGINAL-URL:https://www.pawtuxetrangers.com
X-WR-CALDESC:Events for PAWTUXET RANGERS, RIHM  - 1774
REFRESH-INTERVAL;VALUE=DURATION:PT1H
X-Robots-Tag:noindex
X-PUBLISHED-TTL:PT1H
BEGIN:VTIMEZONE
TZID:America/New_York
BEGIN:DAYLIGHT
TZOFFSETFROM:-0500
TZOFFSETTO:-0400
TZNAME:EDT
DTSTART:20210314T070000
END:DAYLIGHT
BEGIN:STANDARD
TZOFFSETFROM:-0400
TZOFFSETTO:-0500
TZNAME:EST
DTSTART:20211107T060000
END:STANDARD
BEGIN:DAYLIGHT
TZOFFSETFROM:-0500
TZOFFSETTO:-0400
TZNAME:EDT
DTSTART:20220313T070000
END:DAYLIGHT
BEGIN:STANDARD
TZOFFSETFROM:-0400
TZOFFSETTO:-0500
TZNAME:EST
DTSTART:20221106T060000
END:STANDARD
BEGIN:DAYLIGHT
TZOFFSETFROM:-0500
TZOFFSETTO:-0400
TZNAME:EDT
DTSTART:20230312T070000
END:DAYLIGHT
BEGIN:STANDARD
TZOFFSETFROM:-0400
TZOFFSETTO:-0500
TZNAME:EST
DTSTART:20231105T060000
END:STANDARD
END:VTIMEZONE
BEGIN:VEVENT
DTSTART;TZID=America/New_York:20220610T080000
DTEND;TZID=America/New_York:20220612T160000
DTSTAMP:20260423T181005
CREATED:20220402T193138Z
LAST-MODIFIED:20220402T193138Z
UID:2341-1654848000-1655049600@www.pawtuxetrangers.com
SUMMARY:Gaspee Days Encampment
DESCRIPTION:Setup all Friday morning. Encampment up until Sunday afternoon.
URL:https://www.pawtuxetrangers.com/event/gaspee-days-encampment-5/
LOCATION:Pawtuxet Park\, E. View Street\, Warwick\, RI\, 02888\, United States
END:VEVENT
BEGIN:VEVENT
DTSTART;TZID=America/New_York:20220611T080000
DTEND;TZID=America/New_York:20220611T090000
DTSTAMP:20260423T181005
CREATED:20220402T193227Z
LAST-MODIFIED:20220402T193227Z
UID:2343-1654934400-1654938000@www.pawtuxetrangers.com
SUMMARY:Gaspee Days Ecumenical Service
DESCRIPTION:Voluntary – Trinity Church
URL:https://www.pawtuxetrangers.com/event/gaspee-days-ecumenical-service-3/
LOCATION:Trinity Church\, 139 Ocean Avenue\, Cranston\, RI\, 02905\, United States
END:VEVENT
BEGIN:VEVENT
DTSTART;TZID=America/New_York:20220611T100000
DTEND;TZID=America/New_York:20220611T113000
DTSTAMP:20260423T181005
CREATED:20220402T193355Z
LAST-MODIFIED:20220402T193355Z
UID:2345-1654941600-1654947000@www.pawtuxetrangers.com
SUMMARY:Gaspee Days Parade
DESCRIPTION:250th Anniversary of the Burning of the Gaspee \nApproved by unit vote. 
URL:https://www.pawtuxetrangers.com/event/gaspee-days-parade-6/
LOCATION:Pawtuxet Park\, E. View Street\, Warwick\, RI\, 02888\, United States
END:VEVENT
BEGIN:VEVENT
DTSTART;TZID=America/New_York:20220611T120000
DTEND;TZID=America/New_York:20220611T123000
DTSTAMP:20260423T181005
CREATED:20220402T193549Z
LAST-MODIFIED:20220402T193549Z
UID:2347-1654948800-1654950600@www.pawtuxetrangers.com
SUMMARY:Pawtuxet Rangers Campaign Streamer Ceremony
DESCRIPTION:The Rangers will be officially recognized for their service during the American Revolution and the Dorr Rebellion. The Adjutant General of the State of Rhode Island will present the campaign streamers to the Rangers. Starting time is an approximation.
URL:https://www.pawtuxetrangers.com/event/pawtuxet-rangers-campaign-streamer-ceremony/
LOCATION:Pawtuxet Park\, E. View Street\, Warwick\, RI\, 02888\, United States
END:VEVENT
BEGIN:VEVENT
DTSTART;TZID=America/New_York:20220612T120000
DTEND;TZID=America/New_York:20220612T160000
DTSTAMP:20260423T181005
CREATED:20220402T193659Z
LAST-MODIFIED:20220402T193659Z
UID:2349-1655035200-1655049600@www.pawtuxetrangers.com
SUMMARY:Gaspee Days Sunday in the Park
DESCRIPTION:Sunday in the park concerts which culminates with the burning.
URL:https://www.pawtuxetrangers.com/event/gaspee-days-sunday-in-the-park-5/
LOCATION:Pawtuxet Park\, E. View Street\, Warwick\, RI\, 02888\, United States
END:VEVENT
BEGIN:VEVENT
DTSTART;TZID=America/New_York:20220623T180000
DTEND;TZID=America/New_York:20220623T183000
DTSTAMP:20260423T181005
CREATED:20220402T193810Z
LAST-MODIFIED:20220402T193810Z
UID:2351-1656007200-1656009000@www.pawtuxetrangers.com
SUMMARY:Rhode Island Society of Colonial Wars - Summer Court
DESCRIPTION:Fife & drum and static cannon display \n2nd Reading – 6 APR 22
URL:https://www.pawtuxetrangers.com/event/rhode-island-society-of-colonial-wars-summer-court/
LOCATION:Rhodes On The Pawtuxet\, 1 Rhode Place\, Cranston\, RI\, 02905\, United States
END:VEVENT
END:VCALENDAR