BEGIN:VCALENDAR
VERSION:2.0
PRODID:-//PAWTUXET RANGERS, RIHM  - 1774 - ECPv6.15.20//NONSGML v1.0//EN
CALSCALE:GREGORIAN
METHOD:PUBLISH
X-WR-CALNAME:PAWTUXET RANGERS, RIHM  - 1774
X-ORIGINAL-URL:https://www.pawtuxetrangers.com
X-WR-CALDESC:Events for PAWTUXET RANGERS, RIHM  - 1774
REFRESH-INTERVAL;VALUE=DURATION:PT1H
X-Robots-Tag:noindex
X-PUBLISHED-TTL:PT1H
BEGIN:VTIMEZONE
TZID:America/New_York
BEGIN:DAYLIGHT
TZOFFSETFROM:-0500
TZOFFSETTO:-0400
TZNAME:EDT
DTSTART:20150308T070000
END:DAYLIGHT
BEGIN:STANDARD
TZOFFSETFROM:-0400
TZOFFSETTO:-0500
TZNAME:EST
DTSTART:20151101T060000
END:STANDARD
BEGIN:DAYLIGHT
TZOFFSETFROM:-0500
TZOFFSETTO:-0400
TZNAME:EDT
DTSTART:20160313T070000
END:DAYLIGHT
BEGIN:STANDARD
TZOFFSETFROM:-0400
TZOFFSETTO:-0500
TZNAME:EST
DTSTART:20161106T060000
END:STANDARD
BEGIN:DAYLIGHT
TZOFFSETFROM:-0500
TZOFFSETTO:-0400
TZNAME:EDT
DTSTART:20170312T070000
END:DAYLIGHT
BEGIN:STANDARD
TZOFFSETFROM:-0400
TZOFFSETTO:-0500
TZNAME:EST
DTSTART:20171105T060000
END:STANDARD
END:VTIMEZONE
BEGIN:VEVENT
DTSTART;TZID=America/New_York:20161116T200000
DTEND;TZID=America/New_York:20161116T210000
DTSTAMP:20260424T211449
CREATED:20160203T222145Z
LAST-MODIFIED:20160203T222145Z
UID:520-1479326400-1479330000@www.pawtuxetrangers.com
SUMMARY:Business Meeting
DESCRIPTION:
URL:https://www.pawtuxetrangers.com/event/business-meeting-38/
LOCATION:Armory Hall\, 59 Remington Street\, Warwick\, RI\, 02888\, United States
END:VEVENT
BEGIN:VEVENT
DTSTART;TZID=America/New_York:20161111T143000
DTEND;TZID=America/New_York:20161111T150000
DTSTAMP:20260424T211449
CREATED:20161013T130304Z
LAST-MODIFIED:20161020T123757Z
UID:874-1478874600-1478876400@www.pawtuxetrangers.com
SUMMARY:Scandinavian Home Veterans Ceremony
DESCRIPTION:1st reading 10/5\n2nd reading 10/12 Voluntary Event
URL:https://www.pawtuxetrangers.com/event/scandinavian-home-veterans-ceremony/
LOCATION:Scandinavian Home\, 1811 Broad Street\, Cranston\, RI\, United States
END:VEVENT
BEGIN:VEVENT
DTSTART;TZID=America/New_York:20161109T200000
DTEND;TZID=America/New_York:20161109T210000
DTSTAMP:20260424T211449
CREATED:20160203T222001Z
LAST-MODIFIED:20160203T222001Z
UID:517-1478721600-1478725200@www.pawtuxetrangers.com
SUMMARY:Business Meeting
DESCRIPTION:
URL:https://www.pawtuxetrangers.com/event/business-meeting-37/
LOCATION:Armory Hall\, 59 Remington Street\, Warwick\, RI\, 02888\, United States
END:VEVENT
BEGIN:VEVENT
DTSTART;TZID=America/New_York:20161106T130000
DTEND;TZID=America/New_York:20161106T170000
DTSTAMP:20260424T211449
CREATED:20161020T124314Z
LAST-MODIFIED:20161020T124314Z
UID:883-1478437200-1478451600@www.pawtuxetrangers.com
SUMMARY:Historic Plaque Presentation - Armory Hall
DESCRIPTION:
URL:https://www.pawtuxetrangers.com/event/historic-plaque-presentation-armory-hall/
LOCATION:Armory Hall\, 59 Remington Street\, Warwick\, RI\, 02888\, United States
END:VEVENT
BEGIN:VEVENT
DTSTART;TZID=America/New_York:20161102T200000
DTEND;TZID=America/New_York:20161102T210000
DTSTAMP:20260424T211449
CREATED:20160203T221928Z
LAST-MODIFIED:20160203T221928Z
UID:516-1478116800-1478120400@www.pawtuxetrangers.com
SUMMARY:Business Meeting
DESCRIPTION:
URL:https://www.pawtuxetrangers.com/event/business-meeting-36/
LOCATION:Armory Hall\, 59 Remington Street\, Warwick\, RI\, 02888\, United States
END:VEVENT
BEGIN:VEVENT
DTSTART;VALUE=DATE:20161027
DTEND;VALUE=DATE:20161031
DTSTAMP:20260424T211449
CREATED:20160203T221850Z
LAST-MODIFIED:20160203T221850Z
UID:514-1477526400-1477871999@www.pawtuxetrangers.com
SUMMARY:Centennial Legion Annual Meeting
DESCRIPTION:
URL:https://www.pawtuxetrangers.com/event/centennial-legion-annual-meeting/
LOCATION:Plymouth\, Plymouth\, MA\, United States
END:VEVENT
BEGIN:VEVENT
DTSTART;TZID=America/New_York:20161026T180000
DTEND;TZID=America/New_York:20161026T203000
DTSTAMP:20260424T211449
CREATED:20160203T221743Z
LAST-MODIFIED:20160203T221743Z
UID:512-1477504800-1477513800@www.pawtuxetrangers.com
SUMMARY:242nd Anniversary Dinner
DESCRIPTION:
URL:https://www.pawtuxetrangers.com/event/242nd-anniversary-dinner/
LOCATION:Chianti’s\, 195 Old Forge Road\, East Greenwich\, RI\, United States
END:VEVENT
BEGIN:VEVENT
DTSTART;TZID=America/New_York:20161019T200000
DTEND;TZID=America/New_York:20161019T210000
DTSTAMP:20260424T211449
CREATED:20160203T221620Z
LAST-MODIFIED:20160203T221620Z
UID:511-1476907200-1476910800@www.pawtuxetrangers.com
SUMMARY:Business Meeting
DESCRIPTION:
URL:https://www.pawtuxetrangers.com/event/business-meeting-35/
LOCATION:Armory Hall\, 59 Remington Street\, Warwick\, RI\, 02888\, United States
END:VEVENT
BEGIN:VEVENT
DTSTART;TZID=America/New_York:20161015T090000
DTEND;TZID=America/New_York:20161015T120000
DTSTAMP:20260424T211449
CREATED:20160819T152931Z
LAST-MODIFIED:20160819T152931Z
UID:859-1476522000-1476532800@www.pawtuxetrangers.com
SUMMARY:Greene Cemetery Work Detail
DESCRIPTION:Voluntary
URL:https://www.pawtuxetrangers.com/event/greene-cemetery-work-detail-2/
LOCATION:Greene Cemetery\, 146 Post Road\, Warwick\, RI\, United States
END:VEVENT
BEGIN:VEVENT
DTSTART;TZID=America/New_York:20161012T200000
DTEND;TZID=America/New_York:20161012T210000
DTSTAMP:20260424T211449
CREATED:20160203T221531Z
LAST-MODIFIED:20160203T221531Z
UID:510-1476302400-1476306000@www.pawtuxetrangers.com
SUMMARY:Business Meeting
DESCRIPTION:
URL:https://www.pawtuxetrangers.com/event/business-meeting-34/
LOCATION:Armory Hall\, 59 Remington Street\, Warwick\, RI\, 02888\, United States
END:VEVENT
BEGIN:VEVENT
DTSTART;TZID=America/New_York:20161009T110000
DTEND;TZID=America/New_York:20161009T140000
DTSTAMP:20260424T211449
CREATED:20160203T221457Z
LAST-MODIFIED:20160804T120420Z
UID:509-1476010800-1476021600@www.pawtuxetrangers.com
SUMMARY:Providence Columbus Day Parade
DESCRIPTION:1st Reading – 7/14/16\n2nd Reading – 8/4/16 – Approved.
URL:https://www.pawtuxetrangers.com/event/providence-columbus-day-parade-tentative/
LOCATION:Providence\, Providence\, RI\, United States
END:VEVENT
BEGIN:VEVENT
DTSTART;TZID=America/New_York:20161005T200000
DTEND;TZID=America/New_York:20161005T210000
DTSTAMP:20260424T211449
CREATED:20160203T221410Z
LAST-MODIFIED:20160203T221410Z
UID:508-1475697600-1475701200@www.pawtuxetrangers.com
SUMMARY:Business Meeting
DESCRIPTION:
URL:https://www.pawtuxetrangers.com/event/business-meeting-33/
LOCATION:Armory Hall\, 59 Remington Street\, Warwick\, RI\, 02888\, United States
END:VEVENT
BEGIN:VEVENT
DTSTART;TZID=America/New_York:20161001T120000
DTEND;TZID=America/New_York:20161001T130000
DTSTAMP:20260424T211449
CREATED:20160916T122638Z
LAST-MODIFIED:20160916T122638Z
UID:867-1475323200-1475326800@www.pawtuxetrangers.com
SUMMARY:McBride's 0K for Operation Standdown
DESCRIPTION:1st 9/14.
URL:https://www.pawtuxetrangers.com/event/mcbrides-0k-for-operation-standdown/
LOCATION:McBride’s Pub\, 161 Wayland Avenue\, Providence\, RI\, United States
END:VEVENT
BEGIN:VEVENT
DTSTART;TZID=America/New_York:20160928T200000
DTEND;TZID=America/New_York:20160928T210000
DTSTAMP:20260424T211449
CREATED:20160203T221333Z
LAST-MODIFIED:20160203T221333Z
UID:507-1475092800-1475096400@www.pawtuxetrangers.com
SUMMARY:Business Meeting
DESCRIPTION:
URL:https://www.pawtuxetrangers.com/event/business-meeting-32/
LOCATION:Armory Hall\, 59 Remington Street\, Warwick\, RI\, 02888\, United States
END:VEVENT
BEGIN:VEVENT
DTSTART;TZID=America/New_York:20160925T130000
DTEND;TZID=America/New_York:20160925T150000
DTSTAMP:20260424T211449
CREATED:20160615T140608Z
LAST-MODIFIED:20160916T122424Z
UID:820-1474808400-1474815600@www.pawtuxetrangers.com
SUMMARY:South Kingstown Fireman's Parade
DESCRIPTION:1st Reading – 6/15\n2nd Reading – 7/27 Approved.
URL:https://www.pawtuxetrangers.com/event/south-kingstown-firemans-parade/
LOCATION:Old Mountain Lanes (behind)\, 756 Kingstown Road\, Wakefield\, RI\, United States
END:VEVENT
BEGIN:VEVENT
DTSTART;TZID=America/New_York:20160921T200000
DTEND;TZID=America/New_York:20160921T210000
DTSTAMP:20260424T211449
CREATED:20160203T221014Z
LAST-MODIFIED:20160203T221014Z
UID:501-1474488000-1474491600@www.pawtuxetrangers.com
SUMMARY:Business Meeting
DESCRIPTION:
URL:https://www.pawtuxetrangers.com/event/business-meeting-31/
LOCATION:Armory Hall\, 59 Remington Street\, Warwick\, RI\, 02888\, United States
END:VEVENT
BEGIN:VEVENT
DTSTART;TZID=America/New_York:20160921T183000
DTEND;TZID=America/New_York:20160921T200000
DTSTAMP:20260424T211449
CREATED:20160728T123738Z
LAST-MODIFIED:20160728T123738Z
UID:848-1474482600-1474488000@www.pawtuxetrangers.com
SUMMARY:Pawtuxet Rangers/Harmony Lodge Steak Fry
DESCRIPTION:Joint steak fry at the armory with Harmony Lodge.
URL:https://www.pawtuxetrangers.com/event/pawtuxet-rangersharmony-lodge-steak-fry/
LOCATION:Armory Hall\, 59 Remington Street\, Warwick\, RI\, 02888\, United States
END:VEVENT
BEGIN:VEVENT
DTSTART;TZID=America/New_York:20160914T200000
DTEND;TZID=America/New_York:20160914T210000
DTSTAMP:20260424T211449
CREATED:20160203T220936Z
LAST-MODIFIED:20160203T220936Z
UID:500-1473883200-1473886800@www.pawtuxetrangers.com
SUMMARY:Business Meeeting
DESCRIPTION:
URL:https://www.pawtuxetrangers.com/event/business-meeeting/
LOCATION:Armory Hall\, 59 Remington Street\, Warwick\, RI\, 02888\, United States
END:VEVENT
BEGIN:VEVENT
DTSTART;TZID=America/New_York:20160907T200000
DTEND;TZID=America/New_York:20160907T210000
DTSTAMP:20260424T211449
CREATED:20160203T220706Z
LAST-MODIFIED:20160203T220706Z
UID:497-1473278400-1473282000@www.pawtuxetrangers.com
SUMMARY:Business Meeting
DESCRIPTION:
URL:https://www.pawtuxetrangers.com/event/business-meeting-30/
LOCATION:Armory Hall\, 59 Remington Street\, Warwick\, RI\, 02888\, United States
END:VEVENT
BEGIN:VEVENT
DTSTART;VALUE=DATE:20160903
DTEND;VALUE=DATE:20160904
DTSTAMP:20260424T211449
CREATED:20160714T135410Z
LAST-MODIFIED:20160728T123329Z
UID:840-1472860800-1472947199@www.pawtuxetrangers.com
SUMMARY:Kentish Guards Fife & Drum 50th Anniversary
DESCRIPTION:1st Reading – 7/13/16\n2nd Reading – 7/27/16 Approved.
URL:https://www.pawtuxetrangers.com/event/kentish-guards-fife-drum-50th-anniversary/
LOCATION:Kentish Guards Armory\, 1774 Armory Street\, East Greenwich\, RI\, United States
END:VEVENT
BEGIN:VEVENT
DTSTART;TZID=America/New_York:20160901T180000
DTEND;TZID=America/New_York:20160901T190000
DTSTAMP:20260424T211449
CREATED:20160203T221113Z
LAST-MODIFIED:20160825T175549Z
UID:502-1472752800-1472756400@www.pawtuxetrangers.com
SUMMARY:Gaspee Installation Dinner
DESCRIPTION:1st Reading – 2/17. \n2nd Reading – 3/2. Approved. \nDate is Thursday\, September 1. Waiting to hear details.
URL:https://www.pawtuxetrangers.com/event/gaspee-installation-dinner/
LOCATION:TBD
END:VEVENT
BEGIN:VEVENT
DTSTART;TZID=America/New_York:20160831T200000
DTEND;TZID=America/New_York:20160831T210000
DTSTAMP:20260424T211449
CREATED:20160203T220631Z
LAST-MODIFIED:20160203T220631Z
UID:496-1472673600-1472677200@www.pawtuxetrangers.com
SUMMARY:Business Meeting
DESCRIPTION:
URL:https://www.pawtuxetrangers.com/event/business-meeting-29/
LOCATION:Armory Hall\, 59 Remington Street\, Warwick\, RI\, 02888\, United States
END:VEVENT
BEGIN:VEVENT
DTSTART;TZID=America/New_York:20160831T190000
DTEND;TZID=America/New_York:20160831T200000
DTSTAMP:20260424T211449
CREATED:20160203T220543Z
LAST-MODIFIED:20160203T220543Z
UID:495-1472670000-1472673600@www.pawtuxetrangers.com
SUMMARY:August End of Month Dinner
DESCRIPTION:Menu TBD. $15/$7.50 for students.
URL:https://www.pawtuxetrangers.com/event/august-end-of-month-dinner/
LOCATION:Armory Hall\, 59 Remington Street\, Warwick\, RI\, 02888\, United States
END:VEVENT
BEGIN:VEVENT
DTSTART;TZID=America/New_York:20160824T200000
DTEND;TZID=America/New_York:20160824T210000
DTSTAMP:20260424T211449
CREATED:20160203T220404Z
LAST-MODIFIED:20160203T220404Z
UID:494-1472068800-1472072400@www.pawtuxetrangers.com
SUMMARY:Business Meeting
DESCRIPTION:
URL:https://www.pawtuxetrangers.com/event/business-meeting-28/
LOCATION:Armory Hall\, 59 Remington Street\, Warwick\, RI\, 02888\, United States
END:VEVENT
BEGIN:VEVENT
DTSTART;TZID=America/New_York:20160820T083000
DTEND;TZID=America/New_York:20160820T230000
DTSTAMP:20260424T211449
CREATED:20160811T141958Z
LAST-MODIFIED:20160811T185834Z
UID:851-1471681800-1471734000@www.pawtuxetrangers.com
SUMMARY:Cemetery Stone Project - Warwick #107
DESCRIPTION:Voluntary with the Warwick Historical Society. Warwick Historic Cemetery #107
URL:https://www.pawtuxetrangers.com/event/cemetery-stone-project/
LOCATION:Warwick Cemetery #107\, Fostmere CT\, Warwick\, RI\, United States
END:VEVENT
BEGIN:VEVENT
DTSTART;TZID=America/New_York:20160817T200000
DTEND;TZID=America/New_York:20160817T210000
DTSTAMP:20260424T211449
CREATED:20160203T220323Z
LAST-MODIFIED:20160203T220323Z
UID:493-1471464000-1471467600@www.pawtuxetrangers.com
SUMMARY:Business Meeting
DESCRIPTION:
URL:https://www.pawtuxetrangers.com/event/business-meeting-27/
LOCATION:Armory Hall\, 59 Remington Street\, Warwick\, RI\, 02888\, United States
END:VEVENT
BEGIN:VEVENT
DTSTART;TZID=America/New_York:20160810T200000
DTEND;TZID=America/New_York:20160810T210000
DTSTAMP:20260424T211449
CREATED:20160203T220242Z
LAST-MODIFIED:20160203T220242Z
UID:492-1470859200-1470862800@www.pawtuxetrangers.com
SUMMARY:Business Meeting
DESCRIPTION:
URL:https://www.pawtuxetrangers.com/event/business-meeting-26/
LOCATION:Armory Hall\, 59 Remington Street\, Warwick\, RI\, 02888\, United States
END:VEVENT
BEGIN:VEVENT
DTSTART;TZID=America/New_York:20160803T200000
DTEND;TZID=America/New_York:20160803T210000
DTSTAMP:20260424T211449
CREATED:20160203T220206Z
LAST-MODIFIED:20160203T220206Z
UID:491-1470254400-1470258000@www.pawtuxetrangers.com
SUMMARY:Business Meeting
DESCRIPTION:
URL:https://www.pawtuxetrangers.com/event/business-meeting-25/
LOCATION:Armory Hall\, 59 Remington Street\, Warwick\, RI\, 02888\, United States
END:VEVENT
BEGIN:VEVENT
DTSTART;TZID=America/New_York:20160802T180000
DTEND;TZID=America/New_York:20160802T200000
DTSTAMP:20260424T211449
CREATED:20160512T140539Z
LAST-MODIFIED:20160728T123233Z
UID:801-1470160800-1470168000@www.pawtuxetrangers.com
SUMMARY:National Night Out Recruiting Booth
DESCRIPTION:Oakland Beach
URL:https://www.pawtuxetrangers.com/event/national-night-out-recruiting-booth/
LOCATION:RI
END:VEVENT
BEGIN:VEVENT
DTSTART;TZID=America/New_York:20160728T130000
DTEND;TZID=America/New_York:20160728T150000
DTSTAMP:20260424T211449
CREATED:20160728T124043Z
LAST-MODIFIED:20160728T124043Z
UID:849-1469710800-1469718000@www.pawtuxetrangers.com
SUMMARY:Westerly Columbus Day Parade
DESCRIPTION:1st Reading – 7/27/16
URL:https://www.pawtuxetrangers.com/event/westerly-columbus-day-parade/
LOCATION:TBD
END:VEVENT
END:VCALENDAR