BEGIN:VCALENDAR
VERSION:2.0
PRODID:-//PAWTUXET RANGERS, RIHM  - 1774 - ECPv6.15.20//NONSGML v1.0//EN
CALSCALE:GREGORIAN
METHOD:PUBLISH
X-ORIGINAL-URL:https://www.pawtuxetrangers.com
X-WR-CALDESC:Events for PAWTUXET RANGERS, RIHM  - 1774
REFRESH-INTERVAL;VALUE=DURATION:PT1H
X-Robots-Tag:noindex
X-PUBLISHED-TTL:PT1H
BEGIN:VTIMEZONE
TZID:America/New_York
BEGIN:DAYLIGHT
TZOFFSETFROM:-0500
TZOFFSETTO:-0400
TZNAME:EDT
DTSTART:20150308T070000
END:DAYLIGHT
BEGIN:STANDARD
TZOFFSETFROM:-0400
TZOFFSETTO:-0500
TZNAME:EST
DTSTART:20151101T060000
END:STANDARD
BEGIN:DAYLIGHT
TZOFFSETFROM:-0500
TZOFFSETTO:-0400
TZNAME:EDT
DTSTART:20160313T070000
END:DAYLIGHT
BEGIN:STANDARD
TZOFFSETFROM:-0400
TZOFFSETTO:-0500
TZNAME:EST
DTSTART:20161106T060000
END:STANDARD
BEGIN:DAYLIGHT
TZOFFSETFROM:-0500
TZOFFSETTO:-0400
TZNAME:EDT
DTSTART:20170312T070000
END:DAYLIGHT
BEGIN:STANDARD
TZOFFSETFROM:-0400
TZOFFSETTO:-0500
TZNAME:EST
DTSTART:20171105T060000
END:STANDARD
BEGIN:DAYLIGHT
TZOFFSETFROM:-0500
TZOFFSETTO:-0400
TZNAME:EDT
DTSTART:20180311T070000
END:DAYLIGHT
BEGIN:STANDARD
TZOFFSETFROM:-0400
TZOFFSETTO:-0500
TZNAME:EST
DTSTART:20181104T060000
END:STANDARD
END:VTIMEZONE
BEGIN:VEVENT
DTSTART;TZID=America/New_York:20170517T200000
DTEND;TZID=America/New_York:20170517T210000
DTSTAMP:20260424T124724
CREATED:20170127T184729Z
LAST-MODIFIED:20170127T184729Z
UID:933-1495051200-1495054800@www.pawtuxetrangers.com
SUMMARY:Business Meeting
DESCRIPTION:
URL:https://www.pawtuxetrangers.com/event/business-meeting-50/
LOCATION:Armory Hall\, 59 Remington Street\, Warwick\, RI\, 02888\, United States
END:VEVENT
BEGIN:VEVENT
DTSTART;TZID=America/New_York:20170515T183000
DTEND;TZID=America/New_York:20170515T210000
DTSTAMP:20260424T124724
CREATED:20170412T141527Z
LAST-MODIFIED:20170412T141527Z
UID:1170-1494873000-1494882000@www.pawtuxetrangers.com
SUMMARY:RI Historic Alliance Steak Fry
DESCRIPTION:The Rangers will be hosting the RI Historic Alliance Annual Meeting.
URL:https://www.pawtuxetrangers.com/event/ri-historic-alliance-steak-fry/
LOCATION:Armory Hall\, 59 Remington Street\, Warwick\, RI\, 02888\, United States
END:VEVENT
BEGIN:VEVENT
DTSTART;TZID=America/New_York:20170513T180000
DTEND;TZID=America/New_York:20170513T180000
DTSTAMP:20260424T124724
CREATED:20160814T160721Z
LAST-MODIFIED:20170412T141822Z
UID:856-1494698400-1494698400@www.pawtuxetrangers.com
SUMMARY:Knights Templar Ceremony
DESCRIPTION:1st Reading – 8/17\n2nd Reading – 4/5\nApproved.
URL:https://www.pawtuxetrangers.com/event/knights-templar-ceremony-tentative/
LOCATION:Hotel Providence\, 139 Mathewson St\, Providence\, RI\, United States
END:VEVENT
BEGIN:VEVENT
DTSTART;TZID=America/New_York:20170513T100000
DTEND;TZID=America/New_York:20170513T170000
DTSTAMP:20260424T124724
CREATED:20170223T161051Z
LAST-MODIFIED:20170317T011606Z
UID:1115-1494669600-1494694800@www.pawtuxetrangers.com
SUMMARY:Jillson House 325th
DESCRIPTION:1st Reading – 3/1
URL:https://www.pawtuxetrangers.com/event/jillson-house-325th/
LOCATION:Jillson House\, Willimantic\, CT\, United States
END:VEVENT
BEGIN:VEVENT
DTSTART;TZID=America/New_York:20170510T200000
DTEND;TZID=America/New_York:20170510T210000
DTSTAMP:20260424T124724
CREATED:20170127T184646Z
LAST-MODIFIED:20170127T184646Z
UID:931-1494446400-1494450000@www.pawtuxetrangers.com
SUMMARY:Business Meeting
DESCRIPTION:
URL:https://www.pawtuxetrangers.com/event/business-meeting-49/
LOCATION:Armory Hall\, 59 Remington Street\, Warwick\, RI\, 02888\, United States
END:VEVENT
BEGIN:VEVENT
DTSTART;VALUE=DATE:20170505
DTEND;VALUE=DATE:20170508
DTSTAMP:20260424T124724
CREATED:20170127T202629Z
LAST-MODIFIED:20170331T124923Z
UID:1026-1493942400-1494201599@www.pawtuxetrangers.com
SUMMARY:Raid on Spell Hall - Greene Homestead Battle
DESCRIPTION:1st Reading – 3/1\n2nd Reading – 3/15\nTabled\n3/29 – Voluntary
URL:https://www.pawtuxetrangers.com/event/raid-on-spell-hall-greene-homestead-battle/
LOCATION:Greene Homestead\, 50 Taft Street\, Coventry\, RI\, United States
END:VEVENT
BEGIN:VEVENT
DTSTART;TZID=America/New_York:20170503T200000
DTEND;TZID=America/New_York:20170503T210000
DTSTAMP:20260424T124724
CREATED:20170127T184556Z
LAST-MODIFIED:20170127T184556Z
UID:929-1493841600-1493845200@www.pawtuxetrangers.com
SUMMARY:Business Meeting
DESCRIPTION:
URL:https://www.pawtuxetrangers.com/event/business-meeting-48/
LOCATION:Armory Hall\, 59 Remington Street\, Warwick\, RI\, 02888\, United States
END:VEVENT
BEGIN:VEVENT
DTSTART;TZID=America/New_York:20170429T110000
DTEND;TZID=America/New_York:20170429T113000
DTSTAMP:20260424T124724
CREATED:20170127T202202Z
LAST-MODIFIED:20170426T131457Z
UID:1022-1493463600-1493465400@www.pawtuxetrangers.com
SUMMARY:Cranston East Little League Opening Day
DESCRIPTION:
URL:https://www.pawtuxetrangers.com/event/cranston-east-little-league-opening-day-tentative/
LOCATION:Cranston Stadium\, 20 Jordan Ave\, Cranston\, RI\, United States
END:VEVENT
BEGIN:VEVENT
DTSTART;TZID=America/New_York:20170426T200000
DTEND;TZID=America/New_York:20170426T210000
DTSTAMP:20260424T124725
CREATED:20170127T184510Z
LAST-MODIFIED:20170127T184510Z
UID:927-1493236800-1493240400@www.pawtuxetrangers.com
SUMMARY:Business Meeting
DESCRIPTION:
URL:https://www.pawtuxetrangers.com/event/business-meeting-47/
LOCATION:Armory Hall\, 59 Remington Street\, Warwick\, RI\, 02888\, United States
END:VEVENT
BEGIN:VEVENT
DTSTART;TZID=America/New_York:20170422T080000
DTEND;TZID=America/New_York:20170422T120000
DTSTAMP:20260424T124725
CREATED:20170127T202031Z
LAST-MODIFIED:20170412T141921Z
UID:1020-1492848000-1492862400@www.pawtuxetrangers.com
SUMMARY:Earth Day Cemetery Cleanup
DESCRIPTION:Voluntary.
URL:https://www.pawtuxetrangers.com/event/earth-day-cemetery-cleanup/
LOCATION:Greene Cemetery\, 146 Post Road\, Warwick\, RI\, United States
END:VEVENT
BEGIN:VEVENT
DTSTART;TZID=America/New_York:20170419T200000
DTEND;TZID=America/New_York:20170419T210000
DTSTAMP:20260424T124725
CREATED:20170127T184309Z
LAST-MODIFIED:20170127T184309Z
UID:923-1492632000-1492635600@www.pawtuxetrangers.com
SUMMARY:Business Meeting
DESCRIPTION:
URL:https://www.pawtuxetrangers.com/event/business-meeting-46/
LOCATION:Armory Hall\, 59 Remington Street\, Warwick\, RI\, 02888\, United States
END:VEVENT
BEGIN:VEVENT
DTSTART;TZID=America/New_York:20170419T180000
DTEND;TZID=America/New_York:20170419T200000
DTSTAMP:20260424T124725
CREATED:20170127T201623Z
LAST-MODIFIED:20170127T201623Z
UID:1018-1492624800-1492632000@www.pawtuxetrangers.com
SUMMARY:Officer's Appreciation Dinner
DESCRIPTION:
URL:https://www.pawtuxetrangers.com/event/officers-appreciation-dinner/
LOCATION:Trinity Church\, 139 Ocean Avenue\, Cranston\, RI\, 02905\, United States
END:VEVENT
BEGIN:VEVENT
DTSTART;TZID=America/New_York:20170412T200000
DTEND;TZID=America/New_York:20170412T210000
DTSTAMP:20260424T124725
CREATED:20170127T201522Z
LAST-MODIFIED:20170127T201522Z
UID:1016-1492027200-1492030800@www.pawtuxetrangers.com
SUMMARY:Annual Meeting of the Company
DESCRIPTION:
URL:https://www.pawtuxetrangers.com/event/annual-meeting-of-the-company-2/
LOCATION:Armory Hall\, 59 Remington Street\, Warwick\, RI\, 02888\, United States
END:VEVENT
BEGIN:VEVENT
DTSTART;TZID=America/New_York:20170412T200000
DTEND;TZID=America/New_York:20170412T210000
DTSTAMP:20260424T124725
CREATED:20170127T184138Z
LAST-MODIFIED:20170127T184138Z
UID:921-1492027200-1492030800@www.pawtuxetrangers.com
SUMMARY:Business Meeting
DESCRIPTION:
URL:https://www.pawtuxetrangers.com/event/business-meeting-45/
LOCATION:Armory Hall\, 59 Remington Street\, Warwick\, RI\, 02888\, United States
END:VEVENT
BEGIN:VEVENT
DTSTART;TZID=America/New_York:20170405T200000
DTEND;TZID=America/New_York:20170405T210000
DTSTAMP:20260424T124725
CREATED:20170127T184049Z
LAST-MODIFIED:20170127T184049Z
UID:919-1491422400-1491426000@www.pawtuxetrangers.com
SUMMARY:Business Meeting
DESCRIPTION:
URL:https://www.pawtuxetrangers.com/event/business-meeting-44/
LOCATION:Armory Hall\, 59 Remington Street\, Warwick\, RI\, 02888\, United States
END:VEVENT
BEGIN:VEVENT
DTSTART;TZID=America/New_York:20170401T090000
DTEND;TZID=America/New_York:20170401T120000
DTSTAMP:20260424T124725
CREATED:20170317T002421Z
LAST-MODIFIED:20170317T002421Z
UID:1129-1491037200-1491048000@www.pawtuxetrangers.com
SUMMARY:2nd Corps of Cadet Salem First Muster
DESCRIPTION:1st Reading – 3/1\n2nd Reading – 3/15\nVoluntary Event
URL:https://www.pawtuxetrangers.com/event/2nd-corps-of-cadet-salem-first-muster/
LOCATION:Salem Common\, N. Washington Square\, Salem\, MA\, MA\, United States
END:VEVENT
BEGIN:VEVENT
DTSTART;TZID=America/New_York:20170329T200000
DTEND;TZID=America/New_York:20170329T210000
DTSTAMP:20260424T124725
CREATED:20170103T190818Z
LAST-MODIFIED:20170103T190818Z
UID:912-1490817600-1490821200@www.pawtuxetrangers.com
SUMMARY:Business Meeting
DESCRIPTION:
URL:https://www.pawtuxetrangers.com/event/business-meeting-43/
LOCATION:Armory Hall\, 59 Remington Street\, Warwick\, RI\, 02888\, United States
END:VEVENT
BEGIN:VEVENT
DTSTART;TZID=America/New_York:20170329T190000
DTEND;TZID=America/New_York:20170329T200000
DTSTAMP:20260424T124725
CREATED:20170103T190717Z
LAST-MODIFIED:20170103T190717Z
UID:910-1490814000-1490817600@www.pawtuxetrangers.com
SUMMARY:End of Month Dinner
DESCRIPTION:
URL:https://www.pawtuxetrangers.com/event/end-of-month-dinner-2/
LOCATION:Armory Hall\, 59 Remington Street\, Warwick\, RI\, 02888\, United States
END:VEVENT
BEGIN:VEVENT
DTSTART;TZID=America/New_York:20170322T200000
DTEND;TZID=America/New_York:20170322T210000
DTSTAMP:20260424T124725
CREATED:20170103T190627Z
LAST-MODIFIED:20170103T190627Z
UID:908-1490212800-1490216400@www.pawtuxetrangers.com
SUMMARY:Business Meeting
DESCRIPTION:
URL:https://www.pawtuxetrangers.com/event/business-meeting-42/
LOCATION:Armory Hall\, 59 Remington Street\, Warwick\, RI\, 02888\, United States
END:VEVENT
BEGIN:VEVENT
DTSTART;TZID=America/New_York:20170318T120000
DTEND;TZID=America/New_York:20170318T140000
DTSTAMP:20260424T124725
CREATED:20170127T201314Z
LAST-MODIFIED:20170317T002655Z
UID:1014-1489838400-1489845600@www.pawtuxetrangers.com
SUMMARY:Providence St. Patrick's Day Parade
DESCRIPTION:1st Reading – 3/8\n2nd Reading – 3/15\nApproved
URL:https://www.pawtuxetrangers.com/event/providence-st-patricks-day-parade-2/
LOCATION:St. Pius Church\, 55 Elmhurst Ave\, Providence\, RI\, United States
END:VEVENT
BEGIN:VEVENT
DTSTART;TZID=America/New_York:20170316T080000
DTEND;TZID=America/New_York:20170316T170000
DTSTAMP:20260424T124725
CREATED:20170317T005837Z
LAST-MODIFIED:20170317T005927Z
UID:1144-1489651200-1489683600@www.pawtuxetrangers.com
SUMMARY:Exeter Memorial Day Parade
DESCRIPTION:1st Reading – 3/1\n2nd Reading – 3/15\nTabled
URL:https://www.pawtuxetrangers.com/event/exeter-memorial-day-parade/
LOCATION:Barrington High School\, 220 Lincoln Avenue\, Barrington\, RI\, United States
END:VEVENT
BEGIN:VEVENT
DTSTART;TZID=America/New_York:20170315T200000
DTEND;TZID=America/New_York:20170315T210000
DTSTAMP:20260424T124725
CREATED:20170103T190518Z
LAST-MODIFIED:20170103T190518Z
UID:906-1489608000-1489611600@www.pawtuxetrangers.com
SUMMARY:Business Meeting
DESCRIPTION:
URL:https://www.pawtuxetrangers.com/event/business-meeting-41/
LOCATION:Armory Hall\, 59 Remington Street\, Warwick\, RI\, 02888\, United States
END:VEVENT
BEGIN:VEVENT
DTSTART;TZID=America/New_York:20170312T130000
DTEND;TZID=America/New_York:20170312T150000
DTSTAMP:20260424T124725
CREATED:20170127T200951Z
LAST-MODIFIED:20170127T200951Z
UID:1012-1489323600-1489330800@www.pawtuxetrangers.com
SUMMARY:West Warwick St. Patrick's Day Parade
DESCRIPTION:1st Reading
URL:https://www.pawtuxetrangers.com/event/west-warwick-st-patricks-day-parade-2/
LOCATION:Ianotti’s Funeral Home\, 415 Washington St\, Coventry\, RI\, United States
END:VEVENT
BEGIN:VEVENT
DTSTART;TZID=America/New_York:20170308T200000
DTEND;TZID=America/New_York:20170308T210000
DTSTAMP:20260424T124725
CREATED:20170103T190427Z
LAST-MODIFIED:20170103T190427Z
UID:904-1489003200-1489006800@www.pawtuxetrangers.com
SUMMARY:Business Meeting
DESCRIPTION:
URL:https://www.pawtuxetrangers.com/event/business-meeting-2/
LOCATION:Armory Hall\, 59 Remington Street\, Warwick\, RI\, 02888\, United States
END:VEVENT
BEGIN:VEVENT
DTSTART;TZID=America/New_York:20170304T110000
DTEND;TZID=America/New_York:20170304T113000
DTSTAMP:20260424T124725
CREATED:20170110T134622Z
LAST-MODIFIED:20170110T134622Z
UID:915-1488625200-1488627000@www.pawtuxetrangers.com
SUMMARY:Ambrose Taylor Grave ceremony
DESCRIPTION:
URL:https://www.pawtuxetrangers.com/event/ambrose-taylor-grave-ceremony/
LOCATION:Ambrose Taylor Lot\, Warwick\, RI\, United States
END:VEVENT
BEGIN:VEVENT
DTSTART;TZID=America/New_York:20170301T200000
DTEND;TZID=America/New_York:20170301T210000
DTSTAMP:20260424T124725
CREATED:20170103T190340Z
LAST-MODIFIED:20170103T190340Z
UID:902-1488398400-1488402000@www.pawtuxetrangers.com
SUMMARY:Business Meeting
DESCRIPTION:
URL:https://www.pawtuxetrangers.com/event/business-meeting/
LOCATION:Armory Hall\, 59 Remington Street\, Warwick\, RI\, 02888\, United States
END:VEVENT
BEGIN:VEVENT
DTSTART;TZID=America/New_York:20170301T190000
DTEND;TZID=America/New_York:20170301T200000
DTSTAMP:20260424T124725
CREATED:20170103T190300Z
LAST-MODIFIED:20170205T122750Z
UID:900-1488394800-1488398400@www.pawtuxetrangers.com
SUMMARY:Beginning of the year dinner - Steak Fry
DESCRIPTION:
URL:https://www.pawtuxetrangers.com/event/beginning-of-the-year-dinner-steak-fry/
LOCATION:Armory Hall\, 59 Remington Street\, Warwick\, RI\, 02888\, United States
END:VEVENT
BEGIN:VEVENT
DTSTART;TZID=America/New_York:20170107T180000
DTEND;TZID=America/New_York:20170107T220000
DTSTAMP:20260424T124725
CREATED:20170103T144856Z
LAST-MODIFIED:20170103T144856Z
UID:895-1483812000-1483826400@www.pawtuxetrangers.com
SUMMARY:1/2 Way to Gaspee event
DESCRIPTION:Fundraiser by the Shriners who will split the proceeds with the Rangers.
URL:https://www.pawtuxetrangers.com/event/12-way-to-gaspee-event/
LOCATION:Imperial Room – Shriners\, 1 Rhodes Place\, Cranston\, RI\, United States
END:VEVENT
BEGIN:VEVENT
DTSTART;TZID=America/New_York:20170103T190000
DTEND;TZID=America/New_York:20170103T193000
DTSTAMP:20260424T124725
CREATED:20170103T144645Z
LAST-MODIFIED:20170103T144645Z
UID:892-1483470000-1483471800@www.pawtuxetrangers.com
SUMMARY:Mayor's Inauguration
DESCRIPTION:Reporting time 1815 at the airport people mover. Complimentary parking will be available at the East Garage off Fresno St off of Post Road.
URL:https://www.pawtuxetrangers.com/event/mayors-inauguration/
LOCATION:RI Airport\, 2000 Post Road \, Warwick\, RI\, United States
END:VEVENT
BEGIN:VEVENT
DTSTART;TZID=America/New_York:20161211T160000
DTEND;TZID=America/New_York:20161211T180000
DTSTAMP:20260424T124725
CREATED:20160203T222924Z
LAST-MODIFIED:20161205T212453Z
UID:527-1481472000-1481479200@www.pawtuxetrangers.com
SUMMARY:Christmas In The Village
DESCRIPTION:
URL:https://www.pawtuxetrangers.com/event/christmas-in-the-village-tentative/
LOCATION:Trinity Church\, 139 Ocean Avenue\, Cranston\, RI\, 02905\, United States
END:VEVENT
END:VCALENDAR