BEGIN:VCALENDAR
VERSION:2.0
PRODID:-//PAWTUXET RANGERS, RIHM  - 1774 - ECPv6.15.20//NONSGML v1.0//EN
CALSCALE:GREGORIAN
METHOD:PUBLISH
X-WR-CALNAME:PAWTUXET RANGERS, RIHM  - 1774
X-ORIGINAL-URL:https://www.pawtuxetrangers.com
X-WR-CALDESC:Events for PAWTUXET RANGERS, RIHM  - 1774
REFRESH-INTERVAL;VALUE=DURATION:PT1H
X-Robots-Tag:noindex
X-PUBLISHED-TTL:PT1H
BEGIN:VTIMEZONE
TZID:America/New_York
BEGIN:DAYLIGHT
TZOFFSETFROM:-0500
TZOFFSETTO:-0400
TZNAME:EDT
DTSTART:20160313T070000
END:DAYLIGHT
BEGIN:STANDARD
TZOFFSETFROM:-0400
TZOFFSETTO:-0500
TZNAME:EST
DTSTART:20161106T060000
END:STANDARD
BEGIN:DAYLIGHT
TZOFFSETFROM:-0500
TZOFFSETTO:-0400
TZNAME:EDT
DTSTART:20170312T070000
END:DAYLIGHT
BEGIN:STANDARD
TZOFFSETFROM:-0400
TZOFFSETTO:-0500
TZNAME:EST
DTSTART:20171105T060000
END:STANDARD
BEGIN:DAYLIGHT
TZOFFSETFROM:-0500
TZOFFSETTO:-0400
TZNAME:EDT
DTSTART:20180311T070000
END:DAYLIGHT
BEGIN:STANDARD
TZOFFSETFROM:-0400
TZOFFSETTO:-0500
TZNAME:EST
DTSTART:20181104T060000
END:STANDARD
END:VTIMEZONE
BEGIN:VEVENT
DTSTART;TZID=America/New_York:20170709T110000
DTEND;TZID=America/New_York:20170709T150000
DTSTAMP:20260424T084325
CREATED:20170616T014213Z
LAST-MODIFIED:20170616T014213Z
UID:1241-1499598000-1499612400@www.pawtuxetrangers.com
SUMMARY:Harmony Lodge Annual Picnic
DESCRIPTION:Voluntary
URL:https://www.pawtuxetrangers.com/event/harmony-lodge-annual-picnic/
LOCATION:Shriners Family Park\, 116 Long Street\, Warwick\, RI\, United States
END:VEVENT
BEGIN:VEVENT
DTSTART;TZID=America/New_York:20170705T200000
DTEND;TZID=America/New_York:20170705T210000
DTSTAMP:20260424T084325
CREATED:20170127T185912Z
LAST-MODIFIED:20170127T185912Z
UID:951-1499284800-1499288400@www.pawtuxetrangers.com
SUMMARY:Business Meeting
DESCRIPTION:
URL:https://www.pawtuxetrangers.com/event/business-meeting-57/
LOCATION:Armory Hall\, 59 Remington Street\, Warwick\, RI\, 02888\, United States
END:VEVENT
BEGIN:VEVENT
DTSTART;TZID=America/New_York:20170704T100000
DTEND;TZID=America/New_York:20170704T130000
DTSTAMP:20260424T084325
CREATED:20170127T205626Z
LAST-MODIFIED:20170317T010926Z
UID:1062-1499162400-1499173200@www.pawtuxetrangers.com
SUMMARY:Bristol 4th of July Parade
DESCRIPTION:1st Reading -3/1\n2nd – 3/15\nApproved
URL:https://www.pawtuxetrangers.com/event/bristol-4th-of-july-parade-tentative/
LOCATION:Mount Hope High school\, 199 Chestnut Street\, Bristol\, RI\, United States
END:VEVENT
BEGIN:VEVENT
DTSTART;TZID=America/New_York:20170628T200000
DTEND;TZID=America/New_York:20170628T210000
DTSTAMP:20260424T084325
CREATED:20170127T185831Z
LAST-MODIFIED:20170127T185831Z
UID:949-1498680000-1498683600@www.pawtuxetrangers.com
SUMMARY:Business Meeting
DESCRIPTION:
URL:https://www.pawtuxetrangers.com/event/business-meeting-56/
LOCATION:Armory Hall\, 59 Remington Street\, Warwick\, RI\, 02888\, United States
END:VEVENT
BEGIN:VEVENT
DTSTART;TZID=America/New_York:20170628T190000
DTEND;TZID=America/New_York:20170628T200000
DTSTAMP:20260424T084325
CREATED:20170127T185751Z
LAST-MODIFIED:20170616T013842Z
UID:947-1498676400-1498680000@www.pawtuxetrangers.com
SUMMARY:End of Month Dinner - Canceled
DESCRIPTION:
URL:https://www.pawtuxetrangers.com/event/end-of-month-dinner-5/
LOCATION:Armory Hall\, 59 Remington Street\, Warwick\, RI\, 02888\, United States
END:VEVENT
BEGIN:VEVENT
DTSTART;TZID=America/New_York:20170623T180000
DTEND;TZID=America/New_York:20170623T183000
DTSTAMP:20260424T084325
CREATED:20170426T132419Z
LAST-MODIFIED:20170426T133148Z
UID:1190-1498240800-1498242600@www.pawtuxetrangers.com
SUMMARY:RI Military Order of Foreign Wars Change of Command
DESCRIPTION:1st Reading 4/26/17.
URL:https://www.pawtuxetrangers.com/event/ri-military-order-of-foreign-wars-change-of-command/
LOCATION:Quonset O Club\, 200 Lt. James Brown Road\, North Kingstown\, RI\, United States
END:VEVENT
BEGIN:VEVENT
DTSTART;TZID=America/New_York:20170622T130000
DTEND;TZID=America/New_York:20170622T133000
DTSTAMP:20260424T084325
CREATED:20170414T155006Z
LAST-MODIFIED:20170414T155006Z
UID:1179-1498136400-1498138200@www.pawtuxetrangers.com
SUMMARY:Wyman School Graduation
DESCRIPTION:
URL:https://www.pawtuxetrangers.com/event/wyman-school-graduation-2/
LOCATION:Wyman School\, 1 Columbia Avenue\, Warwick\, RI\, United States
END:VEVENT
BEGIN:VEVENT
DTSTART;TZID=America/New_York:20170621T200000
DTEND;TZID=America/New_York:20170621T210000
DTSTAMP:20260424T084325
CREATED:20170127T185705Z
LAST-MODIFIED:20170127T185705Z
UID:945-1498075200-1498078800@www.pawtuxetrangers.com
SUMMARY:Business Meeting
DESCRIPTION:
URL:https://www.pawtuxetrangers.com/event/business-meeting-55/
LOCATION:Armory Hall\, 59 Remington Street\, Warwick\, RI\, 02888\, United States
END:VEVENT
BEGIN:VEVENT
DTSTART;TZID=America/New_York:20170617T180000
DTEND;TZID=America/New_York:20170617T183000
DTSTAMP:20260424T084325
CREATED:20170609T114307Z
LAST-MODIFIED:20170609T114307Z
UID:1228-1497722400-1497724200@www.pawtuxetrangers.com
SUMMARY:Colonial Wars Cannon Firing
DESCRIPTION:1st Reading – 6/7/17.
URL:https://www.pawtuxetrangers.com/event/colonial-wars-cannon-firing/
LOCATION:Bellevue House\, 304 Bellevue Avenue\, Newport\, RI\, United States
END:VEVENT
BEGIN:VEVENT
DTSTART;TZID=America/New_York:20170614T200000
DTEND;TZID=America/New_York:20170614T210000
DTSTAMP:20260424T084325
CREATED:20170127T185425Z
LAST-MODIFIED:20170127T185425Z
UID:943-1497470400-1497474000@www.pawtuxetrangers.com
SUMMARY:Business Meeting
DESCRIPTION:
URL:https://www.pawtuxetrangers.com/event/business-meeting-54/
LOCATION:Armory Hall\, 59 Remington Street\, Warwick\, RI\, 02888\, United States
END:VEVENT
BEGIN:VEVENT
DTSTART;TZID=America/New_York:20170611T140000
DTEND;TZID=America/New_York:20170611T170000
DTSTAMP:20260424T084325
CREATED:20170127T205431Z
LAST-MODIFIED:20170317T005302Z
UID:1060-1497189600-1497200400@www.pawtuxetrangers.com
SUMMARY:Gaspee Days Sunday in the Park
DESCRIPTION:1st Reading – 3/1\n2nd Reading – 3/15\nApproved
URL:https://www.pawtuxetrangers.com/event/gaspee-days-sunday-in-the-park-2/
LOCATION:Pawtuxet Park\, E. View Street\, Warwick\, RI\, 02888\, United States
END:VEVENT
BEGIN:VEVENT
DTSTART;TZID=America/New_York:20170610T100000
DTEND;TZID=America/New_York:20170610T120000
DTSTAMP:20260424T084325
CREATED:20170127T205349Z
LAST-MODIFIED:20170317T005200Z
UID:1058-1497088800-1497096000@www.pawtuxetrangers.com
SUMMARY:Gaspee Days Parade
DESCRIPTION:1st Reading – 3/1\n2nd Reading – 3/15\nApproved
URL:https://www.pawtuxetrangers.com/event/gaspee-days-parade-2/
LOCATION:Pawtuxet Park\, E. View Street\, Warwick\, RI\, 02888\, United States
END:VEVENT
BEGIN:VEVENT
DTSTART;TZID=America/New_York:20170610T080000
DTEND;TZID=America/New_York:20170610T090000
DTSTAMP:20260424T084325
CREATED:20170127T204942Z
LAST-MODIFIED:20170317T005110Z
UID:1054-1497081600-1497085200@www.pawtuxetrangers.com
SUMMARY:Gaspee Days Ecumenical Service - Voluntary
DESCRIPTION:1st Reading – 3/1\n2nd Reading – 3/15\nVoluntary
URL:https://www.pawtuxetrangers.com/event/gaspee-days-ecumenical-service-voluntary-2/
LOCATION:TBD
END:VEVENT
BEGIN:VEVENT
DTSTART;VALUE=DATE:20170609
DTEND;VALUE=DATE:20170612
DTSTAMP:20260424T084325
CREATED:20170127T204714Z
LAST-MODIFIED:20170317T003526Z
UID:1051-1496966400-1497225599@www.pawtuxetrangers.com
SUMMARY:Gaspee Days Encampment
DESCRIPTION:1st Reading – 3/1\n2nd Reading – 3/15\nApproved
URL:https://www.pawtuxetrangers.com/event/gaspee-day-encampment/
LOCATION:Pawtuxet Park\, E. View Street\, Warwick\, RI\, 02888\, United States
END:VEVENT
BEGIN:VEVENT
DTSTART;TZID=America/New_York:20170608T173000
DTEND;TZID=America/New_York:20170608T193000
DTSTAMP:20260424T084325
CREATED:20170426T132147Z
LAST-MODIFIED:20170508T213436Z
UID:1185-1496943000-1496950200@www.pawtuxetrangers.com
SUMMARY:125th Anniversary of Bethany House
DESCRIPTION:1st Reading – 4/26.\n2nd Reading – 5/3. Voluntary
URL:https://www.pawtuxetrangers.com/event/125th-anniversary-of-bethany-house/
LOCATION:Bethany House\, 111 South Angell Street\, Providence\, RI\, United States
END:VEVENT
BEGIN:VEVENT
DTSTART;TZID=America/New_York:20170607T200000
DTEND;TZID=America/New_York:20170607T210000
DTSTAMP:20260424T084325
CREATED:20170127T185341Z
LAST-MODIFIED:20170127T185341Z
UID:941-1496865600-1496869200@www.pawtuxetrangers.com
SUMMARY:Business Meeting
DESCRIPTION:
URL:https://www.pawtuxetrangers.com/event/business-meeting-53/
LOCATION:Armory Hall\, 59 Remington Street\, Warwick\, RI\, 02888\, United States
END:VEVENT
BEGIN:VEVENT
DTSTART;TZID=America/New_York:20170605T120000
DTEND;TZID=America/New_York:20170605T220000
DTSTAMP:20260424T084325
CREATED:20170127T204618Z
LAST-MODIFIED:20170508T213335Z
UID:1049-1496664000-1496700000@www.pawtuxetrangers.com
SUMMARY:Ancient and Honorables June Day Parade - Boston
DESCRIPTION:1st Reading – 3/1\n2nd Reading – 5/3 Voluntary
URL:https://www.pawtuxetrangers.com/event/ancient-and-honorables-june-day-parade-boston-tentative/
LOCATION:Fanueil Hall\, 1 Fanueil Hall Square\, Boston\, MA\, United States
END:VEVENT
BEGIN:VEVENT
DTSTART;TZID=America/New_York:20170603T180000
DTEND;TZID=America/New_York:20170603T190000
DTSTAMP:20260424T084325
CREATED:20170317T010605Z
LAST-MODIFIED:20170317T010715Z
UID:1150-1496512800-1496516400@www.pawtuxetrangers.com
SUMMARY:Fife & Drum Concert
DESCRIPTION:1st Reading – 3/1\n2nd Reading – 3/15\nApproved
URL:https://www.pawtuxetrangers.com/event/fife-drum-concert/
LOCATION:Pawtuxet Park\, E. View Street\, Warwick\, RI\, 02888\, United States
END:VEVENT
BEGIN:VEVENT
DTSTART;TZID=America/New_York:20170603T100000
DTEND;TZID=America/New_York:20170603T103000
DTSTAMP:20260424T084325
CREATED:20170127T204415Z
LAST-MODIFIED:20170508T212703Z
UID:1047-1496484000-1496485800@www.pawtuxetrangers.com
SUMMARY:RI Yacht Club Opening Day
DESCRIPTION:1st Reading – 5/10
URL:https://www.pawtuxetrangers.com/event/ri-yacht-club-opening-day-tentative/
LOCATION:RIYC\, 1 Ocean Avenue\, Cranston\, RI\, 02905\, United States
END:VEVENT
BEGIN:VEVENT
DTSTART;TZID=America/New_York:20170603T050000
DTEND;TZID=America/New_York:20170603T053000
DTSTAMP:20260424T084325
CREATED:20170226T132337Z
LAST-MODIFIED:20170226T132501Z
UID:1123-1496466000-1496467800@www.pawtuxetrangers.com
SUMMARY:Honor Flight
DESCRIPTION:1st Reading
URL:https://www.pawtuxetrangers.com/event/honor-flight-2/
LOCATION:TF Green Airport\, 2000 Post Road \, Warwick\, RI\, United States
END:VEVENT
BEGIN:VEVENT
DTSTART;TZID=America/New_York:20170531T200000
DTEND;TZID=America/New_York:20170531T210000
DTSTAMP:20260424T084325
CREATED:20170127T185013Z
LAST-MODIFIED:20170127T185013Z
UID:939-1496260800-1496264400@www.pawtuxetrangers.com
SUMMARY:Business Meeting
DESCRIPTION:
URL:https://www.pawtuxetrangers.com/event/business-meeting-52/
LOCATION:Armory Hall\, 59 Remington Street\, Warwick\, RI\, 02888\, United States
END:VEVENT
BEGIN:VEVENT
DTSTART;TZID=America/New_York:20170531T190000
DTEND;TZID=America/New_York:20170531T200000
DTSTAMP:20260424T084325
CREATED:20170127T184854Z
LAST-MODIFIED:20170127T204250Z
UID:937-1496257200-1496260800@www.pawtuxetrangers.com
SUMMARY:End of Month Dinner - Meet and Greet
DESCRIPTION:
URL:https://www.pawtuxetrangers.com/event/end-of-month-dinner-4/
LOCATION:Armory Hall\, 59 Remington Street\, Warwick\, RI\, 02888\, United States
END:VEVENT
BEGIN:VEVENT
DTSTART;TZID=America/New_York:20170529T140000
DTEND;TZID=America/New_York:20170529T150000
DTSTAMP:20260424T084325
CREATED:20170524T130637Z
LAST-MODIFIED:20170525T210921Z
UID:1202-1496066400-1496070000@www.pawtuxetrangers.com
SUMMARY:McBride's Pub  Veteran's Walk
DESCRIPTION:1st Reading – 5/24/17\n2nd Reading – 5/24/17 Approved – Voluntary
URL:https://www.pawtuxetrangers.com/event/mcbrides-pub-veterans-walk/
LOCATION:McBride’s Pub\, 161 Wayland Avenue\, Providence\, RI\, United States
END:VEVENT
BEGIN:VEVENT
DTSTART;TZID=America/New_York:20170529T123000
DTEND;TZID=America/New_York:20170529T133000
DTSTAMP:20260424T084325
CREATED:20170127T203631Z
LAST-MODIFIED:20170317T003413Z
UID:1038-1496061000-1496064600@www.pawtuxetrangers.com
SUMMARY:Gaspee Arts & Crafts Walkthrough
DESCRIPTION:1st Reading – 3/1\n2nd Reading – 3/15\nApproved
URL:https://www.pawtuxetrangers.com/event/gaspee-arts-crafts-walkthrough/
LOCATION:Pawtuxet Park\, E. View Street\, Warwick\, RI\, 02888\, United States
END:VEVENT
BEGIN:VEVENT
DTSTART;TZID=America/New_York:20170529T113000
DTEND;TZID=America/New_York:20170529T120000
DTSTAMP:20260424T084325
CREATED:20170127T203543Z
LAST-MODIFIED:20170426T131851Z
UID:1036-1496057400-1496059200@www.pawtuxetrangers.com
SUMMARY:Greene Cemetery Memorial Ceremony
DESCRIPTION:Memorial Ceremony and Flag Pole Dedication
URL:https://www.pawtuxetrangers.com/event/greene-cemetery-memorial-ceremony/
LOCATION:Greene Cemetery\, 146 Post Road\, Warwick\, RI\, United States
END:VEVENT
BEGIN:VEVENT
DTSTART;TZID=America/New_York:20170529T090000
DTEND;TZID=America/New_York:20170529T230000
DTSTAMP:20260424T084325
CREATED:20170127T203457Z
LAST-MODIFIED:20170524T130534Z
UID:1034-1496048400-1496098800@www.pawtuxetrangers.com
SUMMARY:Barrington Memorial Day Parade
DESCRIPTION:1st Reading – 3/15\n2nd Reading – 3/22\nApproved.
URL:https://www.pawtuxetrangers.com/event/barrington-memorial-day-parade-tentative-2/
LOCATION:Barrington High School\, 220 Lincoln Avenue\, Barrington\, RI\, United States
END:VEVENT
BEGIN:VEVENT
DTSTART;TZID=America/New_York:20170528T140000
DTEND;TZID=America/New_York:20170528T153000
DTSTAMP:20260424T084325
CREATED:20170331T125529Z
LAST-MODIFIED:20170331T125529Z
UID:1161-1495980000-1495985400@www.pawtuxetrangers.com
SUMMARY:Exeter Memorial Day Parade
DESCRIPTION:1st – 3/1/17\n2nd – 3/15/7\nTabled\n3/29/17 – Approved
URL:https://www.pawtuxetrangers.com/event/exeter-memorial-day-parade-2/
LOCATION:Exeter\, Sunderland Rd and Route 102\, Exeter\, RI\, United States
END:VEVENT
BEGIN:VEVENT
DTSTART;VALUE=DATE:20170527
DTEND;VALUE=DATE:20170530
DTSTAMP:20260424T084325
CREATED:20170127T205216Z
LAST-MODIFIED:20170127T205216Z
UID:1056-1495843200-1496102399@www.pawtuxetrangers.com
SUMMARY:Recruiting Booth - Gaspee Arts & Craft Festival
DESCRIPTION:
URL:https://www.pawtuxetrangers.com/event/recruiting-booth-gaspee-arts-craft-festival/
LOCATION:Pawtuxet Park\, E. View Street\, Warwick\, RI\, 02888\, United States
END:VEVENT
BEGIN:VEVENT
DTSTART;TZID=America/New_York:20170524T200000
DTEND;TZID=America/New_York:20170524T210000
DTSTAMP:20260424T084325
CREATED:20170127T184807Z
LAST-MODIFIED:20170127T184807Z
UID:935-1495656000-1495659600@www.pawtuxetrangers.com
SUMMARY:Business Meeting
DESCRIPTION:
URL:https://www.pawtuxetrangers.com/event/business-meeting-51/
LOCATION:Armory Hall\, 59 Remington Street\, Warwick\, RI\, 02888\, United States
END:VEVENT
BEGIN:VEVENT
DTSTART;TZID=America/New_York:20170521T080000
DTEND;TZID=America/New_York:20170521T110000
DTSTAMP:20260424T084325
CREATED:20170127T202831Z
LAST-MODIFIED:20170508T213009Z
UID:1028-1495353600-1495364400@www.pawtuxetrangers.com
SUMMARY:HMEA Walk/Run
DESCRIPTION:1st Reading 4/12.\n2nd Reading 5/3. Voluntary
URL:https://www.pawtuxetrangers.com/event/hmea-walkrun-tentative/
LOCATION:EMC\, 101 Constitution Blvd\, Franklin\, MA\, 02038\, United States
END:VEVENT
END:VCALENDAR