BEGIN:VCALENDAR
VERSION:2.0
PRODID:-//PAWTUXET RANGERS, RIHM  - 1774 - ECPv6.15.20//NONSGML v1.0//EN
CALSCALE:GREGORIAN
METHOD:PUBLISH
X-WR-CALNAME:PAWTUXET RANGERS, RIHM  - 1774
X-ORIGINAL-URL:https://www.pawtuxetrangers.com
X-WR-CALDESC:Events for PAWTUXET RANGERS, RIHM  - 1774
REFRESH-INTERVAL;VALUE=DURATION:PT1H
X-Robots-Tag:noindex
X-PUBLISHED-TTL:PT1H
BEGIN:VTIMEZONE
TZID:America/New_York
BEGIN:DAYLIGHT
TZOFFSETFROM:-0500
TZOFFSETTO:-0400
TZNAME:EDT
DTSTART:20160313T070000
END:DAYLIGHT
BEGIN:STANDARD
TZOFFSETFROM:-0400
TZOFFSETTO:-0500
TZNAME:EST
DTSTART:20161106T060000
END:STANDARD
BEGIN:DAYLIGHT
TZOFFSETFROM:-0500
TZOFFSETTO:-0400
TZNAME:EDT
DTSTART:20170312T070000
END:DAYLIGHT
BEGIN:STANDARD
TZOFFSETFROM:-0400
TZOFFSETTO:-0500
TZNAME:EST
DTSTART:20171105T060000
END:STANDARD
BEGIN:DAYLIGHT
TZOFFSETFROM:-0500
TZOFFSETTO:-0400
TZNAME:EDT
DTSTART:20180311T070000
END:DAYLIGHT
BEGIN:STANDARD
TZOFFSETFROM:-0400
TZOFFSETTO:-0500
TZNAME:EST
DTSTART:20181104T060000
END:STANDARD
END:VTIMEZONE
BEGIN:VEVENT
DTSTART;TZID=America/New_York:20171115T200000
DTEND;TZID=America/New_York:20171115T210000
DTSTAMP:20260423T183051
CREATED:20170127T192419Z
LAST-MODIFIED:20170127T192419Z
UID:997-1510776000-1510779600@www.pawtuxetrangers.com
SUMMARY:Business Meeting
DESCRIPTION:
URL:https://www.pawtuxetrangers.com/event/business-meeting-76/
LOCATION:Armory Hall\, 59 Remington Street\, Warwick\, RI\, 02888\, United States
END:VEVENT
BEGIN:VEVENT
DTSTART;TZID=America/New_York:20171112T180000
DTEND;TZID=America/New_York:20171112T193000
DTSTAMP:20260423T183051
CREATED:20170817T014028Z
LAST-MODIFIED:20170817T014032Z
UID:1277-1510509600-1510515000@www.pawtuxetrangers.com
SUMMARY:RI Heritage Hall of Fame Gala
DESCRIPTION:1st Reading – 8/16/17
URL:https://www.pawtuxetrangers.com/event/ri-heritage-hall-of-fame-gala/
LOCATION:Ochre Court\, Ochre Court\, Newport\, RI\, United States
END:VEVENT
BEGIN:VEVENT
DTSTART;TZID=America/New_York:20171110T143000
DTEND;TZID=America/New_York:20171110T150000
DTSTAMP:20260423T183051
CREATED:20170921T130239Z
LAST-MODIFIED:20170921T130239Z
UID:1301-1510324200-1510326000@www.pawtuxetrangers.com
SUMMARY:Scandinavian Home Veterans Ceremony
DESCRIPTION:1st Reading – 9/20
URL:https://www.pawtuxetrangers.com/event/scandinavian-home-veterans-ceremony-2/
LOCATION:Scandinavian Home\, 1811 Broad Street\, Cranston\, RI\, United States
END:VEVENT
BEGIN:VEVENT
DTSTART;TZID=America/New_York:20171108T200000
DTEND;TZID=America/New_York:20171108T210000
DTSTAMP:20260423T183051
CREATED:20170127T192339Z
LAST-MODIFIED:20170127T192339Z
UID:995-1510171200-1510174800@www.pawtuxetrangers.com
SUMMARY:Business Meeting
DESCRIPTION:
URL:https://www.pawtuxetrangers.com/event/business-meeting-75/
LOCATION:Armory Hall\, 59 Remington Street\, Warwick\, RI\, 02888\, United States
END:VEVENT
BEGIN:VEVENT
DTSTART;VALUE=DATE:20171102
DTEND;VALUE=DATE:20171106
DTSTAMP:20260423T183051
CREATED:20170127T212225Z
LAST-MODIFIED:20170127T212225Z
UID:1081-1509580800-1509926399@www.pawtuxetrangers.com
SUMMARY:Centennial Legion of Historic Military Commands Annual Meeting
DESCRIPTION:
URL:https://www.pawtuxetrangers.com/event/centennial-legion-of-historic-military-commands-annual-meeting/
LOCATION:RI
END:VEVENT
BEGIN:VEVENT
DTSTART;TZID=America/New_York:20171101T200000
DTEND;TZID=America/New_York:20171101T210000
DTSTAMP:20260423T183051
CREATED:20170127T192302Z
LAST-MODIFIED:20170127T192302Z
UID:993-1509566400-1509570000@www.pawtuxetrangers.com
SUMMARY:Business Meeting
DESCRIPTION:
URL:https://www.pawtuxetrangers.com/event/business-meeting-74/
LOCATION:Armory Hall\, 59 Remington Street\, Warwick\, RI\, 02888\, United States
END:VEVENT
BEGIN:VEVENT
DTSTART;TZID=America/New_York:20171025T180000
DTEND;TZID=America/New_York:20171025T200000
DTSTAMP:20260423T183051
CREATED:20170127T192121Z
LAST-MODIFIED:20170714T174104Z
UID:989-1508954400-1508961600@www.pawtuxetrangers.com
SUMMARY:243rd Anniversary Dinner
DESCRIPTION:
URL:https://www.pawtuxetrangers.com/event/end-of-month-dinner-9/
LOCATION:Imperial Room – Shriners\, 1 Rhodes Place\, Cranston\, RI\, United States
END:VEVENT
BEGIN:VEVENT
DTSTART;TZID=America/New_York:20171021T080000
DTEND;TZID=America/New_York:20171021T120000
DTSTAMP:20260423T183051
CREATED:20170913T120530Z
LAST-MODIFIED:20170921T125957Z
UID:1290-1508572800-1508587200@www.pawtuxetrangers.com
SUMMARY:Pawtuxet Cemetery Cleanup
DESCRIPTION:Voluntary
URL:https://www.pawtuxetrangers.com/event/pawtuxet-cemetery-cleanup/
LOCATION:Greene Cemetery\, 146 Post Road\, Warwick\, RI\, United States
END:VEVENT
BEGIN:VEVENT
DTSTART;TZID=America/New_York:20171018T200000
DTEND;TZID=America/New_York:20171018T210000
DTSTAMP:20260423T183051
CREATED:20170127T192037Z
LAST-MODIFIED:20170127T192037Z
UID:987-1508356800-1508360400@www.pawtuxetrangers.com
SUMMARY:Business Meeting
DESCRIPTION:
URL:https://www.pawtuxetrangers.com/event/business-meeting-72/
LOCATION:Armory Hall\, 59 Remington Street\, Warwick\, RI\, 02888\, United States
END:VEVENT
BEGIN:VEVENT
DTSTART;TZID=America/New_York:20171014T090000
DTEND;TZID=America/New_York:20171014T130000
DTSTAMP:20260423T183051
CREATED:20170127T211944Z
LAST-MODIFIED:20170414T154822Z
UID:1079-1507971600-1507986000@www.pawtuxetrangers.com
SUMMARY:Muster Day
DESCRIPTION:
URL:https://www.pawtuxetrangers.com/event/muster-day/
LOCATION:Wallum Lake Rod and Gun Club\, 200 Brook Road\, Harrisville\, RI\, United States
END:VEVENT
BEGIN:VEVENT
DTSTART;TZID=America/New_York:20171011T200000
DTEND;TZID=America/New_York:20171011T210000
DTSTAMP:20260423T183051
CREATED:20170127T192000Z
LAST-MODIFIED:20170127T192000Z
UID:985-1507752000-1507755600@www.pawtuxetrangers.com
SUMMARY:Business Meeting
DESCRIPTION:
URL:https://www.pawtuxetrangers.com/event/business-meeting-71/
LOCATION:Armory Hall\, 59 Remington Street\, Warwick\, RI\, 02888\, United States
END:VEVENT
BEGIN:VEVENT
DTSTART;TZID=America/New_York:20171008T110000
DTEND;TZID=America/New_York:20171008T140000
DTSTAMP:20260423T183051
CREATED:20170127T211842Z
LAST-MODIFIED:20170901T175744Z
UID:1077-1507460400-1507471200@www.pawtuxetrangers.com
SUMMARY:Providence Columbus Day Parade
DESCRIPTION:1st Reading – 8/16/17\n2nd Reading – 8/30/17 – Approved
URL:https://www.pawtuxetrangers.com/event/providence-columbus-day-parade-tentative-2/
LOCATION:Providence\, Providence\, RI\, United States
END:VEVENT
BEGIN:VEVENT
DTSTART;TZID=America/New_York:20171004T200000
DTEND;TZID=America/New_York:20171004T210000
DTSTAMP:20260423T183051
CREATED:20170127T191904Z
LAST-MODIFIED:20170127T191904Z
UID:983-1507147200-1507150800@www.pawtuxetrangers.com
SUMMARY:Business Meeting
DESCRIPTION:
URL:https://www.pawtuxetrangers.com/event/business-meeting-70/
LOCATION:Armory Hall\, 59 Remington Street\, Warwick\, RI\, 02888\, United States
END:VEVENT
BEGIN:VEVENT
DTSTART;TZID=America/New_York:20170930T080000
DTEND;TZID=America/New_York:20170930T170000
DTSTAMP:20260423T183051
CREATED:20170127T211635Z
LAST-MODIFIED:20170817T013544Z
UID:1075-1506758400-1506790800@www.pawtuxetrangers.com
SUMMARY:Sudbury Muster and Faire
DESCRIPTION:First Reading – 8/9\nSecond Reading – 8/16 – Voluntary Event
URL:https://www.pawtuxetrangers.com/event/sudbury-muster-and-faire/
LOCATION:Wayside Inn\, 72 Wayside Inn Road\, Sudbury\, MA\, United States
END:VEVENT
BEGIN:VEVENT
DTSTART;TZID=America/New_York:20170927T200000
DTEND;TZID=America/New_York:20170927T210000
DTSTAMP:20260423T183051
CREATED:20170127T191822Z
LAST-MODIFIED:20170127T191822Z
UID:981-1506542400-1506546000@www.pawtuxetrangers.com
SUMMARY:Business Meeting
DESCRIPTION:
URL:https://www.pawtuxetrangers.com/event/business-meeting-69/
LOCATION:Armory Hall\, 59 Remington Street\, Warwick\, RI\, 02888\, United States
END:VEVENT
BEGIN:VEVENT
DTSTART;TZID=America/New_York:20170927T190000
DTEND;TZID=America/New_York:20170927T200000
DTSTAMP:20260423T183051
CREATED:20170127T191747Z
LAST-MODIFIED:20170921T125757Z
UID:979-1506538800-1506542400@www.pawtuxetrangers.com
SUMMARY:End of Month Dinner - Canceled
DESCRIPTION:
URL:https://www.pawtuxetrangers.com/event/end-of-month-dinner-8/
LOCATION:Armory Hall\, 59 Remington Street\, Warwick\, RI\, 02888\, United States
END:VEVENT
BEGIN:VEVENT
DTSTART;TZID=America/New_York:20170924T130000
DTEND;TZID=America/New_York:20170924T150000
DTSTAMP:20260423T183051
CREATED:20170127T211147Z
LAST-MODIFIED:20170921T125625Z
UID:1071-1506258000-1506265200@www.pawtuxetrangers.com
SUMMARY:South Kingstown Firemen's Parade
DESCRIPTION:1st Reading – 4/12\n2nd Reading – 4/26 Approved.\nReporting time 1215.
URL:https://www.pawtuxetrangers.com/event/south-kingstown-firemens-parade-tentative/
LOCATION:Old Mountain Lanes (behind)\, 756 Kingstown Road\, Wakefield\, RI\, United States
END:VEVENT
BEGIN:VEVENT
DTSTART;TZID=America/New_York:20170923T120000
DTEND;TZID=America/New_York:20170923T140000
DTSTAMP:20260423T183051
CREATED:20170913T120221Z
LAST-MODIFIED:20170921T125519Z
UID:1288-1506168000-1506175200@www.pawtuxetrangers.com
SUMMARY:McBride's 0K for Operation Stand Down RI
DESCRIPTION:1st Reading – 9/13\n2nd Reading – 9/20 – Voluntary
URL:https://www.pawtuxetrangers.com/event/mcbrides-0k-for-operation-stand-down-ri/
LOCATION:McBride’s Pub\, 161 Wayland Avenue\, Providence\, RI\, United States
END:VEVENT
BEGIN:VEVENT
DTSTART;TZID=America/New_York:20170920T200000
DTEND;TZID=America/New_York:20170920T210000
DTSTAMP:20260423T183051
CREATED:20170127T191707Z
LAST-MODIFIED:20170127T191707Z
UID:977-1505937600-1505941200@www.pawtuxetrangers.com
SUMMARY:Business Meeting
DESCRIPTION:
URL:https://www.pawtuxetrangers.com/event/business-meeting-68/
LOCATION:Armory Hall\, 59 Remington Street\, Warwick\, RI\, 02888\, United States
END:VEVENT
BEGIN:VEVENT
DTSTART;TZID=America/New_York:20170913T200000
DTEND;TZID=America/New_York:20170913T210000
DTSTAMP:20260423T183051
CREATED:20170127T191628Z
LAST-MODIFIED:20170127T191628Z
UID:975-1505332800-1505336400@www.pawtuxetrangers.com
SUMMARY:Business Meeting
DESCRIPTION:
URL:https://www.pawtuxetrangers.com/event/business-meeting-67/
LOCATION:Armory Hall\, 59 Remington Street\, Warwick\, RI\, 02888\, United States
END:VEVENT
BEGIN:VEVENT
DTSTART;TZID=America/New_York:20170909T133000
DTEND;TZID=America/New_York:20170909T150000
DTSTAMP:20260423T183051
CREATED:20170901T180012Z
LAST-MODIFIED:20170901T180012Z
UID:1285-1504963800-1504969200@www.pawtuxetrangers.com
SUMMARY:Air Force Monument Dedication
DESCRIPTION:1st Reading – 8/16\n2nd Reading – 8/23 – Approved
URL:https://www.pawtuxetrangers.com/event/air-force-monument-dedication-2/
LOCATION:Veteran’s Cemetery\, 301 South County Trail\, Exeter\, RI\, United States
END:VEVENT
BEGIN:VEVENT
DTSTART;TZID=America/New_York:20170907T183000
DTEND;TZID=America/New_York:20170907T193000
DTSTAMP:20260423T183051
CREATED:20170127T210759Z
LAST-MODIFIED:20170901T175606Z
UID:1069-1504809000-1504812600@www.pawtuxetrangers.com
SUMMARY:Gaspee Installation Dinner
DESCRIPTION:1st Reading – 3/1\n2nd Reading – 3/15\nApproved
URL:https://www.pawtuxetrangers.com/event/gaspee-installation-dinner-tentative/
LOCATION:Pawtuxet Park\, E. View Street\, Warwick\, RI\, 02888\, United States
END:VEVENT
BEGIN:VEVENT
DTSTART;TZID=America/New_York:20170906T200000
DTEND;TZID=America/New_York:20170906T210000
DTSTAMP:20260423T183051
CREATED:20170127T191406Z
LAST-MODIFIED:20170127T191406Z
UID:973-1504728000-1504731600@www.pawtuxetrangers.com
SUMMARY:Business Meeting
DESCRIPTION:
URL:https://www.pawtuxetrangers.com/event/business-meeting-66/
LOCATION:Armory Hall\, 59 Remington Street\, Warwick\, RI\, 02888\, United States
END:VEVENT
BEGIN:VEVENT
DTSTART;TZID=America/New_York:20170905T173000
DTEND;TZID=America/New_York:20170905T190000
DTSTAMP:20260423T183051
CREATED:20170817T013110Z
LAST-MODIFIED:20170901T175529Z
UID:1268-1504632600-1504638000@www.pawtuxetrangers.com
SUMMARY:Masonic Lodge Cannon Event
DESCRIPTION:1st Reading 8/16/17\n2nd Reading 8/23/17 – Approved.
URL:https://www.pawtuxetrangers.com/event/masonic-lodge-cannon-event/
LOCATION:Masonic Lodge Middletown\, 152 Wyatt Road\, Middletown\, RI\, United States
END:VEVENT
BEGIN:VEVENT
DTSTART;TZID=America/New_York:20170830T200000
DTEND;TZID=America/New_York:20170830T210000
DTSTAMP:20260423T183051
CREATED:20170127T191254Z
LAST-MODIFIED:20170127T191254Z
UID:971-1504123200-1504126800@www.pawtuxetrangers.com
SUMMARY:Business Meeting
DESCRIPTION:
URL:https://www.pawtuxetrangers.com/event/business-meeting-65/
LOCATION:Armory Hall\, 59 Remington Street\, Warwick\, RI\, 02888\, United States
END:VEVENT
BEGIN:VEVENT
DTSTART;TZID=America/New_York:20170830T190000
DTEND;TZID=America/New_York:20170830T200000
DTSTAMP:20260423T183051
CREATED:20170127T191006Z
LAST-MODIFIED:20170127T210253Z
UID:969-1504119600-1504123200@www.pawtuxetrangers.com
SUMMARY:End of Month Dinner - Free
DESCRIPTION:
URL:https://www.pawtuxetrangers.com/event/end-of-month-dinner-7/
LOCATION:Armory Hall\, 59 Remington Street\, Warwick\, RI\, 02888\, United States
END:VEVENT
BEGIN:VEVENT
DTSTART;TZID=America/New_York:20170826T110000
DTEND;TZID=America/New_York:20170826T120000
DTSTAMP:20260423T183051
CREATED:20170817T012903Z
LAST-MODIFIED:20170817T012903Z
UID:1266-1503745200-1503748800@www.pawtuxetrangers.com
SUMMARY:COL K. Frederick Holst Memorial Service
DESCRIPTION:
URL:https://www.pawtuxetrangers.com/event/col-k-frederick-holst-memorial-service/
LOCATION:Trinity Church\, 139 Ocean Avenue\, Cranston\, RI\, 02905\, United States
END:VEVENT
BEGIN:VEVENT
DTSTART;TZID=America/New_York:20170823T200000
DTEND;TZID=America/New_York:20170823T210000
DTSTAMP:20260423T183051
CREATED:20170127T190838Z
LAST-MODIFIED:20170127T190838Z
UID:967-1503518400-1503522000@www.pawtuxetrangers.com
SUMMARY:Business Meeting
DESCRIPTION:
URL:https://www.pawtuxetrangers.com/event/business-meeting-64/
LOCATION:Armory Hall\, 59 Remington Street\, Warwick\, RI\, 02888\, United States
END:VEVENT
BEGIN:VEVENT
DTSTART;TZID=America/New_York:20170816T200000
DTEND;TZID=America/New_York:20170816T210000
DTSTAMP:20260423T183051
CREATED:20170127T190758Z
LAST-MODIFIED:20170127T190758Z
UID:965-1502913600-1502917200@www.pawtuxetrangers.com
SUMMARY:Business Meeting
DESCRIPTION:
URL:https://www.pawtuxetrangers.com/event/business-meeting-63/
LOCATION:Armory Hall\, 59 Remington Street\, Warwick\, RI\, 02888\, United States
END:VEVENT
BEGIN:VEVENT
DTSTART;TZID=America/New_York:20170816T080000
DTEND;TZID=America/New_York:20170816T170000
DTSTAMP:20260423T183051
CREATED:20170817T013436Z
LAST-MODIFIED:20170817T013436Z
UID:1271-1502870400-1502902800@www.pawtuxetrangers.com
SUMMARY:Air Force Monument Dedication
DESCRIPTION:1st Reading 8/16/17
URL:https://www.pawtuxetrangers.com/event/air-force-monument-dedication/
LOCATION:Veteran’s Cemetery\, 301 South County Trail\, Exeter\, RI\, United States
END:VEVENT
END:VCALENDAR