BEGIN:VCALENDAR
VERSION:2.0
PRODID:-//PAWTUXET RANGERS, RIHM  - 1774 - ECPv6.15.20//NONSGML v1.0//EN
CALSCALE:GREGORIAN
METHOD:PUBLISH
X-WR-CALNAME:PAWTUXET RANGERS, RIHM  - 1774
X-ORIGINAL-URL:https://www.pawtuxetrangers.com
X-WR-CALDESC:Events for PAWTUXET RANGERS, RIHM  - 1774
REFRESH-INTERVAL;VALUE=DURATION:PT1H
X-Robots-Tag:noindex
X-PUBLISHED-TTL:PT1H
BEGIN:VTIMEZONE
TZID:America/New_York
BEGIN:DAYLIGHT
TZOFFSETFROM:-0500
TZOFFSETTO:-0400
TZNAME:EDT
DTSTART:20160313T070000
END:DAYLIGHT
BEGIN:STANDARD
TZOFFSETFROM:-0400
TZOFFSETTO:-0500
TZNAME:EST
DTSTART:20161106T060000
END:STANDARD
BEGIN:DAYLIGHT
TZOFFSETFROM:-0500
TZOFFSETTO:-0400
TZNAME:EDT
DTSTART:20170312T070000
END:DAYLIGHT
BEGIN:STANDARD
TZOFFSETFROM:-0400
TZOFFSETTO:-0500
TZNAME:EST
DTSTART:20171105T060000
END:STANDARD
BEGIN:DAYLIGHT
TZOFFSETFROM:-0500
TZOFFSETTO:-0400
TZNAME:EDT
DTSTART:20180311T070000
END:DAYLIGHT
BEGIN:STANDARD
TZOFFSETFROM:-0400
TZOFFSETTO:-0500
TZNAME:EST
DTSTART:20181104T060000
END:STANDARD
BEGIN:DAYLIGHT
TZOFFSETFROM:-0500
TZOFFSETTO:-0400
TZNAME:EDT
DTSTART:20190310T070000
END:DAYLIGHT
BEGIN:STANDARD
TZOFFSETFROM:-0400
TZOFFSETTO:-0500
TZNAME:EST
DTSTART:20191103T060000
END:STANDARD
END:VTIMEZONE
BEGIN:VEVENT
DTSTART;TZID=America/New_York:20180516T200000
DTEND;TZID=America/New_York:20180516T210000
DTSTAMP:20260423T033231
CREATED:20180104T211424Z
LAST-MODIFIED:20180104T211424Z
UID:1424-1526500800-1526504400@www.pawtuxetrangers.com
SUMMARY:Business Meeting
DESCRIPTION:
URL:https://www.pawtuxetrangers.com/event/business-meeting-86/
LOCATION:Armory Hall\, 59 Remington Street\, Warwick\, RI\, 02888\, United States
END:VEVENT
BEGIN:VEVENT
DTSTART;TZID=America/New_York:20180509T200000
DTEND;TZID=America/New_York:20180509T210000
DTSTAMP:20260423T033231
CREATED:20180104T211337Z
LAST-MODIFIED:20180104T211337Z
UID:1422-1525896000-1525899600@www.pawtuxetrangers.com
SUMMARY:Business Meeting
DESCRIPTION:
URL:https://www.pawtuxetrangers.com/event/business-meeting-85/
LOCATION:Armory Hall\, 59 Remington Street\, Warwick\, RI\, 02888\, United States
END:VEVENT
BEGIN:VEVENT
DTSTART;VALUE=DATE:20180505
DTEND;VALUE=DATE:20180507
DTSTAMP:20260423T033231
CREATED:20180221T163532Z
LAST-MODIFIED:20180502T182030Z
UID:1500-1525478400-1525651199@www.pawtuxetrangers.com
SUMMARY:Smith's Castle Opening Weekend - Voluntary
DESCRIPTION:1st Reading – 2/28 \n2nd Reading – 3/14 \nVoluntary
URL:https://www.pawtuxetrangers.com/event/smiths-castle-opening-weekend/
LOCATION:Smith’s Castle\, 55 Richard Smith Drive\, North Kingstown\, RI\, United States
END:VEVENT
BEGIN:VEVENT
DTSTART;TZID=America/New_York:20180502T200000
DTEND;TZID=America/New_York:20180502T210000
DTSTAMP:20260423T033231
CREATED:20180104T211259Z
LAST-MODIFIED:20180104T211259Z
UID:1420-1525291200-1525294800@www.pawtuxetrangers.com
SUMMARY:Business Meeting
DESCRIPTION:
URL:https://www.pawtuxetrangers.com/event/business-meeting-84/
LOCATION:Armory Hall\, 59 Remington Street\, Warwick\, RI\, 02888\, United States
END:VEVENT
BEGIN:VEVENT
DTSTART;TZID=America/New_York:20180428T080000
DTEND;TZID=America/New_York:20180428T120000
DTSTAMP:20260423T033231
CREATED:20180116T174622Z
LAST-MODIFIED:20180308T200123Z
UID:1486-1524902400-1524916800@www.pawtuxetrangers.com
SUMMARY:Greene Cemetery Cleanup
DESCRIPTION:
URL:https://www.pawtuxetrangers.com/event/greene-cemetery-cleanup/
LOCATION:Greene Cemetery\, 146 Post Road\, Warwick\, RI\, United States
END:VEVENT
BEGIN:VEVENT
DTSTART;TZID=America/New_York:20180425T200000
DTEND;TZID=America/New_York:20180425T210000
DTSTAMP:20260423T033231
CREATED:20180104T211223Z
LAST-MODIFIED:20180104T211223Z
UID:1418-1524686400-1524690000@www.pawtuxetrangers.com
SUMMARY:Business Meeting
DESCRIPTION:
URL:https://www.pawtuxetrangers.com/event/business-meeting-83/
LOCATION:Armory Hall\, 59 Remington Street\, Warwick\, RI\, 02888\, United States
END:VEVENT
BEGIN:VEVENT
DTSTART;TZID=America/New_York:20180421T080000
DTEND;TZID=America/New_York:20180421T120000
DTSTAMP:20260423T033231
CREATED:20180104T202353Z
LAST-MODIFIED:20180308T200413Z
UID:1330-1524297600-1524312000@www.pawtuxetrangers.com
SUMMARY:Pawtuxet Park Community Cleanup - Voluntary
DESCRIPTION:Voluntary
URL:https://www.pawtuxetrangers.com/event/earth-day-cemetery-cleanup-voluntary/
LOCATION:Greene Cemetery\, 146 Post Road\, Warwick\, RI\, United States
END:VEVENT
BEGIN:VEVENT
DTSTART;VALUE=DATE:20180421
DTEND;VALUE=DATE:20180422
DTSTAMP:20260423T033231
CREATED:20180104T201557Z
LAST-MODIFIED:20180322T140418Z
UID:1328-1524268800-1524355199@www.pawtuxetrangers.com
SUMMARY:2nd Company Governor's Foot Guard PowderHouse Day
DESCRIPTION:1st Reading – 3/28
URL:https://www.pawtuxetrangers.com/event/2nd-company-governors-foot-guard-powderhouse-day-tentative/
LOCATION:TBD
END:VEVENT
BEGIN:VEVENT
DTSTART;TZID=America/New_York:20180418T183000
DTEND;TZID=America/New_York:20180418T200000
DTSTAMP:20260423T033231
CREATED:20180104T201412Z
LAST-MODIFIED:20180104T201412Z
UID:1326-1524076200-1524081600@www.pawtuxetrangers.com
SUMMARY:Officer's Appreciation Dinner
DESCRIPTION:
URL:https://www.pawtuxetrangers.com/event/officers-appreciation-dinner-2/
LOCATION:Trinity Church\, 139 Ocean Avenue\, Cranston\, RI\, 02905\, United States
END:VEVENT
BEGIN:VEVENT
DTSTART;TZID=America/New_York:20180415T140000
DTEND;TZID=America/New_York:20180415T153000
DTSTAMP:20260423T033231
CREATED:20180104T201309Z
LAST-MODIFIED:20180104T201309Z
UID:1324-1523800800-1523806200@www.pawtuxetrangers.com
SUMMARY:175th Anniversary of Armory Hall
DESCRIPTION:
URL:https://www.pawtuxetrangers.com/event/175th-anniversary-of-armory-hall/
LOCATION:Armory Hall\, 59 Remington Street\, Warwick\, RI\, 02888\, United States
END:VEVENT
BEGIN:VEVENT
DTSTART;TZID=America/New_York:20180411T200000
DTEND;TZID=America/New_York:20180411T210000
DTSTAMP:20260423T033231
CREATED:20180104T201222Z
LAST-MODIFIED:20180104T201222Z
UID:1322-1523476800-1523480400@www.pawtuxetrangers.com
SUMMARY:Annual Meeting of the Company
DESCRIPTION:
URL:https://www.pawtuxetrangers.com/event/annual-meeting-of-the-company-3/
LOCATION:Armory Hall\, 59 Remington Street\, Warwick\, RI\, 02888\, United States
END:VEVENT
BEGIN:VEVENT
DTSTART;TZID=America/New_York:20180407T130000
DTEND;TZID=America/New_York:20180407T180000
DTSTAMP:20260423T033231
CREATED:20180221T163751Z
LAST-MODIFIED:20180221T165704Z
UID:1502-1523106000-1523124000@www.pawtuxetrangers.com
SUMMARY:Adamsville Ancients 24th annual No Foolin' Jam
DESCRIPTION:Voluntary
URL:https://www.pawtuxetrangers.com/event/adamsville-ancients-24th-annual-no-foolin-jam/
LOCATION:Adamsville Jam\, 375 Ontario Street\, Albany\, NY\, United States
END:VEVENT
BEGIN:VEVENT
DTSTART;TZID=America/New_York:20180407T090000
DTEND;TZID=America/New_York:20180407T110000
DTSTAMP:20260423T033231
CREATED:20180104T201137Z
LAST-MODIFIED:20180308T200252Z
UID:1320-1523091600-1523098800@www.pawtuxetrangers.com
SUMMARY:Second Corps of Cadets First Muster in Salem
DESCRIPTION:1st Reading – 3/14.
URL:https://www.pawtuxetrangers.com/event/second-corps-of-cadets-first-muster-in-salem-tentative/
LOCATION:Salem Common\, N. Washington Square\, Salem\, MA\, MA\, United States
END:VEVENT
BEGIN:VEVENT
DTSTART;TZID=America/New_York:20180404T200000
DTEND;TZID=America/New_York:20180404T210000
DTSTAMP:20260423T033231
CREATED:20180104T211147Z
LAST-MODIFIED:20180104T211147Z
UID:1416-1522872000-1522875600@www.pawtuxetrangers.com
SUMMARY:Business Meeting
DESCRIPTION:
URL:https://www.pawtuxetrangers.com/event/business-meeting-82/
LOCATION:Armory Hall\, 59 Remington Street\, Warwick\, RI\, 02888\, United States
END:VEVENT
BEGIN:VEVENT
DTSTART;TZID=America/New_York:20180328T200000
DTEND;TZID=America/New_York:20180328T210000
DTSTAMP:20260423T033231
CREATED:20180104T211112Z
LAST-MODIFIED:20180104T211112Z
UID:1414-1522267200-1522270800@www.pawtuxetrangers.com
SUMMARY:Business Meeting
DESCRIPTION:
URL:https://www.pawtuxetrangers.com/event/business-meeting-81/
LOCATION:Armory Hall\, 59 Remington Street\, Warwick\, RI\, 02888\, United States
END:VEVENT
BEGIN:VEVENT
DTSTART;TZID=America/New_York:20180328T190000
DTEND;TZID=America/New_York:20180328T200000
DTSTAMP:20260423T033231
CREATED:20180104T201033Z
LAST-MODIFIED:20180104T201033Z
UID:1318-1522263600-1522267200@www.pawtuxetrangers.com
SUMMARY:End of Month Dinner
DESCRIPTION:
URL:https://www.pawtuxetrangers.com/event/end-of-month-dinner-3/
LOCATION:Armory Hall\, 59 Remington Street\, Warwick\, RI\, 02888\, United States
END:VEVENT
BEGIN:VEVENT
DTSTART;TZID=America/New_York:20180322T180000
DTEND;TZID=America/New_York:20180322T210000
DTSTAMP:20260423T033231
CREATED:20180212T181904Z
LAST-MODIFIED:20180225T192148Z
UID:1495-1521741600-1521752400@www.pawtuxetrangers.com
SUMMARY:March to Madness Fundraiser
DESCRIPTION:Join us and the Pawtuxet Village Foundation was we kick off the college basketball playoffs with a joint fundraiser. Proceeds will be split between the PVF and The Pawtuxet Rangers for the 175th Anniversary Building Fund. Come out and support these groups!!
URL:https://www.pawtuxetrangers.com/event/march-to-madness-fundraiser/
LOCATION:Revolution\, 2190 Broad Street\, Cranston\, RI\, United States
END:VEVENT
BEGIN:VEVENT
DTSTART;TZID=America/New_York:20180321T200000
DTEND;TZID=America/New_York:20180321T210000
DTSTAMP:20260423T033231
CREATED:20180104T211039Z
LAST-MODIFIED:20180104T211039Z
UID:1412-1521662400-1521666000@www.pawtuxetrangers.com
SUMMARY:Business Meeting
DESCRIPTION:
URL:https://www.pawtuxetrangers.com/event/business-meeting-80/
LOCATION:Armory Hall\, 59 Remington Street\, Warwick\, RI\, 02888\, United States
END:VEVENT
BEGIN:VEVENT
DTSTART;TZID=America/New_York:20180314T200000
DTEND;TZID=America/New_York:20180314T210000
DTSTAMP:20260423T033231
CREATED:20180104T211007Z
LAST-MODIFIED:20180104T211007Z
UID:1410-1521057600-1521061200@www.pawtuxetrangers.com
SUMMARY:Business Meeting
DESCRIPTION:
URL:https://www.pawtuxetrangers.com/event/business-meeting-79/
LOCATION:Armory Hall\, 59 Remington Street\, Warwick\, RI\, 02888\, United States
END:VEVENT
BEGIN:VEVENT
DTSTART;TZID=America/New_York:20180311T130000
DTEND;TZID=America/New_York:20180311T150000
DTSTAMP:20260423T033231
CREATED:20180104T200737Z
LAST-MODIFIED:20180308T195959Z
UID:1314-1520773200-1520780400@www.pawtuxetrangers.com
SUMMARY:West Warwick St. Pat's Parade
DESCRIPTION:1st Reading – 2/28 2nd Reading 2/28 Approved. \n  \nReporting time 1200 at Pawtuxet Terrace and Route 117.
URL:https://www.pawtuxetrangers.com/event/west-warwick-st-pats-parade-tentative/
LOCATION:Ianotti’s Funeral Home\, 415 Washington St\, Coventry\, RI\, United States
END:VEVENT
BEGIN:VEVENT
DTSTART;TZID=America/New_York:20180310T120000
DTEND;TZID=America/New_York:20180310T140000
DTSTAMP:20260423T033231
CREATED:20180104T200910Z
LAST-MODIFIED:20180308T195843Z
UID:1316-1520683200-1520690400@www.pawtuxetrangers.com
SUMMARY:Providence St. Pat's Parade
DESCRIPTION:1st Reading – 2/28 2nd Reading 2/28. Approved. \nReporting time 1100 at the Harry Kizirian Elementary School.
URL:https://www.pawtuxetrangers.com/event/providence-st-pats-parade-tentative/
LOCATION:St. Pius Church\, 55 Elmhurst Ave\, Providence\, RI\, United States
END:VEVENT
BEGIN:VEVENT
DTSTART;TZID=America/New_York:20180307T200000
DTEND;TZID=America/New_York:20180307T210000
DTSTAMP:20260423T033231
CREATED:20180104T210933Z
LAST-MODIFIED:20180104T210933Z
UID:1408-1520452800-1520456400@www.pawtuxetrangers.com
SUMMARY:Business Meeting
DESCRIPTION:
URL:https://www.pawtuxetrangers.com/event/business-meeting-73/
LOCATION:Armory Hall\, 59 Remington Street\, Warwick\, RI\, 02888\, United States
END:VEVENT
BEGIN:VEVENT
DTSTART;TZID=America/New_York:20180228T200000
DTEND;TZID=America/New_York:20180228T210000
DTSTAMP:20260423T033231
CREATED:20180104T200558Z
LAST-MODIFIED:20180104T200629Z
UID:1311-1519848000-1519851600@www.pawtuxetrangers.com
SUMMARY:First Business Meeting of the year
DESCRIPTION:
URL:https://www.pawtuxetrangers.com/event/first-dinner-meeting-of-the-year-dinner/
LOCATION:Armory Hall\, 59 Remington Street\, Warwick\, RI\, 02888\, United States
END:VEVENT
BEGIN:VEVENT
DTSTART;TZID=America/New_York:20180203T160000
DTEND;TZID=America/New_York:20180203T200000
DTSTAMP:20260423T033231
CREATED:20180104T200500Z
LAST-MODIFIED:20180104T200500Z
UID:1309-1517673600-1517688000@www.pawtuxetrangers.com
SUMMARY:Jonnie Jam
DESCRIPTION:Fife & drum Jam – Food – Fun!! Everyone invited.
URL:https://www.pawtuxetrangers.com/event/jonnie-jam/
LOCATION:Armory Hall\, 59 Remington Street\, Warwick\, RI\, 02888\, United States
END:VEVENT
BEGIN:VEVENT
DTSTART;TZID=America/New_York:20171213T200000
DTEND;TZID=America/New_York:20171213T210000
DTSTAMP:20260423T033231
CREATED:20170127T192715Z
LAST-MODIFIED:20170127T192715Z
UID:1005-1513195200-1513198800@www.pawtuxetrangers.com
SUMMARY:Final Business Meeting of the Year
DESCRIPTION:
URL:https://www.pawtuxetrangers.com/event/final-business-meeting-of-the-year/
LOCATION:Armory Hall\, 59 Remington Street\, Warwick\, RI\, 02888\, United States
END:VEVENT
BEGIN:VEVENT
DTSTART;TZID=America/New_York:20171210T160000
DTEND;TZID=America/New_York:20171210T170000
DTSTAMP:20260423T033231
CREATED:20170127T212730Z
LAST-MODIFIED:20170127T212730Z
UID:1088-1512921600-1512925200@www.pawtuxetrangers.com
SUMMARY:Christmas in the Village
DESCRIPTION:
URL:https://www.pawtuxetrangers.com/event/christmas-in-the-village/
LOCATION:Trinity Church\, 139 Ocean Avenue\, Cranston\, RI\, 02905\, United States
END:VEVENT
BEGIN:VEVENT
DTSTART;TZID=America/New_York:20171206T200000
DTEND;TZID=America/New_York:20171206T210000
DTSTAMP:20260423T033231
CREATED:20170127T192623Z
LAST-MODIFIED:20170127T192623Z
UID:1003-1512590400-1512594000@www.pawtuxetrangers.com
SUMMARY:Business Meeting
DESCRIPTION:
URL:https://www.pawtuxetrangers.com/event/business-meeting-78/
LOCATION:Armory Hall\, 59 Remington Street\, Warwick\, RI\, 02888\, United States
END:VEVENT
BEGIN:VEVENT
DTSTART;TZID=America/New_York:20171203T160000
DTEND;TZID=America/New_York:20171203T190000
DTSTAMP:20260423T033231
CREATED:20170127T212634Z
LAST-MODIFIED:20170127T212634Z
UID:1086-1512316800-1512327600@www.pawtuxetrangers.com
SUMMARY:Rangers Holiday Open Armory
DESCRIPTION:
URL:https://www.pawtuxetrangers.com/event/rangers-holiday-open-armory-2/
LOCATION:Armory Hall\, 59 Remington Street\, Warwick\, RI\, 02888\, United States
END:VEVENT
BEGIN:VEVENT
DTSTART;TZID=America/New_York:20171202T180000
DTEND;TZID=America/New_York:20171202T200000
DTSTAMP:20260423T033231
CREATED:20170127T212516Z
LAST-MODIFIED:20170127T212516Z
UID:1083-1512237600-1512244800@www.pawtuxetrangers.com
SUMMARY:St. Barbara's Night
DESCRIPTION:
URL:https://www.pawtuxetrangers.com/event/st-barbaras-night/
LOCATION:Artillery Cpy Newport\, 23 Clarke St\, Newport\, RI\, United States
END:VEVENT
BEGIN:VEVENT
DTSTART;TZID=America/New_York:20171129T200000
DTEND;TZID=America/New_York:20171129T210000
DTSTAMP:20260423T033231
CREATED:20170127T192545Z
LAST-MODIFIED:20170127T192545Z
UID:1001-1511985600-1511989200@www.pawtuxetrangers.com
SUMMARY:Business Meeting
DESCRIPTION:
URL:https://www.pawtuxetrangers.com/event/business-meeting-77/
LOCATION:Armory Hall\, 59 Remington Street\, Warwick\, RI\, 02888\, United States
END:VEVENT
END:VCALENDAR