BEGIN:VCALENDAR
VERSION:2.0
PRODID:-//PAWTUXET RANGERS, RIHM  - 1774 - ECPv6.15.20//NONSGML v1.0//EN
CALSCALE:GREGORIAN
METHOD:PUBLISH
X-ORIGINAL-URL:https://www.pawtuxetrangers.com
X-WR-CALDESC:Events for PAWTUXET RANGERS, RIHM  - 1774
REFRESH-INTERVAL;VALUE=DURATION:PT1H
X-Robots-Tag:noindex
X-PUBLISHED-TTL:PT1H
BEGIN:VTIMEZONE
TZID:America/New_York
BEGIN:DAYLIGHT
TZOFFSETFROM:-0500
TZOFFSETTO:-0400
TZNAME:EDT
DTSTART:20170312T070000
END:DAYLIGHT
BEGIN:STANDARD
TZOFFSETFROM:-0400
TZOFFSETTO:-0500
TZNAME:EST
DTSTART:20171105T060000
END:STANDARD
BEGIN:DAYLIGHT
TZOFFSETFROM:-0500
TZOFFSETTO:-0400
TZNAME:EDT
DTSTART:20180311T070000
END:DAYLIGHT
BEGIN:STANDARD
TZOFFSETFROM:-0400
TZOFFSETTO:-0500
TZNAME:EST
DTSTART:20181104T060000
END:STANDARD
BEGIN:DAYLIGHT
TZOFFSETFROM:-0500
TZOFFSETTO:-0400
TZNAME:EDT
DTSTART:20190310T070000
END:DAYLIGHT
BEGIN:STANDARD
TZOFFSETFROM:-0400
TZOFFSETTO:-0500
TZNAME:EST
DTSTART:20191103T060000
END:STANDARD
END:VTIMEZONE
BEGIN:VEVENT
DTSTART;TZID=America/New_York:20180801T200000
DTEND;TZID=America/New_York:20180801T210000
DTSTAMP:20260422T175158
CREATED:20180104T212005Z
LAST-MODIFIED:20180104T212005Z
UID:1444-1533153600-1533157200@www.pawtuxetrangers.com
SUMMARY:Business Meeting
DESCRIPTION:
URL:https://www.pawtuxetrangers.com/event/business-meeting-95/
LOCATION:Armory Hall\, 59 Remington Street\, Warwick\, RI\, 02888\, United States
END:VEVENT
BEGIN:VEVENT
DTSTART;TZID=America/New_York:20180725T200000
DTEND;TZID=America/New_York:20180725T210000
DTSTAMP:20260422T175158
CREATED:20180104T211936Z
LAST-MODIFIED:20180104T211936Z
UID:1442-1532548800-1532552400@www.pawtuxetrangers.com
SUMMARY:Business Meeting
DESCRIPTION:
URL:https://www.pawtuxetrangers.com/event/business-meeting-94/
LOCATION:Armory Hall\, 59 Remington Street\, Warwick\, RI\, 02888\, United States
END:VEVENT
BEGIN:VEVENT
DTSTART;TZID=America/New_York:20180725T190000
DTEND;TZID=America/New_York:20180725T200000
DTSTAMP:20260422T175158
CREATED:20180104T205033Z
LAST-MODIFIED:20180104T205033Z
UID:1377-1532545200-1532548800@www.pawtuxetrangers.com
SUMMARY:End of Month Dinner - Free
DESCRIPTION:
URL:https://www.pawtuxetrangers.com/event/end-of-month-dinner-free-2/
LOCATION:Armory Hall\, 59 Remington Street\, Warwick\, RI\, 02888\, United States
END:VEVENT
BEGIN:VEVENT
DTSTART;TZID=America/New_York:20180718T200000
DTEND;TZID=America/New_York:20180718T210000
DTSTAMP:20260422T175158
CREATED:20180104T211903Z
LAST-MODIFIED:20180104T211903Z
UID:1440-1531944000-1531947600@www.pawtuxetrangers.com
SUMMARY:Business Meeting
DESCRIPTION:
URL:https://www.pawtuxetrangers.com/event/business-meeting-93/
LOCATION:Armory Hall\, 59 Remington Street\, Warwick\, RI\, 02888\, United States
END:VEVENT
BEGIN:VEVENT
DTSTART;VALUE=DATE:20180714
DTEND;VALUE=DATE:20180715
DTSTAMP:20260422T175158
CREATED:20180308T201810Z
LAST-MODIFIED:20180308T201810Z
UID:1531-1531526400-1531612799@www.pawtuxetrangers.com
SUMMARY:National Muster - CT
DESCRIPTION:1st Reading – 2/28
URL:https://www.pawtuxetrangers.com/event/national-muster-ct/
LOCATION:Terryville Fairgrounds\, Town Hill Road\, Terryville\, CT\, United States
END:VEVENT
BEGIN:VEVENT
DTSTART;TZID=America/New_York:20180711T200000
DTEND;TZID=America/New_York:20180711T210000
DTSTAMP:20260422T175158
CREATED:20180104T211829Z
LAST-MODIFIED:20180104T211829Z
UID:1438-1531339200-1531342800@www.pawtuxetrangers.com
SUMMARY:Business Meeting
DESCRIPTION:
URL:https://www.pawtuxetrangers.com/event/business-meeting-92/
LOCATION:Armory Hall\, 59 Remington Street\, Warwick\, RI\, 02888\, United States
END:VEVENT
BEGIN:VEVENT
DTSTART;VALUE=DATE:20180707
DTEND;VALUE=DATE:20180708
DTSTAMP:20260422T175158
CREATED:20180104T204952Z
LAST-MODIFIED:20180308T201532Z
UID:1375-1530921600-1531007999@www.pawtuxetrangers.com
SUMMARY:Deep River Muster - Tentative
DESCRIPTION:
URL:https://www.pawtuxetrangers.com/event/deep-river-muster-tentative-2/
LOCATION:Deep River\, 15 Southworth Street\, Deep River\, CT\, United States
END:VEVENT
BEGIN:VEVENT
DTSTART;TZID=America/New_York:20180705T170000
DTEND;TZID=America/New_York:20180705T200000
DTSTAMP:20260422T175158
CREATED:20180322T133335Z
LAST-MODIFIED:20180322T133335Z
UID:1544-1530810000-1530820800@www.pawtuxetrangers.com
SUMMARY:Pawtuxet Park Food Truck Night
DESCRIPTION:Voluntary
URL:https://www.pawtuxetrangers.com/event/pawtuxet-park-food-truck-night/
LOCATION:Pawtuxet Park\, E. View Street\, Warwick\, RI\, 02888\, United States
END:VEVENT
BEGIN:VEVENT
DTSTART;TZID=America/New_York:20180704T100000
DTEND;TZID=America/New_York:20180704T130000
DTSTAMP:20260422T175158
CREATED:20180104T204913Z
LAST-MODIFIED:20180502T183132Z
UID:1373-1530698400-1530709200@www.pawtuxetrangers.com
SUMMARY:Bristol 4th of July Parade
DESCRIPTION:1st Reading – 2/28 \n2nd Reading – 3/14 – Approved
URL:https://www.pawtuxetrangers.com/event/bristol-4th-of-july-parade-tentative-2/
LOCATION:Mount Hope High school\, 199 Chestnut Street\, Bristol\, RI\, United States
END:VEVENT
BEGIN:VEVENT
DTSTART;TZID=America/New_York:20180627T200000
DTEND;TZID=America/New_York:20180627T210000
DTSTAMP:20260422T175158
CREATED:20180104T211754Z
LAST-MODIFIED:20180104T211754Z
UID:1436-1530129600-1530133200@www.pawtuxetrangers.com
SUMMARY:Business Meeting
DESCRIPTION:
URL:https://www.pawtuxetrangers.com/event/business-meeting-91/
LOCATION:Armory Hall\, 59 Remington Street\, Warwick\, RI\, 02888\, United States
END:VEVENT
BEGIN:VEVENT
DTSTART;TZID=America/New_York:20180627T190000
DTEND;TZID=America/New_York:20180627T200000
DTSTAMP:20260422T175158
CREATED:20180104T204813Z
LAST-MODIFIED:20180104T204813Z
UID:1371-1530126000-1530129600@www.pawtuxetrangers.com
SUMMARY:End of Month Dinner - Free
DESCRIPTION:
URL:https://www.pawtuxetrangers.com/event/end-of-month-dinner-free/
LOCATION:Armory Hall\, 59 Remington Street\, Warwick\, RI\, 02888\, United States
END:VEVENT
BEGIN:VEVENT
DTSTART;TZID=America/New_York:20180620T200000
DTEND;TZID=America/New_York:20180620T210000
DTSTAMP:20260422T175158
CREATED:20180104T211719Z
LAST-MODIFIED:20180104T211719Z
UID:1434-1529524800-1529528400@www.pawtuxetrangers.com
SUMMARY:Business Meeting
DESCRIPTION:
URL:https://www.pawtuxetrangers.com/event/business-meeting-90/
LOCATION:Armory Hall\, 59 Remington Street\, Warwick\, RI\, 02888\, United States
END:VEVENT
BEGIN:VEVENT
DTSTART;TZID=America/New_York:20180613T200000
DTEND;TZID=America/New_York:20180613T210000
DTSTAMP:20260422T175158
CREATED:20180104T211645Z
LAST-MODIFIED:20180104T211645Z
UID:1432-1528920000-1528923600@www.pawtuxetrangers.com
SUMMARY:Business Meeting
DESCRIPTION:
URL:https://www.pawtuxetrangers.com/event/business-meeting-89/
LOCATION:Armory Hall\, 59 Remington Street\, Warwick\, RI\, 02888\, United States
END:VEVENT
BEGIN:VEVENT
DTSTART;VALUE=DATE:20180610
DTEND;VALUE=DATE:20180611
DTSTAMP:20260422T175158
CREATED:20180104T204718Z
LAST-MODIFIED:20180308T201350Z
UID:1369-1528588800-1528675199@www.pawtuxetrangers.com
SUMMARY:Gaspee Days Sunday in the Park
DESCRIPTION:1st Reading – 2/28 \n2nd Reading – 3/14
URL:https://www.pawtuxetrangers.com/event/gaspee-days-sunday-in-the-park-3/
LOCATION:Pawtuxet Park\, E. View Street\, Warwick\, RI\, 02888\, United States
END:VEVENT
BEGIN:VEVENT
DTSTART;TZID=America/New_York:20180609T100000
DTEND;TZID=America/New_York:20180609T120000
DTSTAMP:20260422T175158
CREATED:20180104T204631Z
LAST-MODIFIED:20180308T201319Z
UID:1367-1528538400-1528545600@www.pawtuxetrangers.com
SUMMARY:Gaspee Days Parade
DESCRIPTION:1st Reading – 2/28 \n2nd Reading – 3/14
URL:https://www.pawtuxetrangers.com/event/gaspee-days-parade-3/
LOCATION:Pawtuxet Park\, E. View Street\, Warwick\, RI\, 02888\, United States
END:VEVENT
BEGIN:VEVENT
DTSTART;TZID=America/New_York:20180609T080000
DTEND;TZID=America/New_York:20180609T090000
DTSTAMP:20260422T175158
CREATED:20180104T204416Z
LAST-MODIFIED:20180308T201252Z
UID:1365-1528531200-1528534800@www.pawtuxetrangers.com
SUMMARY:Gaspee Days Ecumenical Service
DESCRIPTION:1st Reading – 2/28 \n2nd Reading – 3/14
URL:https://www.pawtuxetrangers.com/event/gaspee-days-ecumenical-service/
LOCATION:Trinity Church\, 139 Ocean Avenue\, Cranston\, RI\, 02905\, United States
END:VEVENT
BEGIN:VEVENT
DTSTART;VALUE=DATE:20180608
DTEND;VALUE=DATE:20180611
DTSTAMP:20260422T175158
CREATED:20180104T204329Z
LAST-MODIFIED:20180308T201210Z
UID:1363-1528416000-1528675199@www.pawtuxetrangers.com
SUMMARY:Gaspee Days Encampment
DESCRIPTION:1st Reading – 2/28 \n2nd Reading – 3/14
URL:https://www.pawtuxetrangers.com/event/gaspee-days-encampment-2/
LOCATION:Pawtuxet Park\, E. View Street\, Warwick\, RI\, 02888\, United States
END:VEVENT
BEGIN:VEVENT
DTSTART;TZID=America/New_York:20180606T200000
DTEND;TZID=America/New_York:20180606T210000
DTSTAMP:20260422T175158
CREATED:20180104T211613Z
LAST-MODIFIED:20180104T211613Z
UID:1430-1528315200-1528318800@www.pawtuxetrangers.com
SUMMARY:Business Meeting
DESCRIPTION:
URL:https://www.pawtuxetrangers.com/event/business-meeting-88/
LOCATION:Armory Hall\, 59 Remington Street\, Warwick\, RI\, 02888\, United States
END:VEVENT
BEGIN:VEVENT
DTSTART;VALUE=DATE:20180604
DTEND;VALUE=DATE:20180605
DTSTAMP:20260422T175158
CREATED:20180104T204240Z
LAST-MODIFIED:20180502T183028Z
UID:1361-1528070400-1528156799@www.pawtuxetrangers.com
SUMMARY:Ancient and Honorables June Day Parade Boston
DESCRIPTION:1st Reading – 4/18
URL:https://www.pawtuxetrangers.com/event/ancient-and-honorables-june-day-parade-boston-tentative-2/
LOCATION:Fanueil Hall\, 1 Fanueil Hall Square\, Boston\, MA\, United States
END:VEVENT
BEGIN:VEVENT
DTSTART;VALUE=DATE:20180602
DTEND;VALUE=DATE:20180603
DTSTAMP:20260422T175158
CREATED:20180104T204146Z
LAST-MODIFIED:20180104T204146Z
UID:1359-1527897600-1527983999@www.pawtuxetrangers.com
SUMMARY:RI Yacht Club Opening - Tentative
DESCRIPTION:
URL:https://www.pawtuxetrangers.com/event/ri-yacht-club-opening-tentative/
LOCATION:RIYC\, 1 Ocean Avenue\, Cranston\, RI\, 02905\, United States
END:VEVENT
BEGIN:VEVENT
DTSTART;TZID=America/New_York:20180530T200000
DTEND;TZID=America/New_York:20180530T210000
DTSTAMP:20260422T175158
CREATED:20180104T211540Z
LAST-MODIFIED:20180104T211540Z
UID:1428-1527710400-1527714000@www.pawtuxetrangers.com
SUMMARY:Business Meeting - Canceled?
DESCRIPTION:
URL:https://www.pawtuxetrangers.com/event/business-meeting-canceled/
LOCATION:Armory Hall\, 59 Remington Street\, Warwick\, RI\, 02888\, United States
END:VEVENT
BEGIN:VEVENT
DTSTART;TZID=America/New_York:20180530T183000
DTEND;TZID=America/New_York:20180530T200000
DTSTAMP:20260422T175158
CREATED:20180104T204101Z
LAST-MODIFIED:20180104T204101Z
UID:1357-1527705000-1527710400@www.pawtuxetrangers.com
SUMMARY:End of Month Dinner Meet & Greet
DESCRIPTION:
URL:https://www.pawtuxetrangers.com/event/end-of-month-dinner-meet-greet/
LOCATION:Armory Hall\, 59 Remington Street\, Warwick\, RI\, 02888\, United States
END:VEVENT
BEGIN:VEVENT
DTSTART;TZID=America/New_York:20180529T190000
DTEND;TZID=America/New_York:20180529T200000
DTSTAMP:20260422T175158
CREATED:20180308T201116Z
LAST-MODIFIED:20180523T182958Z
UID:1519-1527620400-1527624000@www.pawtuxetrangers.com
SUMMARY:RI Statehood Day Observance
DESCRIPTION:Complimentary event. \nCome celebrate the day that RI ratified the Constitution and became the 13th state. Speakers will be: \nDr. John Concannon – Past President\, Gaspee Days Committee on the Burning of the Gaspee \nCol. Ron Barnes – Commander\, Pawtuxet Rangers on the Pawtuxet Rangers \nDr. Patrick T. Conley – RI Historian on RI ratifying the Constitution \n  \nLight refreshments served. Free giveaways of Constitution booklets\, flags\, pins\, etc.
URL:https://www.pawtuxetrangers.com/event/ri-statehood-day-observance/
LOCATION:Imperial Room – Shriners\, 1 Rhodes Place\, Cranston\, RI\, United States
END:VEVENT
BEGIN:VEVENT
DTSTART;TZID=America/New_York:20180528T120000
DTEND;TZID=America/New_York:20180528T123000
DTSTAMP:20260422T175158
CREATED:20180104T203910Z
LAST-MODIFIED:20180308T200947Z
UID:1353-1527508800-1527510600@www.pawtuxetrangers.com
SUMMARY:Gaspee Arts & Crafts Walkthrough
DESCRIPTION:1st Reading – 2/28 \n2nd Reading – 3/14
URL:https://www.pawtuxetrangers.com/event/gaspee-arts-crafts-walkthrough-2/
LOCATION:Pawtuxet Park\, E. View Street\, Warwick\, RI\, 02888\, United States
END:VEVENT
BEGIN:VEVENT
DTSTART;TZID=America/New_York:20180528T113000
DTEND;TZID=America/New_York:20180528T120000
DTSTAMP:20260422T175158
CREATED:20180104T203806Z
LAST-MODIFIED:20180104T203806Z
UID:1351-1527507000-1527508800@www.pawtuxetrangers.com
SUMMARY:Greene Cemetery Memorial Ceremony - Flag Pole Dedication
DESCRIPTION:
URL:https://www.pawtuxetrangers.com/event/greene-cemetery-memorial-ceremony-flag-pole-dedication/
LOCATION:Greene Cemetery\, 146 Post Road\, Warwick\, RI\, United States
END:VEVENT
BEGIN:VEVENT
DTSTART;VALUE=DATE:20180528
DTEND;VALUE=DATE:20180529
DTSTAMP:20260422T175158
CREATED:20180104T203704Z
LAST-MODIFIED:20180502T182820Z
UID:1349-1527465600-1527551999@www.pawtuxetrangers.com
SUMMARY:Barrington Memorial Day Parade
DESCRIPTION:1st Reading – 4/18 \n2nd Reading – 4/25 \nApproved
URL:https://www.pawtuxetrangers.com/event/barrington-memorial-day-parade-tentative-3/
LOCATION:Barrington High School\, 220 Lincoln Avenue\, Barrington\, RI\, United States
END:VEVENT
BEGIN:VEVENT
DTSTART;TZID=America/New_York:20180527T140000
DTEND;TZID=America/New_York:20180527T153000
DTSTAMP:20260422T175158
CREATED:20180502T182650Z
LAST-MODIFIED:20180502T182650Z
UID:1566-1527429600-1527435000@www.pawtuxetrangers.com
SUMMARY:Exeter Memorial Day Parade
DESCRIPTION:1st Reading – 5/2
URL:https://www.pawtuxetrangers.com/event/exeter-memorial-day-parade-3/
LOCATION:Exeter\, Sunderland Rd and Route 102\, Exeter\, RI\, United States
END:VEVENT
BEGIN:VEVENT
DTSTART;VALUE=DATE:20180526
DTEND;VALUE=DATE:20180529
DTSTAMP:20260422T175158
CREATED:20180104T204008Z
LAST-MODIFIED:20180104T204008Z
UID:1355-1527292800-1527551999@www.pawtuxetrangers.com
SUMMARY:Recruiting Booth
DESCRIPTION:
URL:https://www.pawtuxetrangers.com/event/recruiting-booth/
LOCATION:Pawtuxet Park\, E. View Street\, Warwick\, RI\, 02888\, United States
END:VEVENT
BEGIN:VEVENT
DTSTART;TZID=America/New_York:20180523T200000
DTEND;TZID=America/New_York:20180523T210000
DTSTAMP:20260422T175158
CREATED:20180104T211500Z
LAST-MODIFIED:20180104T211500Z
UID:1426-1527105600-1527109200@www.pawtuxetrangers.com
SUMMARY:Business Meeting
DESCRIPTION:
URL:https://www.pawtuxetrangers.com/event/business-meeting-87/
LOCATION:Armory Hall\, 59 Remington Street\, Warwick\, RI\, 02888\, United States
END:VEVENT
BEGIN:VEVENT
DTSTART;TZID=America/New_York:20180520T083000
DTEND;TZID=America/New_York:20180520T103000
DTSTAMP:20260422T175158
CREATED:20180104T203425Z
LAST-MODIFIED:20180104T203425Z
UID:1345-1526805000-1526812200@www.pawtuxetrangers.com
SUMMARY:HMEA Walk/Run Opening - Tentative
DESCRIPTION:
URL:https://www.pawtuxetrangers.com/event/hmea-walkrun-opening-tentative/
LOCATION:EMC\, 101 Constitution Blvd\, Franklin\, MA\, 02038\, United States
END:VEVENT
END:VCALENDAR