BEGIN:VCALENDAR
VERSION:2.0
PRODID:-//PAWTUXET RANGERS, RIHM  - 1774 - ECPv6.15.20//NONSGML v1.0//EN
CALSCALE:GREGORIAN
METHOD:PUBLISH
X-ORIGINAL-URL:https://www.pawtuxetrangers.com
X-WR-CALDESC:Events for PAWTUXET RANGERS, RIHM  - 1774
REFRESH-INTERVAL;VALUE=DURATION:PT1H
X-Robots-Tag:noindex
X-PUBLISHED-TTL:PT1H
BEGIN:VTIMEZONE
TZID:America/New_York
BEGIN:DAYLIGHT
TZOFFSETFROM:-0500
TZOFFSETTO:-0400
TZNAME:EDT
DTSTART:20170312T070000
END:DAYLIGHT
BEGIN:STANDARD
TZOFFSETFROM:-0400
TZOFFSETTO:-0500
TZNAME:EST
DTSTART:20171105T060000
END:STANDARD
BEGIN:DAYLIGHT
TZOFFSETFROM:-0500
TZOFFSETTO:-0400
TZNAME:EDT
DTSTART:20180311T070000
END:DAYLIGHT
BEGIN:STANDARD
TZOFFSETFROM:-0400
TZOFFSETTO:-0500
TZNAME:EST
DTSTART:20181104T060000
END:STANDARD
BEGIN:DAYLIGHT
TZOFFSETFROM:-0500
TZOFFSETTO:-0400
TZNAME:EDT
DTSTART:20190310T070000
END:DAYLIGHT
BEGIN:STANDARD
TZOFFSETFROM:-0400
TZOFFSETTO:-0500
TZNAME:EST
DTSTART:20191103T060000
END:STANDARD
END:VTIMEZONE
BEGIN:VEVENT
DTSTART;TZID=America/New_York:20181212T200000
DTEND;TZID=America/New_York:20181212T210000
DTSTAMP:20260422T064314
CREATED:20180104T213401Z
LAST-MODIFIED:20180104T213401Z
UID:1480-1544644800-1544648400@www.pawtuxetrangers.com
SUMMARY:Last Business Meeting for 2018
DESCRIPTION:
URL:https://www.pawtuxetrangers.com/event/last-business-meeting-for-2018/
LOCATION:Armory Hall\, 59 Remington Street\, Warwick\, RI\, 02888\, United States
END:VEVENT
BEGIN:VEVENT
DTSTART;TZID=America/New_York:20181209T160000
DTEND;TZID=America/New_York:20181209T180000
DTSTAMP:20260422T064314
CREATED:20180104T210420Z
LAST-MODIFIED:20180104T210420Z
UID:1406-1544371200-1544378400@www.pawtuxetrangers.com
SUMMARY:Christmas in the Village
DESCRIPTION:
URL:https://www.pawtuxetrangers.com/event/christmas-in-the-village-2/
LOCATION:Trinity Church\, 139 Ocean Avenue\, Cranston\, RI\, 02905\, United States
END:VEVENT
BEGIN:VEVENT
DTSTART;TZID=America/New_York:20181205T200000
DTEND;TZID=America/New_York:20181205T210000
DTSTAMP:20260422T064314
CREATED:20180104T213322Z
LAST-MODIFIED:20180104T213322Z
UID:1478-1544040000-1544043600@www.pawtuxetrangers.com
SUMMARY:Business Meeting
DESCRIPTION:
URL:https://www.pawtuxetrangers.com/event/business-meeting-110/
LOCATION:Armory Hall\, 59 Remington Street\, Warwick\, RI\, 02888\, United States
END:VEVENT
BEGIN:VEVENT
DTSTART;TZID=America/New_York:20181202T160000
DTEND;TZID=America/New_York:20181202T190000
DTSTAMP:20260422T064314
CREATED:20180104T210330Z
LAST-MODIFIED:20180104T210330Z
UID:1404-1543766400-1543777200@www.pawtuxetrangers.com
SUMMARY:Pawtuxet Rangers Holiday Open Armory
DESCRIPTION:
URL:https://www.pawtuxetrangers.com/event/pawtuxet-rangers-holiday-open-armory/
LOCATION:Armory Hall\, 59 Remington Street\, Warwick\, RI\, 02888\, United States
END:VEVENT
BEGIN:VEVENT
DTSTART;TZID=America/New_York:20181201T180000
DTEND;TZID=America/New_York:20181201T193000
DTSTAMP:20260422T064314
CREATED:20180104T210243Z
LAST-MODIFIED:20180104T210243Z
UID:1402-1543687200-1543692600@www.pawtuxetrangers.com
SUMMARY:St. Barbara's Night - Tentative
DESCRIPTION:
URL:https://www.pawtuxetrangers.com/event/st-barbaras-night-tentative-2/
LOCATION:Artillery Cpy Newport\, 23 Clarke St\, Newport\, RI\, United States
END:VEVENT
BEGIN:VEVENT
DTSTART;TZID=America/New_York:20181128T200000
DTEND;TZID=America/New_York:20181128T210000
DTSTAMP:20260422T064314
CREATED:20180104T213248Z
LAST-MODIFIED:20180104T213248Z
UID:1476-1543435200-1543438800@www.pawtuxetrangers.com
SUMMARY:Business Meeting
DESCRIPTION:
URL:https://www.pawtuxetrangers.com/event/business-meeting-109/
LOCATION:Armory Hall\, 59 Remington Street\, Warwick\, RI\, 02888\, United States
END:VEVENT
BEGIN:VEVENT
DTSTART;TZID=America/New_York:20181121T200000
DTEND;TZID=America/New_York:20181121T210000
DTSTAMP:20260422T064314
CREATED:20180104T213214Z
LAST-MODIFIED:20180104T213214Z
UID:1474-1542830400-1542834000@www.pawtuxetrangers.com
SUMMARY:Business Meeting Canceled
DESCRIPTION:
URL:https://www.pawtuxetrangers.com/event/business-meeting-canceled-3/
LOCATION:Armory Hall\, 59 Remington Street\, Warwick\, RI\, 02888\, United States
END:VEVENT
BEGIN:VEVENT
DTSTART;TZID=America/New_York:20181114T200000
DTEND;TZID=America/New_York:20181114T210000
DTSTAMP:20260422T064314
CREATED:20180104T213138Z
LAST-MODIFIED:20180104T213138Z
UID:1472-1542225600-1542229200@www.pawtuxetrangers.com
SUMMARY:Business Meeting
DESCRIPTION:
URL:https://www.pawtuxetrangers.com/event/business-meeting-108/
LOCATION:Armory Hall\, 59 Remington Street\, Warwick\, RI\, 02888\, United States
END:VEVENT
BEGIN:VEVENT
DTSTART;VALUE=DATE:20181113
DTEND;VALUE=DATE:20181117
DTSTAMP:20260422T064314
CREATED:20180104T210158Z
LAST-MODIFIED:20180502T183728Z
UID:1400-1542067200-1542412799@www.pawtuxetrangers.com
SUMMARY:Centennial Legion Annual Meeting - Tentative
DESCRIPTION:
URL:https://www.pawtuxetrangers.com/event/centennial-legion-annual-meeting-tentative/
LOCATION:TBD
END:VEVENT
BEGIN:VEVENT
DTSTART;TZID=America/New_York:20181110T183000
DTEND;TZID=America/New_York:20181110T190000
DTSTAMP:20260422T064314
CREATED:20180913T131834Z
LAST-MODIFIED:20180913T131858Z
UID:1633-1541874600-1541876400@www.pawtuxetrangers.com
SUMMARY:Knights Templar
DESCRIPTION:Colors and Fife & Drum
URL:https://www.pawtuxetrangers.com/event/knights-templar/
LOCATION:Biltmore Hotel\, 11 Dorrance Street\, Providence\, RI\, United States
END:VEVENT
BEGIN:VEVENT
DTSTART;TZID=America/New_York:20181107T200000
DTEND;TZID=America/New_York:20181107T210000
DTSTAMP:20260422T064314
CREATED:20180104T213107Z
LAST-MODIFIED:20180104T213107Z
UID:1470-1541620800-1541624400@www.pawtuxetrangers.com
SUMMARY:Business Meeting
DESCRIPTION:
URL:https://www.pawtuxetrangers.com/event/business-meeting-107/
LOCATION:Armory Hall\, 59 Remington Street\, Warwick\, RI\, 02888\, United States
END:VEVENT
BEGIN:VEVENT
DTSTART;VALUE=DATE:20181101
DTEND;VALUE=DATE:20181102
DTSTAMP:20260422T064314
CREATED:20180308T202134Z
LAST-MODIFIED:20180308T202134Z
UID:1537-1541030400-1541116799@www.pawtuxetrangers.com
SUMMARY:Vietnam Moving Wall
DESCRIPTION:1st Reading – 2/28
URL:https://www.pawtuxetrangers.com/event/vietnam-moving-wall/
LOCATION:TBD
END:VEVENT
BEGIN:VEVENT
DTSTART;TZID=America/New_York:20181031T200000
DTEND;TZID=America/New_York:20181031T210000
DTSTAMP:20260422T064314
CREATED:20180104T213031Z
LAST-MODIFIED:20180104T213031Z
UID:1468-1541016000-1541019600@www.pawtuxetrangers.com
SUMMARY:Business Meeting Canceled
DESCRIPTION:
URL:https://www.pawtuxetrangers.com/event/business-meeting-canceled-2/
LOCATION:Armory Hall\, 59 Remington Street\, Warwick\, RI\, 02888\, United States
END:VEVENT
BEGIN:VEVENT
DTSTART;TZID=America/New_York:20181027T130000
DTEND;TZID=America/New_York:20181027T170000
DTSTAMP:20260422T064314
CREATED:20180129T223052Z
LAST-MODIFIED:20180913T131710Z
UID:1491-1540645200-1540659600@www.pawtuxetrangers.com
SUMMARY:Combat Infantry Association - Color Guard and muskets
DESCRIPTION:1st Reading 2/28 \n2nd Reading 3/14 \nColors and muskets
URL:https://www.pawtuxetrangers.com/event/combat-infantry-association-color-guard/
LOCATION:Westerly Armory\, 41 Railroad Avenue\, Westerly\, RI\, United States
END:VEVENT
BEGIN:VEVENT
DTSTART;TZID=America/New_York:20181027T080000
DTEND;TZID=America/New_York:20181027T120000
DTSTAMP:20260422T064314
CREATED:20180913T131621Z
LAST-MODIFIED:20180913T131621Z
UID:1629-1540627200-1540641600@www.pawtuxetrangers.com
SUMMARY:Greene Cemetery Cleanup
DESCRIPTION:Voluntary
URL:https://www.pawtuxetrangers.com/event/greene-cemetery-cleanup-2/
LOCATION:Greene Cemetery\, 146 Post Road\, Warwick\, RI\, United States
END:VEVENT
BEGIN:VEVENT
DTSTART;TZID=America/New_York:20181024T180000
DTEND;TZID=America/New_York:20181024T210000
DTSTAMP:20260422T064314
CREATED:20180104T210109Z
LAST-MODIFIED:20180104T210109Z
UID:1398-1540404000-1540414800@www.pawtuxetrangers.com
SUMMARY:244th Anniversary Dinner
DESCRIPTION:
URL:https://www.pawtuxetrangers.com/event/244th-anniversary-dinner/
LOCATION:Imperial Room – Shriners\, 1 Rhodes Place\, Cranston\, RI\, United States
END:VEVENT
BEGIN:VEVENT
DTSTART;TZID=America/New_York:20181020T100000
DTEND;TZID=America/New_York:20181020T120000
DTSTAMP:20260422T064314
CREATED:20180104T210007Z
LAST-MODIFIED:20180502T183609Z
UID:1396-1540029600-1540036800@www.pawtuxetrangers.com
SUMMARY:Muster Day
DESCRIPTION:
URL:https://www.pawtuxetrangers.com/event/muster-day-tentative/
LOCATION:Wallum Lake Rod and Gun Club\, 200 Brook Road\, Harrisville\, RI\, United States
END:VEVENT
BEGIN:VEVENT
DTSTART;TZID=America/New_York:20181017T200000
DTEND;TZID=America/New_York:20181017T210000
DTSTAMP:20260422T064314
CREATED:20180104T212944Z
LAST-MODIFIED:20180104T212944Z
UID:1466-1539806400-1539810000@www.pawtuxetrangers.com
SUMMARY:Business Meeting
DESCRIPTION:
URL:https://www.pawtuxetrangers.com/event/business-meeting-106/
LOCATION:Armory Hall\, 59 Remington Street\, Warwick\, RI\, 02888\, United States
END:VEVENT
BEGIN:VEVENT
DTSTART;TZID=America/New_York:20181014T140000
DTEND;TZID=America/New_York:20181014T160000
DTSTAMP:20260422T064314
CREATED:20180913T131434Z
LAST-MODIFIED:20180913T131434Z
UID:1626-1539525600-1539532800@www.pawtuxetrangers.com
SUMMARY:Sons of Liberty Gaspee Slate - Armory Open House
DESCRIPTION:A chance to see the Sons of Liberty Gaspee slate which is now displayed in the armory.
URL:https://www.pawtuxetrangers.com/event/sons-of-liberty-gaspee-slate-armory-open-house/
LOCATION:Armory Hall\, 59 Remington Street\, Warwick\, RI\, 02888\, United States
END:VEVENT
BEGIN:VEVENT
DTSTART;TZID=America/New_York:20181010T200000
DTEND;TZID=America/New_York:20181010T210000
DTSTAMP:20260422T064314
CREATED:20180104T212909Z
LAST-MODIFIED:20180104T212909Z
UID:1464-1539201600-1539205200@www.pawtuxetrangers.com
SUMMARY:Business Meeting
DESCRIPTION:
URL:https://www.pawtuxetrangers.com/event/business-meeting-105/
LOCATION:Armory Hall\, 59 Remington Street\, Warwick\, RI\, 02888\, United States
END:VEVENT
BEGIN:VEVENT
DTSTART;VALUE=DATE:20181007
DTEND;VALUE=DATE:20181008
DTSTAMP:20260422T064314
CREATED:20180104T205920Z
LAST-MODIFIED:20180913T131209Z
UID:1394-1538870400-1538956799@www.pawtuxetrangers.com
SUMMARY:Providence Columbus Day Parade
DESCRIPTION:Approved.
URL:https://www.pawtuxetrangers.com/event/providence-columbus-day-parade-tentative-3/
LOCATION:Providence\, Providence\, RI\, United States
END:VEVENT
BEGIN:VEVENT
DTSTART;TZID=America/New_York:20181006T090000
DTEND;TZID=America/New_York:20181006T110000
DTSTAMP:20260422T064314
CREATED:20180913T130913Z
LAST-MODIFIED:20180913T131044Z
UID:1622-1538816400-1538823600@www.pawtuxetrangers.com
SUMMARY:Armory Work Detail
DESCRIPTION:Voluntary.
URL:https://www.pawtuxetrangers.com/event/armory-work-detail-2/
LOCATION:Armory Hall\, 59 Remington Street\, Warwick\, RI\, 02888\, United States
END:VEVENT
BEGIN:VEVENT
DTSTART;TZID=America/New_York:20181003T200000
DTEND;TZID=America/New_York:20181003T210000
DTSTAMP:20260422T064314
CREATED:20180104T212535Z
LAST-MODIFIED:20180104T212535Z
UID:1462-1538596800-1538600400@www.pawtuxetrangers.com
SUMMARY:Business Meeting
DESCRIPTION:
URL:https://www.pawtuxetrangers.com/event/business-meeting-104/
LOCATION:Armory Hall\, 59 Remington Street\, Warwick\, RI\, 02888\, United States
END:VEVENT
BEGIN:VEVENT
DTSTART;VALUE=DATE:20180929
DTEND;VALUE=DATE:20180930
DTSTAMP:20260422T064314
CREATED:20180104T205833Z
LAST-MODIFIED:20180913T130519Z
UID:1392-1538179200-1538265599@www.pawtuxetrangers.com
SUMMARY:Sudbury Muster
DESCRIPTION:Fife & Drum attending.
URL:https://www.pawtuxetrangers.com/event/sudbury-muster-tentative/
LOCATION:Wayside Inn\, 72 Wayside Inn Road\, Sudbury\, MA\, United States
END:VEVENT
BEGIN:VEVENT
DTSTART;TZID=America/New_York:20180927T183000
DTEND;TZID=America/New_York:20180927T190000
DTSTAMP:20260422T064314
CREATED:20180104T205657Z
LAST-MODIFIED:20180815T134921Z
UID:1387-1538073000-1538074800@www.pawtuxetrangers.com
SUMMARY:Warwick History at Warwick Public Library - Fife & Drum Practice
DESCRIPTION:
URL:https://www.pawtuxetrangers.com/event/armory-talk-at-warwick-public-library/
LOCATION:Warwick Public Library\, 600 Sandy Lane\, Warwick\, RI\, United States
END:VEVENT
BEGIN:VEVENT
DTSTART;TZID=America/New_York:20180926T200000
DTEND;TZID=America/New_York:20180926T210000
DTSTAMP:20260422T064314
CREATED:20180104T212419Z
LAST-MODIFIED:20180104T212419Z
UID:1460-1537992000-1537995600@www.pawtuxetrangers.com
SUMMARY:Business Meeting
DESCRIPTION:
URL:https://www.pawtuxetrangers.com/event/business-meeting-103/
LOCATION:Armory Hall\, 59 Remington Street\, Warwick\, RI\, 02888\, United States
END:VEVENT
BEGIN:VEVENT
DTSTART;TZID=America/New_York:20180923T183000
DTEND;TZID=America/New_York:20180923T190000
DTSTAMP:20260422T064314
CREATED:20180815T134714Z
LAST-MODIFIED:20180913T130327Z
UID:1595-1537727400-1537729200@www.pawtuxetrangers.com
SUMMARY:RI Heritage Hall of Fame Gala
DESCRIPTION:Biltmore Hotel – Reporting time of 1800.
URL:https://www.pawtuxetrangers.com/event/ri-heritage-hall-of-fame-gala-2/
LOCATION:Biltmore Hotel\, 11 Dorrance Street\, Providence\, RI\, United States
END:VEVENT
BEGIN:VEVENT
DTSTART;TZID=America/New_York:20180919T200000
DTEND;TZID=America/New_York:20180919T210000
DTSTAMP:20260422T064314
CREATED:20180104T212347Z
LAST-MODIFIED:20180104T212347Z
UID:1458-1537387200-1537390800@www.pawtuxetrangers.com
SUMMARY:Business Meeting
DESCRIPTION:
URL:https://www.pawtuxetrangers.com/event/business-meeting-102/
LOCATION:Armory Hall\, 59 Remington Street\, Warwick\, RI\, 02888\, United States
END:VEVENT
BEGIN:VEVENT
DTSTART;TZID=America/New_York:20180916T123000
DTEND;TZID=America/New_York:20180916T153000
DTSTAMP:20260422T064314
CREATED:20180815T134439Z
LAST-MODIFIED:20180913T130208Z
UID:1592-1537101000-1537111800@www.pawtuxetrangers.com
SUMMARY:Taste of Lemongrass Fundraiser
DESCRIPTION:$25/ticket. All proceeds go to the Building Fund.\nemail pawtuxetrangers@aol.com for tickets or more information.
URL:https://www.pawtuxetrangers.com/event/taste-of-lemongrass-fundraiser/
LOCATION:Lemongrass Asian Bistro\, 1138 Post Road\, Warwick\, RI\, United States
END:VEVENT
BEGIN:VEVENT
DTSTART;TZID=America/New_York:20180913T120000
DTEND;TZID=America/New_York:20180913T123000
DTSTAMP:20260422T064314
CREATED:20180913T130744Z
LAST-MODIFIED:20180913T130744Z
UID:1618-1536840000-1536841800@www.pawtuxetrangers.com
SUMMARY:McBride's 0K
DESCRIPTION:Voluntary. Musket detail needed. Reporting time 1145.
URL:https://www.pawtuxetrangers.com/event/mcbrides-0k/
LOCATION:McBride’s Pub\, 161 Wayland Avenue\, Providence\, RI\, United States
END:VEVENT
END:VCALENDAR