BEGIN:VCALENDAR
VERSION:2.0
PRODID:-//PAWTUXET RANGERS, RIHM  - 1774 - ECPv6.15.20//NONSGML v1.0//EN
CALSCALE:GREGORIAN
METHOD:PUBLISH
X-WR-CALNAME:PAWTUXET RANGERS, RIHM  - 1774
X-ORIGINAL-URL:https://www.pawtuxetrangers.com
X-WR-CALDESC:Events for PAWTUXET RANGERS, RIHM  - 1774
REFRESH-INTERVAL;VALUE=DURATION:PT1H
X-Robots-Tag:noindex
X-PUBLISHED-TTL:PT1H
BEGIN:VTIMEZONE
TZID:America/New_York
BEGIN:DAYLIGHT
TZOFFSETFROM:-0500
TZOFFSETTO:-0400
TZNAME:EDT
DTSTART:20170312T070000
END:DAYLIGHT
BEGIN:STANDARD
TZOFFSETFROM:-0400
TZOFFSETTO:-0500
TZNAME:EST
DTSTART:20171105T060000
END:STANDARD
BEGIN:DAYLIGHT
TZOFFSETFROM:-0500
TZOFFSETTO:-0400
TZNAME:EDT
DTSTART:20180311T070000
END:DAYLIGHT
BEGIN:STANDARD
TZOFFSETFROM:-0400
TZOFFSETTO:-0500
TZNAME:EST
DTSTART:20181104T060000
END:STANDARD
BEGIN:DAYLIGHT
TZOFFSETFROM:-0500
TZOFFSETTO:-0400
TZNAME:EDT
DTSTART:20190310T070000
END:DAYLIGHT
BEGIN:STANDARD
TZOFFSETFROM:-0400
TZOFFSETTO:-0500
TZNAME:EST
DTSTART:20191103T060000
END:STANDARD
BEGIN:DAYLIGHT
TZOFFSETFROM:-0500
TZOFFSETTO:-0400
TZNAME:EDT
DTSTART:20200308T070000
END:DAYLIGHT
BEGIN:STANDARD
TZOFFSETFROM:-0400
TZOFFSETTO:-0500
TZNAME:EST
DTSTART:20201101T060000
END:STANDARD
END:VTIMEZONE
BEGIN:VEVENT
DTSTART;TZID=America/New_York:20190413T090000
DTEND;TZID=America/New_York:20190413T130000
DTSTAMP:20260422T064226
CREATED:20190110T202045Z
LAST-MODIFIED:20190321T122758Z
UID:1675-1555146000-1555160400@www.pawtuxetrangers.com
SUMMARY:Second Corps of Cadets First Muster - Salem\, MA
DESCRIPTION:1st Reading – 3/10
URL:https://www.pawtuxetrangers.com/event/second-corps-of-cadets-first-muster-salem-ma/
LOCATION:Salem Common\, N. Washington Square\, Salem\, MA\, MA\, United States
END:VEVENT
BEGIN:VEVENT
DTSTART;TZID=America/New_York:20190410T200000
DTEND;TZID=America/New_York:20190410T210000
DTSTAMP:20260422T064226
CREATED:20190110T202143Z
LAST-MODIFIED:20190110T202143Z
UID:1677-1554926400-1554930000@www.pawtuxetrangers.com
SUMMARY:Annual Meeting of the Company
DESCRIPTION:
URL:https://www.pawtuxetrangers.com/event/annual-meeting-of-the-company-4/
LOCATION:Armory Hall\, 59 Remington Street\, Warwick\, RI\, 02888\, United States
END:VEVENT
BEGIN:VEVENT
DTSTART;VALUE=DATE:20190406
DTEND;VALUE=DATE:20190407
DTSTAMP:20260422T064226
CREATED:20190321T122424Z
LAST-MODIFIED:20190321T122424Z
UID:1841-1554508800-1554595199@www.pawtuxetrangers.com
SUMMARY:Honor Flight - Tentative
DESCRIPTION:Honor our Veterans as they depart for and/or arrive home from a trip to Washington DC.
URL:https://www.pawtuxetrangers.com/event/honor-flight-tentative/
LOCATION:TF Green Airport\, 2000 Post Road \, Warwick\, RI\, United States
END:VEVENT
BEGIN:VEVENT
DTSTART;TZID=America/New_York:20190403T200000
DTEND;TZID=America/New_York:20190403T210000
DTSTAMP:20260422T064226
CREATED:20190110T201926Z
LAST-MODIFIED:20190110T201926Z
UID:1673-1554321600-1554325200@www.pawtuxetrangers.com
SUMMARY:Business Meeting
DESCRIPTION:
URL:https://www.pawtuxetrangers.com/event/business-meeting-116/
LOCATION:Armory Hall\, 59 Remington Street\, Warwick\, RI\, 02888\, United States
END:VEVENT
BEGIN:VEVENT
DTSTART;TZID=America/New_York:20190330T100000
DTEND;TZID=America/New_York:20190330T120000
DTSTAMP:20260422T064226
CREATED:20190321T122225Z
LAST-MODIFIED:20190321T122225Z
UID:1839-1553940000-1553947200@www.pawtuxetrangers.com
SUMMARY:Armory Work Detail
DESCRIPTION:Lend a hand to clean and neaten up the building and grounds.
URL:https://www.pawtuxetrangers.com/event/armory-work-detail-3/
LOCATION:Armory Hall\, 59 Remington Street\, Warwick\, RI\, 02888\, United States
END:VEVENT
BEGIN:VEVENT
DTSTART;TZID=America/New_York:20190327T200000
DTEND;TZID=America/New_York:20190327T210000
DTSTAMP:20260422T064226
CREATED:20190110T201748Z
LAST-MODIFIED:20190110T201748Z
UID:1670-1553716800-1553720400@www.pawtuxetrangers.com
SUMMARY:Business Meeting
DESCRIPTION:
URL:https://www.pawtuxetrangers.com/event/business-meeting-115/
LOCATION:Armory Hall\, 59 Remington Street\, Warwick\, RI\, 02888\, United States
END:VEVENT
BEGIN:VEVENT
DTSTART;TZID=America/New_York:20190327T190000
DTEND;TZID=America/New_York:20190327T200000
DTSTAMP:20260422T064226
CREATED:20190110T201711Z
LAST-MODIFIED:20190321T122009Z
UID:1668-1553713200-1553716800@www.pawtuxetrangers.com
SUMMARY:End of Month Dinner
DESCRIPTION:Chicken Dinner on the grill. RSVP to the Adjutant.
URL:https://www.pawtuxetrangers.com/event/end-of-month-dinner-11/
LOCATION:Armory Hall\, 59 Remington Street\, Warwick\, RI\, 02888\, United States
END:VEVENT
BEGIN:VEVENT
DTSTART;TZID=America/New_York:20190320T200000
DTEND;TZID=America/New_York:20190320T210000
DTSTAMP:20260422T064226
CREATED:20190110T201514Z
LAST-MODIFIED:20190110T201514Z
UID:1665-1553112000-1553115600@www.pawtuxetrangers.com
SUMMARY:Business Meeting
DESCRIPTION:
URL:https://www.pawtuxetrangers.com/event/business-meeting-114/
LOCATION:Armory Hall\, 59 Remington Street\, Warwick\, RI\, 02888\, United States
END:VEVENT
BEGIN:VEVENT
DTSTART;TZID=America/New_York:20190317T130000
DTEND;TZID=America/New_York:20190317T150000
DTSTAMP:20260422T064226
CREATED:20190110T201435Z
LAST-MODIFIED:20190226T165208Z
UID:1663-1552827600-1552834800@www.pawtuxetrangers.com
SUMMARY:West Warwick St. Patrick's Day Parade
DESCRIPTION:1st Reading – 2/27
URL:https://www.pawtuxetrangers.com/event/west-warwick-st-patricks-day-parade-3/
LOCATION:Ianotti’s Funeral Home\, 415 Washington St\, Coventry\, RI\, United States
END:VEVENT
BEGIN:VEVENT
DTSTART;TZID=America/New_York:20190313T200000
DTEND;TZID=America/New_York:20190313T210000
DTSTAMP:20260422T064226
CREATED:20190110T201314Z
LAST-MODIFIED:20190110T201314Z
UID:1661-1552507200-1552510800@www.pawtuxetrangers.com
SUMMARY:Business Meeting
DESCRIPTION:
URL:https://www.pawtuxetrangers.com/event/business-meeting-113/
LOCATION:Armory Hall\, 59 Remington Street\, Warwick\, RI\, 02888\, United States
END:VEVENT
BEGIN:VEVENT
DTSTART;TZID=America/New_York:20190309T120000
DTEND;TZID=America/New_York:20190309T140000
DTSTAMP:20260422T064226
CREATED:20190110T201228Z
LAST-MODIFIED:20190110T201228Z
UID:1659-1552132800-1552140000@www.pawtuxetrangers.com
SUMMARY:Providence St. Patrick's Day Parade
DESCRIPTION:1st Reading – 2/27
URL:https://www.pawtuxetrangers.com/event/providence-st-patricks-day-parade-3/
LOCATION:Providence\, Providence\, RI\, United States
END:VEVENT
BEGIN:VEVENT
DTSTART;TZID=America/New_York:20190306T200000
DTEND;TZID=America/New_York:20190306T210000
DTSTAMP:20260422T064226
CREATED:20190110T201031Z
LAST-MODIFIED:20190110T201031Z
UID:1657-1551902400-1551906000@www.pawtuxetrangers.com
SUMMARY:Business Meeting
DESCRIPTION:
URL:https://www.pawtuxetrangers.com/event/business-meeting-112/
LOCATION:Armory Hall\, 59 Remington Street\, Warwick\, RI\, 02888\, United States
END:VEVENT
BEGIN:VEVENT
DTSTART;TZID=America/New_York:20190302T120000
DTEND;TZID=America/New_York:20190302T130000
DTSTAMP:20260422T064226
CREATED:20190110T200947Z
LAST-MODIFIED:20190110T200947Z
UID:1654-1551528000-1551531600@www.pawtuxetrangers.com
SUMMARY:Pawtucket St. Patrick's Day Parade
DESCRIPTION:1st Reading 2/27
URL:https://www.pawtuxetrangers.com/event/pawtucket-st-patricks-day-parade/
LOCATION:Pawtucket\, Pawtucket\, RI\, United States
END:VEVENT
BEGIN:VEVENT
DTSTART;TZID=America/New_York:20190227T200000
DTEND;TZID=America/New_York:20190227T210000
DTSTAMP:20260422T064226
CREATED:20190110T200746Z
LAST-MODIFIED:20190110T200746Z
UID:1652-1551297600-1551301200@www.pawtuxetrangers.com
SUMMARY:Business Meeting
DESCRIPTION:
URL:https://www.pawtuxetrangers.com/event/business-meeting-111/
LOCATION:Armory Hall\, 59 Remington Street\, Warwick\, RI\, 02888\, United States
END:VEVENT
BEGIN:VEVENT
DTSTART;TZID=America/New_York:20190227T190000
DTEND;TZID=America/New_York:20190227T200000
DTSTAMP:20260422T064226
CREATED:20190110T200703Z
LAST-MODIFIED:20190110T200703Z
UID:1650-1551294000-1551297600@www.pawtuxetrangers.com
SUMMARY:First Dinner/Business Meeting of 2019
DESCRIPTION:Dinner
URL:https://www.pawtuxetrangers.com/event/first-dinnerbusiness-meeting-of-2019/
LOCATION:Armory Hall\, 59 Remington Street\, Warwick\, RI\, 02888\, United States
END:VEVENT
BEGIN:VEVENT
DTSTART;TZID=America/New_York:20190202T160000
DTEND;TZID=America/New_York:20190202T200000
DTSTAMP:20260422T064226
CREATED:20190110T200533Z
LAST-MODIFIED:20190110T200550Z
UID:1646-1549123200-1549137600@www.pawtuxetrangers.com
SUMMARY:Jonnie Jam
DESCRIPTION:Fife & Drum Jam – Sea Shanties – Food – Fellowship!
URL:https://www.pawtuxetrangers.com/event/jonnie-jam-2/
LOCATION:Aspray Boat House\, 2 East View Street\, Warwick\, RI\, United States
END:VEVENT
BEGIN:VEVENT
DTSTART;TZID=America/New_York:20190108T180000
DTEND;TZID=America/New_York:20190108T183000
DTSTAMP:20260422T064226
CREATED:20190110T152313Z
LAST-MODIFIED:20190110T152313Z
UID:1643-1546970400-1546972200@www.pawtuxetrangers.com
SUMMARY:Warwick Mayor's Inauguration
DESCRIPTION:
URL:https://www.pawtuxetrangers.com/event/warwick-mayors-inauguration/
LOCATION:Crowne Plaza Hotel\, 801 Greenwich Avenue\, Warwick\, RI\, United States
END:VEVENT
BEGIN:VEVENT
DTSTART;TZID=America/New_York:20190101T120000
DTEND;TZID=America/New_York:20190101T130000
DTSTAMP:20260422T064226
CREATED:20190110T152119Z
LAST-MODIFIED:20190110T152119Z
UID:1641-1546344000-1546347600@www.pawtuxetrangers.com
SUMMARY:Governor's Inauguration
DESCRIPTION:
URL:https://www.pawtuxetrangers.com/event/governors-inauguration/
LOCATION:RI State House\, 82 Smith Street\, Providence\, RI\, 02903\, United States
END:VEVENT
BEGIN:VEVENT
DTSTART;TZID=America/New_York:20181212T200000
DTEND;TZID=America/New_York:20181212T210000
DTSTAMP:20260422T064226
CREATED:20180104T213401Z
LAST-MODIFIED:20180104T213401Z
UID:1480-1544644800-1544648400@www.pawtuxetrangers.com
SUMMARY:Last Business Meeting for 2018
DESCRIPTION:
URL:https://www.pawtuxetrangers.com/event/last-business-meeting-for-2018/
LOCATION:Armory Hall\, 59 Remington Street\, Warwick\, RI\, 02888\, United States
END:VEVENT
BEGIN:VEVENT
DTSTART;TZID=America/New_York:20181209T160000
DTEND;TZID=America/New_York:20181209T180000
DTSTAMP:20260422T064226
CREATED:20180104T210420Z
LAST-MODIFIED:20180104T210420Z
UID:1406-1544371200-1544378400@www.pawtuxetrangers.com
SUMMARY:Christmas in the Village
DESCRIPTION:
URL:https://www.pawtuxetrangers.com/event/christmas-in-the-village-2/
LOCATION:Trinity Church\, 139 Ocean Avenue\, Cranston\, RI\, 02905\, United States
END:VEVENT
BEGIN:VEVENT
DTSTART;TZID=America/New_York:20181205T200000
DTEND;TZID=America/New_York:20181205T210000
DTSTAMP:20260422T064226
CREATED:20180104T213322Z
LAST-MODIFIED:20180104T213322Z
UID:1478-1544040000-1544043600@www.pawtuxetrangers.com
SUMMARY:Business Meeting
DESCRIPTION:
URL:https://www.pawtuxetrangers.com/event/business-meeting-110/
LOCATION:Armory Hall\, 59 Remington Street\, Warwick\, RI\, 02888\, United States
END:VEVENT
BEGIN:VEVENT
DTSTART;TZID=America/New_York:20181202T160000
DTEND;TZID=America/New_York:20181202T190000
DTSTAMP:20260422T064226
CREATED:20180104T210330Z
LAST-MODIFIED:20180104T210330Z
UID:1404-1543766400-1543777200@www.pawtuxetrangers.com
SUMMARY:Pawtuxet Rangers Holiday Open Armory
DESCRIPTION:
URL:https://www.pawtuxetrangers.com/event/pawtuxet-rangers-holiday-open-armory/
LOCATION:Armory Hall\, 59 Remington Street\, Warwick\, RI\, 02888\, United States
END:VEVENT
BEGIN:VEVENT
DTSTART;TZID=America/New_York:20181201T180000
DTEND;TZID=America/New_York:20181201T193000
DTSTAMP:20260422T064226
CREATED:20180104T210243Z
LAST-MODIFIED:20180104T210243Z
UID:1402-1543687200-1543692600@www.pawtuxetrangers.com
SUMMARY:St. Barbara's Night - Tentative
DESCRIPTION:
URL:https://www.pawtuxetrangers.com/event/st-barbaras-night-tentative-2/
LOCATION:Artillery Cpy Newport\, 23 Clarke St\, Newport\, RI\, United States
END:VEVENT
BEGIN:VEVENT
DTSTART;TZID=America/New_York:20181128T200000
DTEND;TZID=America/New_York:20181128T210000
DTSTAMP:20260422T064226
CREATED:20180104T213248Z
LAST-MODIFIED:20180104T213248Z
UID:1476-1543435200-1543438800@www.pawtuxetrangers.com
SUMMARY:Business Meeting
DESCRIPTION:
URL:https://www.pawtuxetrangers.com/event/business-meeting-109/
LOCATION:Armory Hall\, 59 Remington Street\, Warwick\, RI\, 02888\, United States
END:VEVENT
BEGIN:VEVENT
DTSTART;TZID=America/New_York:20181121T200000
DTEND;TZID=America/New_York:20181121T210000
DTSTAMP:20260422T064226
CREATED:20180104T213214Z
LAST-MODIFIED:20180104T213214Z
UID:1474-1542830400-1542834000@www.pawtuxetrangers.com
SUMMARY:Business Meeting Canceled
DESCRIPTION:
URL:https://www.pawtuxetrangers.com/event/business-meeting-canceled-3/
LOCATION:Armory Hall\, 59 Remington Street\, Warwick\, RI\, 02888\, United States
END:VEVENT
BEGIN:VEVENT
DTSTART;TZID=America/New_York:20181114T200000
DTEND;TZID=America/New_York:20181114T210000
DTSTAMP:20260422T064226
CREATED:20180104T213138Z
LAST-MODIFIED:20180104T213138Z
UID:1472-1542225600-1542229200@www.pawtuxetrangers.com
SUMMARY:Business Meeting
DESCRIPTION:
URL:https://www.pawtuxetrangers.com/event/business-meeting-108/
LOCATION:Armory Hall\, 59 Remington Street\, Warwick\, RI\, 02888\, United States
END:VEVENT
BEGIN:VEVENT
DTSTART;VALUE=DATE:20181113
DTEND;VALUE=DATE:20181117
DTSTAMP:20260422T064226
CREATED:20180104T210158Z
LAST-MODIFIED:20180502T183728Z
UID:1400-1542067200-1542412799@www.pawtuxetrangers.com
SUMMARY:Centennial Legion Annual Meeting - Tentative
DESCRIPTION:
URL:https://www.pawtuxetrangers.com/event/centennial-legion-annual-meeting-tentative/
LOCATION:TBD
END:VEVENT
BEGIN:VEVENT
DTSTART;TZID=America/New_York:20181110T183000
DTEND;TZID=America/New_York:20181110T190000
DTSTAMP:20260422T064226
CREATED:20180913T131834Z
LAST-MODIFIED:20180913T131858Z
UID:1633-1541874600-1541876400@www.pawtuxetrangers.com
SUMMARY:Knights Templar
DESCRIPTION:Colors and Fife & Drum
URL:https://www.pawtuxetrangers.com/event/knights-templar/
LOCATION:Biltmore Hotel\, 11 Dorrance Street\, Providence\, RI\, United States
END:VEVENT
BEGIN:VEVENT
DTSTART;TZID=America/New_York:20181107T200000
DTEND;TZID=America/New_York:20181107T210000
DTSTAMP:20260422T064226
CREATED:20180104T213107Z
LAST-MODIFIED:20180104T213107Z
UID:1470-1541620800-1541624400@www.pawtuxetrangers.com
SUMMARY:Business Meeting
DESCRIPTION:
URL:https://www.pawtuxetrangers.com/event/business-meeting-107/
LOCATION:Armory Hall\, 59 Remington Street\, Warwick\, RI\, 02888\, United States
END:VEVENT
BEGIN:VEVENT
DTSTART;VALUE=DATE:20181101
DTEND;VALUE=DATE:20181102
DTSTAMP:20260422T064226
CREATED:20180308T202134Z
LAST-MODIFIED:20180308T202134Z
UID:1537-1541030400-1541116799@www.pawtuxetrangers.com
SUMMARY:Vietnam Moving Wall
DESCRIPTION:1st Reading – 2/28
URL:https://www.pawtuxetrangers.com/event/vietnam-moving-wall/
LOCATION:TBD
END:VEVENT
END:VCALENDAR