BEGIN:VCALENDAR
VERSION:2.0
PRODID:-//PAWTUXET RANGERS, RIHM  - 1774 - ECPv6.15.20//NONSGML v1.0//EN
CALSCALE:GREGORIAN
METHOD:PUBLISH
X-ORIGINAL-URL:https://www.pawtuxetrangers.com
X-WR-CALDESC:Events for PAWTUXET RANGERS, RIHM  - 1774
REFRESH-INTERVAL;VALUE=DURATION:PT1H
X-Robots-Tag:noindex
X-PUBLISHED-TTL:PT1H
BEGIN:VTIMEZONE
TZID:America/New_York
BEGIN:DAYLIGHT
TZOFFSETFROM:-0500
TZOFFSETTO:-0400
TZNAME:EDT
DTSTART:20180311T070000
END:DAYLIGHT
BEGIN:STANDARD
TZOFFSETFROM:-0400
TZOFFSETTO:-0500
TZNAME:EST
DTSTART:20181104T060000
END:STANDARD
BEGIN:DAYLIGHT
TZOFFSETFROM:-0500
TZOFFSETTO:-0400
TZNAME:EDT
DTSTART:20190310T070000
END:DAYLIGHT
BEGIN:STANDARD
TZOFFSETFROM:-0400
TZOFFSETTO:-0500
TZNAME:EST
DTSTART:20191103T060000
END:STANDARD
BEGIN:DAYLIGHT
TZOFFSETFROM:-0500
TZOFFSETTO:-0400
TZNAME:EDT
DTSTART:20200308T070000
END:DAYLIGHT
BEGIN:STANDARD
TZOFFSETFROM:-0400
TZOFFSETTO:-0500
TZNAME:EST
DTSTART:20201101T060000
END:STANDARD
END:VTIMEZONE
BEGIN:VEVENT
DTSTART;TZID=America/New_York:20190527T090000
DTEND;TZID=America/New_York:20190527T110000
DTSTAMP:20260421T200058
CREATED:20190110T203947Z
LAST-MODIFIED:20190516T124908Z
UID:1712-1558947600-1558954800@www.pawtuxetrangers.com
SUMMARY:Barrington Memorial Day Parade
DESCRIPTION:1st Reading – 2/27.\n2nd Reading – 3/6.\nApproved. \nMeet at armory at 0715 to load the cannon trailer.
URL:https://www.pawtuxetrangers.com/event/barrington-memorial-day-parade/
LOCATION:Barrington High School\, 220 Lincoln Avenue\, Barrington\, RI\, United States
END:VEVENT
BEGIN:VEVENT
DTSTART;TZID=America/New_York:20190526T140000
DTEND;TZID=America/New_York:20190526T150000
DTSTAMP:20260421T200058
CREATED:20190110T203734Z
LAST-MODIFIED:20190515T214240Z
UID:1708-1558879200-1558882800@www.pawtuxetrangers.com
SUMMARY:Exeter Memorial Day Parade
DESCRIPTION:1st Reading – 3/13\n2nd Reading – 3/20\nApproved.
URL:https://www.pawtuxetrangers.com/event/exeter-memorial-day-parade-4/
LOCATION:Exeter\, Sunderland Rd and Route 102\, Exeter\, RI\, United States
END:VEVENT
BEGIN:VEVENT
DTSTART;VALUE=DATE:20190525
DTEND;VALUE=DATE:20190528
DTSTAMP:20260421T200058
CREATED:20190110T203834Z
LAST-MODIFIED:20190110T203834Z
UID:1710-1558742400-1559001599@www.pawtuxetrangers.com
SUMMARY:Recruiting Booth
DESCRIPTION:
URL:https://www.pawtuxetrangers.com/event/recruiting-booth-2/
LOCATION:Pawtuxet Park\, E. View Street\, Warwick\, RI\, 02888\, United States
END:VEVENT
BEGIN:VEVENT
DTSTART;TZID=America/New_York:20190522T200000
DTEND;TZID=America/New_York:20190522T210000
DTSTAMP:20260421T200058
CREATED:20190110T203615Z
LAST-MODIFIED:20190110T203615Z
UID:1706-1558555200-1558558800@www.pawtuxetrangers.com
SUMMARY:Business Meeting
DESCRIPTION:
URL:https://www.pawtuxetrangers.com/event/business-meeting-122/
LOCATION:Armory Hall\, 59 Remington Street\, Warwick\, RI\, 02888\, United States
END:VEVENT
BEGIN:VEVENT
DTSTART;TZID=America/New_York:20190518T130000
DTEND;TZID=America/New_York:20190518T160000
DTSTAMP:20260421T200058
CREATED:20190110T203506Z
LAST-MODIFIED:20190110T203506Z
UID:1704-1558184400-1558195200@www.pawtuxetrangers.com
SUMMARY:Pawtuxet Village Walking Tours
DESCRIPTION:Tentative
URL:https://www.pawtuxetrangers.com/event/pawtuxet-village-walking-tours-2/
LOCATION:Pawtuxet Park\, E. View Street\, Warwick\, RI\, 02888\, United States
END:VEVENT
BEGIN:VEVENT
DTSTART;TZID=America/New_York:20190518T120000
DTEND;TZID=America/New_York:20190518T123000
DTSTAMP:20260421T200058
CREATED:20190110T203408Z
LAST-MODIFIED:20190110T203408Z
UID:1702-1558180800-1558182600@www.pawtuxetrangers.com
SUMMARY:Gaspee Proclamation
DESCRIPTION:Tentative
URL:https://www.pawtuxetrangers.com/event/gaspee-proclamation-3/
LOCATION:Pawtuxet Park\, E. View Street\, Warwick\, RI\, 02888\, United States
END:VEVENT
BEGIN:VEVENT
DTSTART;TZID=America/New_York:20190518T100000
DTEND;TZID=America/New_York:20190518T110000
DTSTAMP:20260421T200058
CREATED:20190110T203316Z
LAST-MODIFIED:20190321T123715Z
UID:1700-1558173600-1558177200@www.pawtuxetrangers.com
SUMMARY:Edgewood Yacht Club Opening Day
DESCRIPTION:1st Reading 3/13\n2nd Reading 3/20\nApproved.
URL:https://www.pawtuxetrangers.com/event/edgewood-yacht-club-opening-day-2/
LOCATION:Edgewood Yacht Club\, 3 Shaw Avenue\, Cranston\, RI\, 02905\, United States
END:VEVENT
BEGIN:VEVENT
DTSTART;TZID=America/New_York:20190515T200000
DTEND;TZID=America/New_York:20190515T210000
DTSTAMP:20260421T200058
CREATED:20190110T203218Z
LAST-MODIFIED:20190110T203218Z
UID:1698-1557950400-1557954000@www.pawtuxetrangers.com
SUMMARY:Business Meeting
DESCRIPTION:
URL:https://www.pawtuxetrangers.com/event/business-meeting-121/
LOCATION:Armory Hall\, 59 Remington Street\, Warwick\, RI\, 02888\, United States
END:VEVENT
BEGIN:VEVENT
DTSTART;VALUE=DATE:20190515
DTEND;VALUE=DATE:20190516
DTSTAMP:20260421T200058
CREATED:20190515T220116Z
LAST-MODIFIED:20190515T220116Z
UID:1898-1557878400-1557964799@www.pawtuxetrangers.com
SUMMARY:St. Mary's Feast Parade
DESCRIPTION:1st Reading – 5/8/19\n2nd Reading – 5/15/19
URL:https://www.pawtuxetrangers.com/event/st-marys-feast-parade/
LOCATION:St. Mary’s Church\, 1525 Cranston Street\, Cranston\, RI\, United States
END:VEVENT
BEGIN:VEVENT
DTSTART;TZID=America/New_York:20190510T190000
DTEND;TZID=America/New_York:20190510T193000
DTSTAMP:20260421T200058
CREATED:20190419T144845Z
LAST-MODIFIED:20190419T144845Z
UID:1873-1557514800-1557516600@www.pawtuxetrangers.com
SUMMARY:MOOF - Change of Command Ceremony
DESCRIPTION:1st Reading 4/10\n2nd Reading 4/17 – Approved Color Guard
URL:https://www.pawtuxetrangers.com/event/moof-change-of-command-ceremony/
LOCATION:Quonset O Club\, 200 Lt. James Brown Road\, North Kingstown\, RI\, United States
END:VEVENT
BEGIN:VEVENT
DTSTART;TZID=America/New_York:20190508T200000
DTEND;TZID=America/New_York:20190508T210000
DTSTAMP:20260421T200058
CREATED:20190110T203136Z
LAST-MODIFIED:20190110T203136Z
UID:1696-1557345600-1557349200@www.pawtuxetrangers.com
SUMMARY:Business Meeting
DESCRIPTION:
URL:https://www.pawtuxetrangers.com/event/business-meeting-120/
LOCATION:Armory Hall\, 59 Remington Street\, Warwick\, RI\, 02888\, United States
END:VEVENT
BEGIN:VEVENT
DTSTART;TZID=America/New_York:20190508T180000
DTEND;TZID=America/New_York:20190508T180000
DTSTAMP:20260421T200058
CREATED:20190321T123619Z
LAST-MODIFIED:20190321T123619Z
UID:1851-1557338400-1557338400@www.pawtuxetrangers.com
SUMMARY:Heritage Hall of Fame ceremony opening
DESCRIPTION:1st Reading 3/13\n2nd Reading 3/20\nApproved.\nColors and fife & drum \nReporting time 1730.
URL:https://www.pawtuxetrangers.com/event/heritage-hall-of-fame-ceremony-opening/
LOCATION:Crowne Plaza Hotel\, 801 Greenwich Avenue\, Warwick\, RI\, United States
END:VEVENT
BEGIN:VEVENT
DTSTART;TZID=America/New_York:20190505T140000
DTEND;TZID=America/New_York:20190505T143000
DTSTAMP:20260421T200058
CREATED:20190110T203042Z
LAST-MODIFIED:20190501T144031Z
UID:1693-1557064800-1557066600@www.pawtuxetrangers.com
SUMMARY:Cranston Historic Cemetery #36 Ceremony
DESCRIPTION:Click here for the CR36Flyer \n1st Reading 2/27\n2nd Reading 3/20\nApproved.  \nReception at the armory to follow.
URL:https://www.pawtuxetrangers.com/event/cranston-historic-cemetery-36-ceremony/
LOCATION:Cranston Cemetery #36\, 283 Park Ave\, Cranston\, RI\, United States
END:VEVENT
BEGIN:VEVENT
DTSTART;VALUE=DATE:20190504
DTEND;VALUE=DATE:20190505
DTSTAMP:20260421T200058
CREATED:20190110T202708Z
LAST-MODIFIED:20190321T123349Z
UID:1690-1556928000-1557014399@www.pawtuxetrangers.com
SUMMARY:Lexington Muster
DESCRIPTION:1st Reading – 2/27\n2nd Reading – 3/20\nApproved.
URL:https://www.pawtuxetrangers.com/event/lexington-muster-2/
LOCATION:Lexington\, MA\, Lexington\, MA\, United States
END:VEVENT
BEGIN:VEVENT
DTSTART;TZID=America/New_York:20190501T200000
DTEND;TZID=America/New_York:20190501T210000
DTSTAMP:20260421T200058
CREATED:20190110T202604Z
LAST-MODIFIED:20190110T202604Z
UID:1688-1556740800-1556744400@www.pawtuxetrangers.com
SUMMARY:Business Meeting
DESCRIPTION:
URL:https://www.pawtuxetrangers.com/event/business-meeting-119/
LOCATION:Armory Hall\, 59 Remington Street\, Warwick\, RI\, 02888\, United States
END:VEVENT
BEGIN:VEVENT
DTSTART;TZID=America/New_York:20190501T183000
DTEND;TZID=America/New_York:20190501T200000
DTSTAMP:20260421T200058
CREATED:20190501T144457Z
LAST-MODIFIED:20190501T144457Z
UID:1881-1556735400-1556740800@www.pawtuxetrangers.com
SUMMARY:Joint drill with the Varnum Continentals
DESCRIPTION:
URL:https://www.pawtuxetrangers.com/event/joint-drill-with-the-varnum-continentals/
LOCATION:Varnum Armory\, 6 Main Street\, East Greenwich\, RI\, United States
END:VEVENT
BEGIN:VEVENT
DTSTART;TZID=America/New_York:20190501T180000
DTEND;TZID=America/New_York:20190501T190000
DTSTAMP:20260421T200058
CREATED:20190321T123248Z
LAST-MODIFIED:20190321T123248Z
UID:1847-1556733600-1556737200@www.pawtuxetrangers.com
SUMMARY:Cub Scout Pack Armory Visit
DESCRIPTION:Cub Scouts will be visiting the armory to learn some history and military drill with the Rangers.
URL:https://www.pawtuxetrangers.com/event/cub-scout-pack-armory-visit/
LOCATION:Armory Hall\, 59 Remington Street\, Warwick\, RI\, 02888\, United States
END:VEVENT
BEGIN:VEVENT
DTSTART;TZID=America/New_York:20190501T150000
DTEND;TZID=America/New_York:20190501T160000
DTSTAMP:20260421T200058
CREATED:20190321T123047Z
LAST-MODIFIED:20190321T123047Z
UID:1845-1556722800-1556726400@www.pawtuxetrangers.com
SUMMARY:Wyman School Visit
DESCRIPTION:Col Barnes will be visiting with the Walking Tour students.
URL:https://www.pawtuxetrangers.com/event/wyman-school-visit/
LOCATION:Wyman School\, 1 Columbia Avenue\, Warwick\, RI\, United States
END:VEVENT
BEGIN:VEVENT
DTSTART;TZID=America/New_York:20190427T080000
DTEND;TZID=America/New_York:20190427T120000
DTSTAMP:20260421T200058
CREATED:20190110T202323Z
LAST-MODIFIED:20190419T144615Z
UID:1681-1556352000-1556366400@www.pawtuxetrangers.com
SUMMARY:Earth Day Cemetery Cleanup - Greene Cemetery
DESCRIPTION:
URL:https://www.pawtuxetrangers.com/event/earth-day-cemetery-cleanup-greene-cemetery/
LOCATION:Greene Cemetery\, 146 Post Road\, Warwick\, RI\, United States
END:VEVENT
BEGIN:VEVENT
DTSTART;TZID=America/New_York:20190424T200000
DTEND;TZID=America/New_York:20190424T210000
DTSTAMP:20260421T200058
CREATED:20190110T202503Z
LAST-MODIFIED:20190110T202503Z
UID:1685-1556136000-1556139600@www.pawtuxetrangers.com
SUMMARY:Business Meeting
DESCRIPTION:
URL:https://www.pawtuxetrangers.com/event/business-meeting-118/
LOCATION:Armory Hall\, 59 Remington Street\, Warwick\, RI\, 02888\, United States
END:VEVENT
BEGIN:VEVENT
DTSTART;TZID=America/New_York:20190424T190000
DTEND;TZID=America/New_York:20190424T200000
DTSTAMP:20260421T200058
CREATED:20190110T202417Z
LAST-MODIFIED:20190110T202417Z
UID:1683-1556132400-1556136000@www.pawtuxetrangers.com
SUMMARY:End of Month Dinner
DESCRIPTION:
URL:https://www.pawtuxetrangers.com/event/end-of-month-dinner-12/
LOCATION:Armory Hall\, 59 Remington Street\, Warwick\, RI\, 02888\, United States
END:VEVENT
BEGIN:VEVENT
DTSTART;TZID=America/New_York:20190417T200000
DTEND;TZID=America/New_York:20190417T210000
DTSTAMP:20260421T200058
CREATED:20190110T202227Z
LAST-MODIFIED:20190110T202227Z
UID:1679-1555531200-1555534800@www.pawtuxetrangers.com
SUMMARY:Business Meeting
DESCRIPTION:
URL:https://www.pawtuxetrangers.com/event/business-meeting-117/
LOCATION:Armory Hall\, 59 Remington Street\, Warwick\, RI\, 02888\, United States
END:VEVENT
BEGIN:VEVENT
DTSTART;TZID=America/New_York:20190413T090000
DTEND;TZID=America/New_York:20190413T130000
DTSTAMP:20260421T200058
CREATED:20190110T202045Z
LAST-MODIFIED:20190321T122758Z
UID:1675-1555146000-1555160400@www.pawtuxetrangers.com
SUMMARY:Second Corps of Cadets First Muster - Salem\, MA
DESCRIPTION:1st Reading – 3/10
URL:https://www.pawtuxetrangers.com/event/second-corps-of-cadets-first-muster-salem-ma/
LOCATION:Salem Common\, N. Washington Square\, Salem\, MA\, MA\, United States
END:VEVENT
BEGIN:VEVENT
DTSTART;TZID=America/New_York:20190410T200000
DTEND;TZID=America/New_York:20190410T210000
DTSTAMP:20260421T200058
CREATED:20190110T202143Z
LAST-MODIFIED:20190110T202143Z
UID:1677-1554926400-1554930000@www.pawtuxetrangers.com
SUMMARY:Annual Meeting of the Company
DESCRIPTION:
URL:https://www.pawtuxetrangers.com/event/annual-meeting-of-the-company-4/
LOCATION:Armory Hall\, 59 Remington Street\, Warwick\, RI\, 02888\, United States
END:VEVENT
BEGIN:VEVENT
DTSTART;VALUE=DATE:20190406
DTEND;VALUE=DATE:20190407
DTSTAMP:20260421T200058
CREATED:20190321T122424Z
LAST-MODIFIED:20190321T122424Z
UID:1841-1554508800-1554595199@www.pawtuxetrangers.com
SUMMARY:Honor Flight - Tentative
DESCRIPTION:Honor our Veterans as they depart for and/or arrive home from a trip to Washington DC.
URL:https://www.pawtuxetrangers.com/event/honor-flight-tentative/
LOCATION:TF Green Airport\, 2000 Post Road \, Warwick\, RI\, United States
END:VEVENT
BEGIN:VEVENT
DTSTART;TZID=America/New_York:20190403T200000
DTEND;TZID=America/New_York:20190403T210000
DTSTAMP:20260421T200058
CREATED:20190110T201926Z
LAST-MODIFIED:20190110T201926Z
UID:1673-1554321600-1554325200@www.pawtuxetrangers.com
SUMMARY:Business Meeting
DESCRIPTION:
URL:https://www.pawtuxetrangers.com/event/business-meeting-116/
LOCATION:Armory Hall\, 59 Remington Street\, Warwick\, RI\, 02888\, United States
END:VEVENT
BEGIN:VEVENT
DTSTART;TZID=America/New_York:20190330T100000
DTEND;TZID=America/New_York:20190330T120000
DTSTAMP:20260421T200058
CREATED:20190321T122225Z
LAST-MODIFIED:20190321T122225Z
UID:1839-1553940000-1553947200@www.pawtuxetrangers.com
SUMMARY:Armory Work Detail
DESCRIPTION:Lend a hand to clean and neaten up the building and grounds.
URL:https://www.pawtuxetrangers.com/event/armory-work-detail-3/
LOCATION:Armory Hall\, 59 Remington Street\, Warwick\, RI\, 02888\, United States
END:VEVENT
BEGIN:VEVENT
DTSTART;TZID=America/New_York:20190327T200000
DTEND;TZID=America/New_York:20190327T210000
DTSTAMP:20260421T200058
CREATED:20190110T201748Z
LAST-MODIFIED:20190110T201748Z
UID:1670-1553716800-1553720400@www.pawtuxetrangers.com
SUMMARY:Business Meeting
DESCRIPTION:
URL:https://www.pawtuxetrangers.com/event/business-meeting-115/
LOCATION:Armory Hall\, 59 Remington Street\, Warwick\, RI\, 02888\, United States
END:VEVENT
BEGIN:VEVENT
DTSTART;TZID=America/New_York:20190327T190000
DTEND;TZID=America/New_York:20190327T200000
DTSTAMP:20260421T200058
CREATED:20190110T201711Z
LAST-MODIFIED:20190321T122009Z
UID:1668-1553713200-1553716800@www.pawtuxetrangers.com
SUMMARY:End of Month Dinner
DESCRIPTION:Chicken Dinner on the grill. RSVP to the Adjutant.
URL:https://www.pawtuxetrangers.com/event/end-of-month-dinner-11/
LOCATION:Armory Hall\, 59 Remington Street\, Warwick\, RI\, 02888\, United States
END:VEVENT
BEGIN:VEVENT
DTSTART;TZID=America/New_York:20190320T200000
DTEND;TZID=America/New_York:20190320T210000
DTSTAMP:20260421T200058
CREATED:20190110T201514Z
LAST-MODIFIED:20190110T201514Z
UID:1665-1553112000-1553115600@www.pawtuxetrangers.com
SUMMARY:Business Meeting
DESCRIPTION:
URL:https://www.pawtuxetrangers.com/event/business-meeting-114/
LOCATION:Armory Hall\, 59 Remington Street\, Warwick\, RI\, 02888\, United States
END:VEVENT
END:VCALENDAR