BEGIN:VCALENDAR
VERSION:2.0
PRODID:-//PAWTUXET RANGERS, RIHM  - 1774 - ECPv6.15.20//NONSGML v1.0//EN
CALSCALE:GREGORIAN
METHOD:PUBLISH
X-WR-CALNAME:PAWTUXET RANGERS, RIHM  - 1774
X-ORIGINAL-URL:https://www.pawtuxetrangers.com
X-WR-CALDESC:Events for PAWTUXET RANGERS, RIHM  - 1774
REFRESH-INTERVAL;VALUE=DURATION:PT1H
X-Robots-Tag:noindex
X-PUBLISHED-TTL:PT1H
BEGIN:VTIMEZONE
TZID:America/New_York
BEGIN:DAYLIGHT
TZOFFSETFROM:-0500
TZOFFSETTO:-0400
TZNAME:EDT
DTSTART:20180311T070000
END:DAYLIGHT
BEGIN:STANDARD
TZOFFSETFROM:-0400
TZOFFSETTO:-0500
TZNAME:EST
DTSTART:20181104T060000
END:STANDARD
BEGIN:DAYLIGHT
TZOFFSETFROM:-0500
TZOFFSETTO:-0400
TZNAME:EDT
DTSTART:20190310T070000
END:DAYLIGHT
BEGIN:STANDARD
TZOFFSETFROM:-0400
TZOFFSETTO:-0500
TZNAME:EST
DTSTART:20191103T060000
END:STANDARD
BEGIN:DAYLIGHT
TZOFFSETFROM:-0500
TZOFFSETTO:-0400
TZNAME:EDT
DTSTART:20200308T070000
END:DAYLIGHT
BEGIN:STANDARD
TZOFFSETFROM:-0400
TZOFFSETTO:-0500
TZNAME:EST
DTSTART:20201101T060000
END:STANDARD
END:VTIMEZONE
BEGIN:VEVENT
DTSTART;TZID=America/New_York:20191002T200000
DTEND;TZID=America/New_York:20191002T210000
DTSTAMP:20260421T091753
CREATED:20190110T212400Z
LAST-MODIFIED:20190110T212400Z
UID:1795-1570046400-1570050000@www.pawtuxetrangers.com
SUMMARY:Business Meeting
DESCRIPTION:
URL:https://www.pawtuxetrangers.com/event/business-meeting-138/
LOCATION:Armory Hall\, 59 Remington Street\, Warwick\, RI\, 02888\, United States
END:VEVENT
BEGIN:VEVENT
DTSTART;VALUE=DATE:20190928
DTEND;VALUE=DATE:20190929
DTSTAMP:20260421T091753
CREATED:20190110T212321Z
LAST-MODIFIED:20190110T212321Z
UID:1793-1569628800-1569715199@www.pawtuxetrangers.com
SUMMARY:Sudbury Muster
DESCRIPTION:Tentative
URL:https://www.pawtuxetrangers.com/event/sudbury-muster/
LOCATION:Wayside Inn\, 72 Wayside Inn Road\, Sudbury\, MA\, United States
END:VEVENT
BEGIN:VEVENT
DTSTART;TZID=America/New_York:20190925T200000
DTEND;TZID=America/New_York:20190925T210000
DTSTAMP:20260421T091753
CREATED:20190110T212122Z
LAST-MODIFIED:20190110T212122Z
UID:1789-1569441600-1569445200@www.pawtuxetrangers.com
SUMMARY:Business Meeting
DESCRIPTION:
URL:https://www.pawtuxetrangers.com/event/business-meeting-137/
LOCATION:Armory Hall\, 59 Remington Street\, Warwick\, RI\, 02888\, United States
END:VEVENT
BEGIN:VEVENT
DTSTART;TZID=America/New_York:20190925T190000
DTEND;TZID=America/New_York:20190925T200000
DTSTAMP:20260421T091753
CREATED:20190110T212044Z
LAST-MODIFIED:20190110T212044Z
UID:1787-1569438000-1569441600@www.pawtuxetrangers.com
SUMMARY:End of Month Dinner
DESCRIPTION:
URL:https://www.pawtuxetrangers.com/event/end-of-month-dinner-13/
LOCATION:Armory Hall\, 59 Remington Street\, Warwick\, RI\, 02888\, United States
END:VEVENT
BEGIN:VEVENT
DTSTART;TZID=America/New_York:20190922T130000
DTEND;TZID=America/New_York:20190922T143000
DTSTAMP:20260421T091753
CREATED:20190110T211810Z
LAST-MODIFIED:20190725T115731Z
UID:1782-1569157200-1569162600@www.pawtuxetrangers.com
SUMMARY:South Kingstown Firemen's Parade
DESCRIPTION:Approved.
URL:https://www.pawtuxetrangers.com/event/south-kingstown-firemens-parade/
LOCATION:Old Mountain Lanes (behind)\, 756 Kingstown Road\, Wakefield\, RI\, United States
END:VEVENT
BEGIN:VEVENT
DTSTART;TZID=America/New_York:20190918T200000
DTEND;TZID=America/New_York:20190918T210000
DTSTAMP:20260421T091753
CREATED:20190110T211712Z
LAST-MODIFIED:20190110T211712Z
UID:1780-1568836800-1568840400@www.pawtuxetrangers.com
SUMMARY:Business Meeting
DESCRIPTION:
URL:https://www.pawtuxetrangers.com/event/business-meeting-136/
LOCATION:Armory Hall\, 59 Remington Street\, Warwick\, RI\, 02888\, United States
END:VEVENT
BEGIN:VEVENT
DTSTART;TZID=America/New_York:20190912T183000
DTEND;TZID=America/New_York:20190912T191500
DTSTAMP:20260421T091753
CREATED:20190110T212229Z
LAST-MODIFIED:20190904T201813Z
UID:1791-1568313000-1568315700@www.pawtuxetrangers.com
SUMMARY:Gaspee Installation Ceremony
DESCRIPTION:Color Guard.
URL:https://www.pawtuxetrangers.com/event/gaspee-installation-ceremony-2/
LOCATION:Aspray Boat House\, 2 East View Street\, Warwick\, RI\, United States
END:VEVENT
BEGIN:VEVENT
DTSTART;TZID=America/New_York:20190911T200000
DTEND;TZID=America/New_York:20190911T210000
DTSTAMP:20260421T091753
CREATED:20190110T211628Z
LAST-MODIFIED:20190110T211628Z
UID:1778-1568232000-1568235600@www.pawtuxetrangers.com
SUMMARY:Business Meeting
DESCRIPTION:
URL:https://www.pawtuxetrangers.com/event/business-meeting-135/
LOCATION:Armory Hall\, 59 Remington Street\, Warwick\, RI\, 02888\, United States
END:VEVENT
BEGIN:VEVENT
DTSTART;TZID=America/New_York:20190904T200000
DTEND;TZID=America/New_York:20190904T210000
DTSTAMP:20260421T091753
CREATED:20190110T211548Z
LAST-MODIFIED:20190110T211548Z
UID:1776-1567627200-1567630800@www.pawtuxetrangers.com
SUMMARY:Business Meeting
DESCRIPTION:
URL:https://www.pawtuxetrangers.com/event/business-meeting-134/
LOCATION:Armory Hall\, 59 Remington Street\, Warwick\, RI\, 02888\, United States
END:VEVENT
BEGIN:VEVENT
DTSTART;TZID=America/New_York:20190821T200000
DTEND;TZID=America/New_York:20190821T210000
DTSTAMP:20260421T091753
CREATED:20190110T211401Z
LAST-MODIFIED:20190110T211401Z
UID:1772-1566417600-1566421200@www.pawtuxetrangers.com
SUMMARY:Business Meeting
DESCRIPTION:
URL:https://www.pawtuxetrangers.com/event/business-meeting-133/
LOCATION:Armory Hall\, 59 Remington Street\, Warwick\, RI\, 02888\, United States
END:VEVENT
BEGIN:VEVENT
DTSTART;TZID=America/New_York:20190818T140000
DTEND;TZID=America/New_York:20190818T170000
DTSTAMP:20260421T091753
CREATED:20190725T115524Z
LAST-MODIFIED:20190725T115524Z
UID:1948-1566136800-1566147600@www.pawtuxetrangers.com
SUMMARY:Officer's Appreciation Day
DESCRIPTION:At Pawtuxet Park. Wes’ Rib House will be provided.
URL:https://www.pawtuxetrangers.com/event/officers-appreciation-day/
LOCATION:Pawtuxet Park\, E. View Street\, Warwick\, RI\, 02888\, United States
END:VEVENT
BEGIN:VEVENT
DTSTART;TZID=America/New_York:20190814T200000
DTEND;TZID=America/New_York:20190814T210000
DTSTAMP:20260421T091753
CREATED:20190110T211321Z
LAST-MODIFIED:20190110T211321Z
UID:1770-1565812800-1565816400@www.pawtuxetrangers.com
SUMMARY:Business Meeting
DESCRIPTION:
URL:https://www.pawtuxetrangers.com/event/business-meeting-132/
LOCATION:Armory Hall\, 59 Remington Street\, Warwick\, RI\, 02888\, United States
END:VEVENT
BEGIN:VEVENT
DTSTART;TZID=America/New_York:20190807T200000
DTEND;TZID=America/New_York:20190807T210000
DTSTAMP:20260421T091753
CREATED:20190110T211238Z
LAST-MODIFIED:20190110T211238Z
UID:1768-1565208000-1565211600@www.pawtuxetrangers.com
SUMMARY:Business Meeting
DESCRIPTION:
URL:https://www.pawtuxetrangers.com/event/business-meeting-131/
LOCATION:Armory Hall\, 59 Remington Street\, Warwick\, RI\, 02888\, United States
END:VEVENT
BEGIN:VEVENT
DTSTART;TZID=America/New_York:20190731T200000
DTEND;TZID=America/New_York:20190731T210000
DTSTAMP:20260421T091753
CREATED:20190110T211052Z
LAST-MODIFIED:20190110T211052Z
UID:1764-1564603200-1564606800@www.pawtuxetrangers.com
SUMMARY:Business Meeting
DESCRIPTION:
URL:https://www.pawtuxetrangers.com/event/business-meeting-130/
LOCATION:Armory Hall\, 59 Remington Street\, Warwick\, RI\, 02888\, United States
END:VEVENT
BEGIN:VEVENT
DTSTART;TZID=America/New_York:20190731T190000
DTEND;TZID=America/New_York:20190731T200000
DTSTAMP:20260421T091753
CREATED:20190110T211013Z
LAST-MODIFIED:20190110T211013Z
UID:1762-1564599600-1564603200@www.pawtuxetrangers.com
SUMMARY:End of Month Dinner - Free
DESCRIPTION:
URL:https://www.pawtuxetrangers.com/event/end-of-month-dinner-free-3/
LOCATION:Armory Hall\, 59 Remington Street\, Warwick\, RI\, 02888\, United States
END:VEVENT
BEGIN:VEVENT
DTSTART;TZID=America/New_York:20190724T200000
DTEND;TZID=America/New_York:20190724T210000
DTSTAMP:20260421T091753
CREATED:20190110T210930Z
LAST-MODIFIED:20190110T210930Z
UID:1760-1563998400-1564002000@www.pawtuxetrangers.com
SUMMARY:Business Meeting
DESCRIPTION:
URL:https://www.pawtuxetrangers.com/event/business-meeting-129/
LOCATION:Armory Hall\, 59 Remington Street\, Warwick\, RI\, 02888\, United States
END:VEVENT
BEGIN:VEVENT
DTSTART;VALUE=DATE:20190721
DTEND;VALUE=DATE:20190722
DTSTAMP:20260421T091753
CREATED:20190523T125147Z
LAST-MODIFIED:20190523T125147Z
UID:1908-1563667200-1563753599@www.pawtuxetrangers.com
SUMMARY:St. Mary's Feast Parade
DESCRIPTION:1st Reading 5/1/19\n2nd Reading 5/23/19 Approved. \n 
URL:https://www.pawtuxetrangers.com/event/st-marys-feast-parade-2/
LOCATION:St. Mary’s Church\, 1525 Cranston Street\, Cranston\, RI\, United States
END:VEVENT
BEGIN:VEVENT
DTSTART;VALUE=DATE:20190720
DTEND;VALUE=DATE:20190721
DTSTAMP:20260421T091753
CREATED:20190110T210654Z
LAST-MODIFIED:20190110T210654Z
UID:1757-1563580800-1563667199@www.pawtuxetrangers.com
SUMMARY:Man on the Moon Parade
DESCRIPTION:1st Reading – 2/27
URL:https://www.pawtuxetrangers.com/event/man-on-the-moon-parade-2/
LOCATION:Connimicut\, RI\, Connimicut\, RI\, United States
END:VEVENT
BEGIN:VEVENT
DTSTART;VALUE=DATE:20190720
DTEND;VALUE=DATE:20190721
DTSTAMP:20260421T091753
CREATED:20190110T210512Z
LAST-MODIFIED:20190110T210512Z
UID:1753-1563580800-1563667199@www.pawtuxetrangers.com
SUMMARY:Deep River Muster
DESCRIPTION:Tentative
URL:https://www.pawtuxetrangers.com/event/deep-river-muster/
LOCATION:Deep River\, 15 Southworth Street\, Deep River\, CT\, United States
END:VEVENT
BEGIN:VEVENT
DTSTART;VALUE=DATE:20190720
DTEND;VALUE=DATE:20190721
DTSTAMP:20260421T091753
CREATED:20180815T135600Z
LAST-MODIFIED:20180815T135600Z
UID:1604-1563580800-1563667199@www.pawtuxetrangers.com
SUMMARY:Man on the Moon Parade
DESCRIPTION:1st Reading
URL:https://www.pawtuxetrangers.com/event/man-on-the-moon-parade/
LOCATION:TBD
END:VEVENT
BEGIN:VEVENT
DTSTART;TZID=America/New_York:20190717T200000
DTEND;TZID=America/New_York:20190717T210000
DTSTAMP:20260421T091753
CREATED:20190110T210557Z
LAST-MODIFIED:20190110T210557Z
UID:1755-1563393600-1563397200@www.pawtuxetrangers.com
SUMMARY:Business Meeting
DESCRIPTION:
URL:https://www.pawtuxetrangers.com/event/business-meeting-128/
LOCATION:Armory Hall\, 59 Remington Street\, Warwick\, RI\, 02888\, United States
END:VEVENT
BEGIN:VEVENT
DTSTART;TZID=America/New_York:20190710T200000
DTEND;TZID=America/New_York:20190710T210000
DTSTAMP:20260421T091753
CREATED:20190110T210403Z
LAST-MODIFIED:20190110T210403Z
UID:1751-1562788800-1562792400@www.pawtuxetrangers.com
SUMMARY:Business Meeting
DESCRIPTION:
URL:https://www.pawtuxetrangers.com/event/business-meeting-127/
LOCATION:Armory Hall\, 59 Remington Street\, Warwick\, RI\, 02888\, United States
END:VEVENT
BEGIN:VEVENT
DTSTART;TZID=America/New_York:20190704T100000
DTEND;TZID=America/New_York:20190704T130000
DTSTAMP:20260421T091753
CREATED:20190110T210323Z
LAST-MODIFIED:20190321T124938Z
UID:1749-1562234400-1562245200@www.pawtuxetrangers.com
SUMMARY:Bristol 4th of July Parade
DESCRIPTION:1st Reading – 2/27\n2nd Reading – 3/20\nApproved.
URL:https://www.pawtuxetrangers.com/event/bristol-4th-of-july-parade-2/
LOCATION:Mount Hope High school\, 199 Chestnut Street\, Bristol\, RI\, United States
END:VEVENT
BEGIN:VEVENT
DTSTART;TZID=America/New_York:20190703T200000
DTEND;TZID=America/New_York:20190703T210000
DTSTAMP:20260421T091753
CREATED:20190110T210209Z
LAST-MODIFIED:20190110T210209Z
UID:1747-1562184000-1562187600@www.pawtuxetrangers.com
SUMMARY:Business Meeting
DESCRIPTION:
URL:https://www.pawtuxetrangers.com/event/business-meeting-126/
LOCATION:Armory Hall\, 59 Remington Street\, Warwick\, RI\, 02888\, United States
END:VEVENT
BEGIN:VEVENT
DTSTART;TZID=America/New_York:20190626T200000
DTEND;TZID=America/New_York:20190626T210000
DTSTAMP:20260421T091753
CREATED:20190110T210127Z
LAST-MODIFIED:20190625T165957Z
UID:1745-1561579200-1561582800@www.pawtuxetrangers.com
SUMMARY:Business Meeting
DESCRIPTION:
URL:https://www.pawtuxetrangers.com/event/business-meeting-canceled-4/
LOCATION:Armory Hall\, 59 Remington Street\, Warwick\, RI\, 02888\, United States
END:VEVENT
BEGIN:VEVENT
DTSTART;TZID=America/New_York:20190626T190000
DTEND;TZID=America/New_York:20190626T200000
DTSTAMP:20260421T091753
CREATED:20190110T205927Z
LAST-MODIFIED:20190625T170047Z
UID:1741-1561575600-1561579200@www.pawtuxetrangers.com
SUMMARY:Pizza at the armory
DESCRIPTION:Free for members.
URL:https://www.pawtuxetrangers.com/event/officers-appreciation-dinner-3/
LOCATION:Armory Hall\, 59 Remington Street\, Warwick\, RI\, 02888\, United States
END:VEVENT
BEGIN:VEVENT
DTSTART;TZID=America/New_York:20190622T180000
DTEND;TZID=America/New_York:20190622T183000
DTSTAMP:20260421T091753
CREATED:20190110T205820Z
LAST-MODIFIED:20190515T215820Z
UID:1738-1561226400-1561228200@www.pawtuxetrangers.com
SUMMARY:Society of Colonial Wars Summer Court - Fife & Drum Concert
DESCRIPTION:1st Reading – 2/27\n2nd Reading – 5/15. Approved.
URL:https://www.pawtuxetrangers.com/event/society-of-colonial-wars-summer-court-fife-drum-concert/
LOCATION:Hazard Robinson House\, 450 Old Boston Neck Road\, Saunderstown\, RI\, United States
END:VEVENT
BEGIN:VEVENT
DTSTART;TZID=America/New_York:20190619T200000
DTEND;TZID=America/New_York:20190619T210000
DTSTAMP:20260421T091753
CREATED:20190110T205648Z
LAST-MODIFIED:20190110T205648Z
UID:1736-1560974400-1560978000@www.pawtuxetrangers.com
SUMMARY:Business Meeting
DESCRIPTION:
URL:https://www.pawtuxetrangers.com/event/business-meeting-125/
LOCATION:Armory Hall\, 59 Remington Street\, Warwick\, RI\, 02888\, United States
END:VEVENT
BEGIN:VEVENT
DTSTART;TZID=America/New_York:20190612T200000
DTEND;TZID=America/New_York:20190612T210000
DTSTAMP:20260421T091753
CREATED:20190110T205601Z
LAST-MODIFIED:20190110T205601Z
UID:1734-1560369600-1560373200@www.pawtuxetrangers.com
SUMMARY:Business Meeting
DESCRIPTION:
URL:https://www.pawtuxetrangers.com/event/business-meeting-124/
LOCATION:Armory Hall\, 59 Remington Street\, Warwick\, RI\, 02888\, United States
END:VEVENT
BEGIN:VEVENT
DTSTART;VALUE=DATE:20190609
DTEND;VALUE=DATE:20190610
DTSTAMP:20260421T091753
CREATED:20190110T205513Z
LAST-MODIFIED:20190321T124722Z
UID:1732-1560038400-1560124799@www.pawtuxetrangers.com
SUMMARY:Gaspee Days Sunday in the Park / Burning of the Gaspee
DESCRIPTION:1st Reading – 2/27\n2nd Reading – 3/6\nApproved.
URL:https://www.pawtuxetrangers.com/event/gaspee-days-sunday-in-the-park-burning-of-the-gaspee/
LOCATION:Pawtuxet Park\, E. View Street\, Warwick\, RI\, 02888\, United States
END:VEVENT
END:VCALENDAR