BEGIN:VCALENDAR
VERSION:2.0
PRODID:-//PAWTUXET RANGERS, RIHM  - 1774 - ECPv6.15.20//NONSGML v1.0//EN
CALSCALE:GREGORIAN
METHOD:PUBLISH
X-WR-CALNAME:PAWTUXET RANGERS, RIHM  - 1774
X-ORIGINAL-URL:https://www.pawtuxetrangers.com
X-WR-CALDESC:Events for PAWTUXET RANGERS, RIHM  - 1774
REFRESH-INTERVAL;VALUE=DURATION:PT1H
X-Robots-Tag:noindex
X-PUBLISHED-TTL:PT1H
BEGIN:VTIMEZONE
TZID:America/New_York
BEGIN:DAYLIGHT
TZOFFSETFROM:-0500
TZOFFSETTO:-0400
TZNAME:EDT
DTSTART:20180311T070000
END:DAYLIGHT
BEGIN:STANDARD
TZOFFSETFROM:-0400
TZOFFSETTO:-0500
TZNAME:EST
DTSTART:20181104T060000
END:STANDARD
BEGIN:DAYLIGHT
TZOFFSETFROM:-0500
TZOFFSETTO:-0400
TZNAME:EDT
DTSTART:20190310T070000
END:DAYLIGHT
BEGIN:STANDARD
TZOFFSETFROM:-0400
TZOFFSETTO:-0500
TZNAME:EST
DTSTART:20191103T060000
END:STANDARD
BEGIN:DAYLIGHT
TZOFFSETFROM:-0500
TZOFFSETTO:-0400
TZNAME:EDT
DTSTART:20200308T070000
END:DAYLIGHT
BEGIN:STANDARD
TZOFFSETFROM:-0400
TZOFFSETTO:-0500
TZNAME:EST
DTSTART:20201101T060000
END:STANDARD
END:VTIMEZONE
BEGIN:VEVENT
DTSTART;TZID=America/New_York:20191204T200000
DTEND;TZID=America/New_York:20191204T210000
DTSTAMP:20260421T092349
CREATED:20190110T213514Z
LAST-MODIFIED:20190110T213514Z
UID:1821-1575489600-1575493200@www.pawtuxetrangers.com
SUMMARY:Business Meeting
DESCRIPTION:
URL:https://www.pawtuxetrangers.com/event/business-meeting-145/
LOCATION:Armory Hall\, 59 Remington Street\, Warwick\, RI\, 02888\, United States
END:VEVENT
BEGIN:VEVENT
DTSTART;TZID=America/New_York:20191201T160000
DTEND;TZID=America/New_York:20191201T190000
DTSTAMP:20260421T092349
CREATED:20190110T213431Z
LAST-MODIFIED:20190110T213431Z
UID:1819-1575216000-1575226800@www.pawtuxetrangers.com
SUMMARY:Holiday Open Armory
DESCRIPTION:
URL:https://www.pawtuxetrangers.com/event/holiday-open-armory/
LOCATION:Armory Hall\, 59 Remington Street\, Warwick\, RI\, 02888\, United States
END:VEVENT
BEGIN:VEVENT
DTSTART;TZID=America/New_York:20191127T200000
DTEND;TZID=America/New_York:20191127T210000
DTSTAMP:20260421T092349
CREATED:20190110T213334Z
LAST-MODIFIED:20190110T213334Z
UID:1817-1574884800-1574888400@www.pawtuxetrangers.com
SUMMARY:Business Meeting Canceled
DESCRIPTION:
URL:https://www.pawtuxetrangers.com/event/business-meeting-canceled-6/
LOCATION:Armory Hall\, 59 Remington Street\, Warwick\, RI\, 02888\, United States
END:VEVENT
BEGIN:VEVENT
DTSTART;TZID=America/New_York:20191120T200000
DTEND;TZID=America/New_York:20191120T210000
DTSTAMP:20260421T092349
CREATED:20190110T213243Z
LAST-MODIFIED:20190110T213243Z
UID:1815-1574280000-1574283600@www.pawtuxetrangers.com
SUMMARY:Business Meeting
DESCRIPTION:
URL:https://www.pawtuxetrangers.com/event/business-meeting-144/
LOCATION:Armory Hall\, 59 Remington Street\, Warwick\, RI\, 02888\, United States
END:VEVENT
BEGIN:VEVENT
DTSTART;TZID=America/New_York:20191113T200000
DTEND;TZID=America/New_York:20191113T210000
DTSTAMP:20260421T092349
CREATED:20190110T213155Z
LAST-MODIFIED:20190110T213155Z
UID:1813-1573675200-1573678800@www.pawtuxetrangers.com
SUMMARY:Business Meeting
DESCRIPTION:
URL:https://www.pawtuxetrangers.com/event/business-meeting-143/
LOCATION:Armory Hall\, 59 Remington Street\, Warwick\, RI\, 02888\, United States
END:VEVENT
BEGIN:VEVENT
DTSTART;TZID=America/New_York:20191110T140000
DTEND;TZID=America/New_York:20191110T150000
DTSTAMP:20260421T092349
CREATED:20190904T202425Z
LAST-MODIFIED:20190904T202730Z
UID:1967-1573394400-1573398000@www.pawtuxetrangers.com
SUMMARY:Memorial Garden Dedication
DESCRIPTION:Memorial Garden Dedication – Eagle Scout project
URL:https://www.pawtuxetrangers.com/event/memorial-garden-dedication/
LOCATION:Armory Hall\, 59 Remington Street\, Warwick\, RI\, 02888\, United States
END:VEVENT
BEGIN:VEVENT
DTSTART;TZID=America/New_York:20191106T200000
DTEND;TZID=America/New_York:20191106T210000
DTSTAMP:20260421T092349
CREATED:20190110T213112Z
LAST-MODIFIED:20190110T213112Z
UID:1811-1573070400-1573074000@www.pawtuxetrangers.com
SUMMARY:Business Meeting
DESCRIPTION:
URL:https://www.pawtuxetrangers.com/event/business-meeting-142/
LOCATION:Armory Hall\, 59 Remington Street\, Warwick\, RI\, 02888\, United States
END:VEVENT
BEGIN:VEVENT
DTSTART;TZID=America/New_York:20191030T200000
DTEND;TZID=America/New_York:20191030T210000
DTSTAMP:20260421T092349
CREATED:20190110T213030Z
LAST-MODIFIED:20190110T213030Z
UID:1809-1572465600-1572469200@www.pawtuxetrangers.com
SUMMARY:Business Meeting  Canceled
DESCRIPTION:
URL:https://www.pawtuxetrangers.com/event/business-meeting-canceled-5/
LOCATION:Armory Hall\, 59 Remington Street\, Warwick\, RI\, 02888\, United States
END:VEVENT
BEGIN:VEVENT
DTSTART;TZID=America/New_York:20191030T180000
DTEND;TZID=America/New_York:20191030T203000
DTSTAMP:20260421T092349
CREATED:20190110T212935Z
LAST-MODIFIED:20190110T212935Z
UID:1807-1572458400-1572467400@www.pawtuxetrangers.com
SUMMARY:245th Anniversary Dinner
DESCRIPTION:
URL:https://www.pawtuxetrangers.com/event/245th-anniversary-dinner/
LOCATION:Imperial Room – Shriners\, 1 Rhodes Place\, Cranston\, RI\, United States
END:VEVENT
BEGIN:VEVENT
DTSTART;TZID=America/New_York:20191023T200000
DTEND;TZID=America/New_York:20191023T210000
DTSTAMP:20260421T092349
CREATED:20190110T212819Z
LAST-MODIFIED:20190110T212819Z
UID:1805-1571860800-1571864400@www.pawtuxetrangers.com
SUMMARY:Business Meeting
DESCRIPTION:
URL:https://www.pawtuxetrangers.com/event/business-meeting-141/
LOCATION:Armory Hall\, 59 Remington Street\, Warwick\, RI\, 02888\, United States
END:VEVENT
BEGIN:VEVENT
DTSTART;TZID=America/New_York:20191020T160000
DTEND;TZID=America/New_York:20191020T190000
DTSTAMP:20260421T092349
CREATED:20190725T120035Z
LAST-MODIFIED:20190725T120035Z
UID:1955-1571587200-1571598000@www.pawtuxetrangers.com
SUMMARY:Lemongrass Fundraiser
DESCRIPTION:Tickets $25/pp
URL:https://www.pawtuxetrangers.com/event/lemongrass-fundraiser/
LOCATION:Lemongrass Asian Bistro\, 1138 Post Road\, Warwick\, RI\, United States
END:VEVENT
BEGIN:VEVENT
DTSTART;TZID=America/New_York:20191020T143000
DTEND;TZID=America/New_York:20191020T150000
DTSTAMP:20260421T092349
CREATED:20190725T120315Z
LAST-MODIFIED:20190725T120315Z
UID:1957-1571581800-1571583600@www.pawtuxetrangers.com
SUMMARY:RI Heritage Hall of Fame Gala
DESCRIPTION:1st Reading – 7/17/19
URL:https://www.pawtuxetrangers.com/event/ri-heritage-hall-of-fame-gala-3/
LOCATION:Ocean House\, 1 Bluff Avenue\, Westerly\, RI\, United States
END:VEVENT
BEGIN:VEVENT
DTSTART;TZID=America/New_York:20191019T090000
DTEND;TZID=America/New_York:20191019T120000
DTSTAMP:20260421T092349
CREATED:20190110T212737Z
LAST-MODIFIED:20190110T212737Z
UID:1803-1571475600-1571486400@www.pawtuxetrangers.com
SUMMARY:Muster Day
DESCRIPTION:Tentative
URL:https://www.pawtuxetrangers.com/event/muster-day-2/
LOCATION:Wallum Lake Rod and Gun Club\, 200 Brook Road\, Harrisville\, RI\, United States
END:VEVENT
BEGIN:VEVENT
DTSTART;TZID=America/New_York:20191016T200000
DTEND;TZID=America/New_York:20191016T210000
DTSTAMP:20260421T092349
CREATED:20190110T212638Z
LAST-MODIFIED:20190110T212638Z
UID:1801-1571256000-1571259600@www.pawtuxetrangers.com
SUMMARY:Business Meeting
DESCRIPTION:
URL:https://www.pawtuxetrangers.com/event/business-meeting-140/
LOCATION:Armory Hall\, 59 Remington Street\, Warwick\, RI\, 02888\, United States
END:VEVENT
BEGIN:VEVENT
DTSTART;VALUE=DATE:20191013
DTEND;VALUE=DATE:20191014
DTSTAMP:20260421T092349
CREATED:20190110T212558Z
LAST-MODIFIED:20190110T212558Z
UID:1799-1570924800-1571011199@www.pawtuxetrangers.com
SUMMARY:Providence Columbus Day Parade
DESCRIPTION:Tentative
URL:https://www.pawtuxetrangers.com/event/providence-columbus-day-parade/
LOCATION:Providence\, Providence\, RI\, United States
END:VEVENT
BEGIN:VEVENT
DTSTART;TZID=America/New_York:20191012T173000
DTEND;TZID=America/New_York:20191012T181500
DTSTAMP:20260421T092349
CREATED:20190516T125209Z
LAST-MODIFIED:20190904T202143Z
UID:1905-1570901400-1570904100@www.pawtuxetrangers.com
SUMMARY:First Families Convention
DESCRIPTION:1st Reading – 5/8
URL:https://www.pawtuxetrangers.com/event/first-families-convention/
LOCATION:Imperial Room – Shriners\, 1 Rhodes Place\, Cranston\, RI\, United States
END:VEVENT
BEGIN:VEVENT
DTSTART;TZID=America/New_York:20191009T200000
DTEND;TZID=America/New_York:20191009T210000
DTSTAMP:20260421T092349
CREATED:20190110T212447Z
LAST-MODIFIED:20190110T212447Z
UID:1797-1570651200-1570654800@www.pawtuxetrangers.com
SUMMARY:Business Meeting
DESCRIPTION:
URL:https://www.pawtuxetrangers.com/event/business-meeting-139/
LOCATION:Armory Hall\, 59 Remington Street\, Warwick\, RI\, 02888\, United States
END:VEVENT
BEGIN:VEVENT
DTSTART;TZID=America/New_York:20191006T160000
DTEND;TZID=America/New_York:20191006T173000
DTSTAMP:20260421T092349
CREATED:20190815T174003Z
LAST-MODIFIED:20190815T174003Z
UID:1960-1570377600-1570383000@www.pawtuxetrangers.com
SUMMARY:Rhody Awards Opening Ceremonies
DESCRIPTION:1st Reading – 7/31 \n2nd Reading 8/14 – Approved.
URL:https://www.pawtuxetrangers.com/event/rhody-awards-opening-ceremonies/
LOCATION:Aldrich House\, 836 Warwick Neck Avenue\, Warwick\, RI\, United States
END:VEVENT
BEGIN:VEVENT
DTSTART;TZID=America/New_York:20191005T120000
DTEND;TZID=America/New_York:20191005T170000
DTSTAMP:20260421T092349
CREATED:20190725T115855Z
LAST-MODIFIED:20190725T115855Z
UID:1951-1570276800-1570294800@www.pawtuxetrangers.com
SUMMARY:McBride's 0 k
DESCRIPTION:Voluntary
URL:https://www.pawtuxetrangers.com/event/mcbrides-0-k/
LOCATION:McBride’s Pub\, 161 Wayland Avenue\, Providence\, RI\, United States
END:VEVENT
BEGIN:VEVENT
DTSTART;TZID=America/New_York:20191002T200000
DTEND;TZID=America/New_York:20191002T210000
DTSTAMP:20260421T092349
CREATED:20190110T212400Z
LAST-MODIFIED:20190110T212400Z
UID:1795-1570046400-1570050000@www.pawtuxetrangers.com
SUMMARY:Business Meeting
DESCRIPTION:
URL:https://www.pawtuxetrangers.com/event/business-meeting-138/
LOCATION:Armory Hall\, 59 Remington Street\, Warwick\, RI\, 02888\, United States
END:VEVENT
BEGIN:VEVENT
DTSTART;VALUE=DATE:20190928
DTEND;VALUE=DATE:20190929
DTSTAMP:20260421T092349
CREATED:20190110T212321Z
LAST-MODIFIED:20190110T212321Z
UID:1793-1569628800-1569715199@www.pawtuxetrangers.com
SUMMARY:Sudbury Muster
DESCRIPTION:Tentative
URL:https://www.pawtuxetrangers.com/event/sudbury-muster/
LOCATION:Wayside Inn\, 72 Wayside Inn Road\, Sudbury\, MA\, United States
END:VEVENT
BEGIN:VEVENT
DTSTART;TZID=America/New_York:20190925T200000
DTEND;TZID=America/New_York:20190925T210000
DTSTAMP:20260421T092349
CREATED:20190110T212122Z
LAST-MODIFIED:20190110T212122Z
UID:1789-1569441600-1569445200@www.pawtuxetrangers.com
SUMMARY:Business Meeting
DESCRIPTION:
URL:https://www.pawtuxetrangers.com/event/business-meeting-137/
LOCATION:Armory Hall\, 59 Remington Street\, Warwick\, RI\, 02888\, United States
END:VEVENT
BEGIN:VEVENT
DTSTART;TZID=America/New_York:20190925T190000
DTEND;TZID=America/New_York:20190925T200000
DTSTAMP:20260421T092349
CREATED:20190110T212044Z
LAST-MODIFIED:20190110T212044Z
UID:1787-1569438000-1569441600@www.pawtuxetrangers.com
SUMMARY:End of Month Dinner
DESCRIPTION:
URL:https://www.pawtuxetrangers.com/event/end-of-month-dinner-13/
LOCATION:Armory Hall\, 59 Remington Street\, Warwick\, RI\, 02888\, United States
END:VEVENT
BEGIN:VEVENT
DTSTART;TZID=America/New_York:20190922T130000
DTEND;TZID=America/New_York:20190922T143000
DTSTAMP:20260421T092349
CREATED:20190110T211810Z
LAST-MODIFIED:20190725T115731Z
UID:1782-1569157200-1569162600@www.pawtuxetrangers.com
SUMMARY:South Kingstown Firemen's Parade
DESCRIPTION:Approved.
URL:https://www.pawtuxetrangers.com/event/south-kingstown-firemens-parade/
LOCATION:Old Mountain Lanes (behind)\, 756 Kingstown Road\, Wakefield\, RI\, United States
END:VEVENT
BEGIN:VEVENT
DTSTART;TZID=America/New_York:20190918T200000
DTEND;TZID=America/New_York:20190918T210000
DTSTAMP:20260421T092349
CREATED:20190110T211712Z
LAST-MODIFIED:20190110T211712Z
UID:1780-1568836800-1568840400@www.pawtuxetrangers.com
SUMMARY:Business Meeting
DESCRIPTION:
URL:https://www.pawtuxetrangers.com/event/business-meeting-136/
LOCATION:Armory Hall\, 59 Remington Street\, Warwick\, RI\, 02888\, United States
END:VEVENT
BEGIN:VEVENT
DTSTART;TZID=America/New_York:20190912T183000
DTEND;TZID=America/New_York:20190912T191500
DTSTAMP:20260421T092349
CREATED:20190110T212229Z
LAST-MODIFIED:20190904T201813Z
UID:1791-1568313000-1568315700@www.pawtuxetrangers.com
SUMMARY:Gaspee Installation Ceremony
DESCRIPTION:Color Guard.
URL:https://www.pawtuxetrangers.com/event/gaspee-installation-ceremony-2/
LOCATION:Aspray Boat House\, 2 East View Street\, Warwick\, RI\, United States
END:VEVENT
BEGIN:VEVENT
DTSTART;TZID=America/New_York:20190911T200000
DTEND;TZID=America/New_York:20190911T210000
DTSTAMP:20260421T092349
CREATED:20190110T211628Z
LAST-MODIFIED:20190110T211628Z
UID:1778-1568232000-1568235600@www.pawtuxetrangers.com
SUMMARY:Business Meeting
DESCRIPTION:
URL:https://www.pawtuxetrangers.com/event/business-meeting-135/
LOCATION:Armory Hall\, 59 Remington Street\, Warwick\, RI\, 02888\, United States
END:VEVENT
BEGIN:VEVENT
DTSTART;TZID=America/New_York:20190904T200000
DTEND;TZID=America/New_York:20190904T210000
DTSTAMP:20260421T092349
CREATED:20190110T211548Z
LAST-MODIFIED:20190110T211548Z
UID:1776-1567627200-1567630800@www.pawtuxetrangers.com
SUMMARY:Business Meeting
DESCRIPTION:
URL:https://www.pawtuxetrangers.com/event/business-meeting-134/
LOCATION:Armory Hall\, 59 Remington Street\, Warwick\, RI\, 02888\, United States
END:VEVENT
BEGIN:VEVENT
DTSTART;TZID=America/New_York:20190821T200000
DTEND;TZID=America/New_York:20190821T210000
DTSTAMP:20260421T092349
CREATED:20190110T211401Z
LAST-MODIFIED:20190110T211401Z
UID:1772-1566417600-1566421200@www.pawtuxetrangers.com
SUMMARY:Business Meeting
DESCRIPTION:
URL:https://www.pawtuxetrangers.com/event/business-meeting-133/
LOCATION:Armory Hall\, 59 Remington Street\, Warwick\, RI\, 02888\, United States
END:VEVENT
BEGIN:VEVENT
DTSTART;TZID=America/New_York:20190818T140000
DTEND;TZID=America/New_York:20190818T170000
DTSTAMP:20260421T092349
CREATED:20190725T115524Z
LAST-MODIFIED:20190725T115524Z
UID:1948-1566136800-1566147600@www.pawtuxetrangers.com
SUMMARY:Officer's Appreciation Day
DESCRIPTION:At Pawtuxet Park. Wes’ Rib House will be provided.
URL:https://www.pawtuxetrangers.com/event/officers-appreciation-day/
LOCATION:Pawtuxet Park\, E. View Street\, Warwick\, RI\, 02888\, United States
END:VEVENT
END:VCALENDAR