BEGIN:VCALENDAR
VERSION:2.0
PRODID:-//PAWTUXET RANGERS, RIHM  - 1774 - ECPv6.15.20//NONSGML v1.0//EN
CALSCALE:GREGORIAN
METHOD:PUBLISH
X-WR-CALNAME:PAWTUXET RANGERS, RIHM  - 1774
X-ORIGINAL-URL:https://www.pawtuxetrangers.com
X-WR-CALDESC:Events for PAWTUXET RANGERS, RIHM  - 1774
REFRESH-INTERVAL;VALUE=DURATION:PT1H
X-Robots-Tag:noindex
X-PUBLISHED-TTL:PT1H
BEGIN:VTIMEZONE
TZID:America/New_York
BEGIN:DAYLIGHT
TZOFFSETFROM:-0500
TZOFFSETTO:-0400
TZNAME:EDT
DTSTART:20180311T070000
END:DAYLIGHT
BEGIN:STANDARD
TZOFFSETFROM:-0400
TZOFFSETTO:-0500
TZNAME:EST
DTSTART:20181104T060000
END:STANDARD
BEGIN:DAYLIGHT
TZOFFSETFROM:-0500
TZOFFSETTO:-0400
TZNAME:EDT
DTSTART:20190310T070000
END:DAYLIGHT
BEGIN:STANDARD
TZOFFSETFROM:-0400
TZOFFSETTO:-0500
TZNAME:EST
DTSTART:20191103T060000
END:STANDARD
BEGIN:DAYLIGHT
TZOFFSETFROM:-0500
TZOFFSETTO:-0400
TZNAME:EDT
DTSTART:20200308T070000
END:DAYLIGHT
BEGIN:STANDARD
TZOFFSETFROM:-0400
TZOFFSETTO:-0500
TZNAME:EST
DTSTART:20201101T060000
END:STANDARD
BEGIN:DAYLIGHT
TZOFFSETFROM:-0500
TZOFFSETTO:-0400
TZNAME:EDT
DTSTART:20210314T070000
END:DAYLIGHT
BEGIN:STANDARD
TZOFFSETFROM:-0400
TZOFFSETTO:-0500
TZNAME:EST
DTSTART:20211107T060000
END:STANDARD
END:VTIMEZONE
BEGIN:VEVENT
DTSTART;TZID=America/New_York:20200513T200000
DTEND;TZID=America/New_York:20200513T210000
DTSTAMP:20260420T234138
CREATED:20200113T153249Z
LAST-MODIFIED:20200113T153249Z
UID:2039-1589400000-1589403600@www.pawtuxetrangers.com
SUMMARY:Business Meeting
DESCRIPTION:
URL:https://www.pawtuxetrangers.com/event/business-meeting-155/
LOCATION:Armory Hall\, 59 Remington Street\, Warwick\, RI\, 02888\, United States
END:VEVENT
BEGIN:VEVENT
DTSTART;TZID=America/New_York:20200506T200000
DTEND;TZID=America/New_York:20200506T210000
DTSTAMP:20260420T234138
CREATED:20200113T153212Z
LAST-MODIFIED:20200113T153212Z
UID:2037-1588795200-1588798800@www.pawtuxetrangers.com
SUMMARY:Business Meeting
DESCRIPTION:
URL:https://www.pawtuxetrangers.com/event/business-meeting-154/
LOCATION:Armory Hall\, 59 Remington Street\, Warwick\, RI\, 02888\, United States
END:VEVENT
BEGIN:VEVENT
DTSTART;TZID=America/New_York:20200504T190000
DTEND;TZID=America/New_York:20200504T200000
DTSTAMP:20260420T234138
CREATED:20200306T194713Z
LAST-MODIFIED:20200306T194713Z
UID:2199-1588618800-1588622400@www.pawtuxetrangers.com
SUMMARY:GAMM Theatre Event
DESCRIPTION:1st Reading – 2/26 \n2nd Reading – 3/4 \nApproved.
URL:https://www.pawtuxetrangers.com/event/gamm-theatre-event/
LOCATION:GAMM Theatre\, 1245 Jefferson Blvd\, Warwick\, United States
END:VEVENT
BEGIN:VEVENT
DTSTART;TZID=America/New_York:20200502T170000
DTEND;TZID=America/New_York:20200502T173000
DTSTAMP:20260420T234138
CREATED:20200306T194456Z
LAST-MODIFIED:20200306T194456Z
UID:2197-1588438800-1588440600@www.pawtuxetrangers.com
SUMMARY:RI Heritage Hall of Fame
DESCRIPTION:1st Reading – 3/4 \n 
URL:https://www.pawtuxetrangers.com/event/ri-heritage-hall-of-fame-2/
LOCATION:Crowne Plaza Hotel\, 801 Greenwich Avenue\, Warwick\, RI\, United States
END:VEVENT
BEGIN:VEVENT
DTSTART;VALUE=DATE:20200502
DTEND;VALUE=DATE:20200503
DTSTAMP:20260420T234138
CREATED:20200113T153131Z
LAST-MODIFIED:20200306T194353Z
UID:2035-1588377600-1588463999@www.pawtuxetrangers.com
SUMMARY:Lexington Muster
DESCRIPTION:1st Reading 2/26 \n2nd Reading 3/4 \nApproved.
URL:https://www.pawtuxetrangers.com/event/lexington-muster-3/
LOCATION:Lexington\, MA\, Lexington\, MA\, United States
END:VEVENT
BEGIN:VEVENT
DTSTART;TZID=America/New_York:20200429T200000
DTEND;TZID=America/New_York:20200429T210000
DTSTAMP:20260420T234138
CREATED:20200113T153045Z
LAST-MODIFIED:20200113T153045Z
UID:2033-1588190400-1588194000@www.pawtuxetrangers.com
SUMMARY:Business Meeting
DESCRIPTION:
URL:https://www.pawtuxetrangers.com/event/business-meeting-153/
LOCATION:Armory Hall\, 59 Remington Street\, Warwick\, RI\, 02888\, United States
END:VEVENT
BEGIN:VEVENT
DTSTART;TZID=America/New_York:20200429T190000
DTEND;TZID=America/New_York:20200429T200000
DTSTAMP:20260420T234138
CREATED:20200113T153012Z
LAST-MODIFIED:20200113T153012Z
UID:2031-1588186800-1588190400@www.pawtuxetrangers.com
SUMMARY:End of Month Dinner
DESCRIPTION:
URL:https://www.pawtuxetrangers.com/event/end-of-month-dinner-16/
LOCATION:Armory Hall\, 59 Remington Street\, Warwick\, RI\, 02888\, United States
END:VEVENT
BEGIN:VEVENT
DTSTART;TZID=America/New_York:20200425T080000
DTEND;TZID=America/New_York:20200425T120000
DTSTAMP:20260420T234138
CREATED:20200113T152933Z
LAST-MODIFIED:20200113T152933Z
UID:2029-1587801600-1587816000@www.pawtuxetrangers.com
SUMMARY:Earth Day Cemetery Cleanup - Tentative
DESCRIPTION:
URL:https://www.pawtuxetrangers.com/event/earth-day-cemetery-cleanup-tentative/
LOCATION:Greene Cemetery\, 146 Post Road\, Warwick\, RI\, United States
END:VEVENT
BEGIN:VEVENT
DTSTART;VALUE=DATE:20200425
DTEND;VALUE=DATE:20200426
DTSTAMP:20260420T234138
CREATED:20200113T152838Z
LAST-MODIFIED:20200306T194128Z
UID:2027-1587772800-1587859199@www.pawtuxetrangers.com
SUMMARY:Plymouth 400th Artillery Event
DESCRIPTION:1st Reading 2/26 \n2nd Reading 3/4 \nApproved – Voluntary
URL:https://www.pawtuxetrangers.com/event/plymouth-400th-artillery-event/
LOCATION:Plymouth\, Plymouth\, MA\, United States
END:VEVENT
BEGIN:VEVENT
DTSTART;TZID=America/New_York:20200424T090000
DTEND;TZID=America/New_York:20200424T170000
DTSTAMP:20260420T234138
CREATED:20200306T194234Z
LAST-MODIFIED:20200306T194234Z
UID:2191-1587718800-1587747600@www.pawtuxetrangers.com
SUMMARY:Plymouth 400th Parade
DESCRIPTION:1st Reading – 2/26 \n2nd Reading – 3/4 \nApproved Voluntary.
URL:https://www.pawtuxetrangers.com/event/plymouth-400th-parade/
LOCATION:Plymouth\, Plymouth\, MA\, United States
END:VEVENT
BEGIN:VEVENT
DTSTART;TZID=America/New_York:20200422T200000
DTEND;TZID=America/New_York:20200422T210000
DTSTAMP:20260420T234138
CREATED:20200113T152721Z
LAST-MODIFIED:20200113T152721Z
UID:2025-1587585600-1587589200@www.pawtuxetrangers.com
SUMMARY:Business Meeting
DESCRIPTION:
URL:https://www.pawtuxetrangers.com/event/business-meeting-152/
LOCATION:Armory Hall\, 59 Remington Street\, Warwick\, RI\, 02888\, United States
END:VEVENT
BEGIN:VEVENT
DTSTART;TZID=America/New_York:20200415T200000
DTEND;TZID=America/New_York:20200415T210000
DTSTAMP:20260420T234138
CREATED:20200113T152647Z
LAST-MODIFIED:20200113T152647Z
UID:2023-1586980800-1586984400@www.pawtuxetrangers.com
SUMMARY:Business Meeting
DESCRIPTION:
URL:https://www.pawtuxetrangers.com/event/business-meeting-151/
LOCATION:Armory Hall\, 59 Remington Street\, Warwick\, RI\, 02888\, United States
END:VEVENT
BEGIN:VEVENT
DTSTART;TZID=America/New_York:20200408T200000
DTEND;TZID=America/New_York:20200408T210000
DTSTAMP:20260420T234138
CREATED:20200113T152614Z
LAST-MODIFIED:20200113T152614Z
UID:2021-1586376000-1586379600@www.pawtuxetrangers.com
SUMMARY:Annual Meeting of the Company
DESCRIPTION:
URL:https://www.pawtuxetrangers.com/event/annual-meeting-of-the-company-5/
LOCATION:Armory Hall\, 59 Remington Street\, Warwick\, RI\, 02888\, United States
END:VEVENT
BEGIN:VEVENT
DTSTART;TZID=America/New_York:20200401T200000
DTEND;TZID=America/New_York:20200401T210000
DTSTAMP:20260420T234138
CREATED:20200113T152531Z
LAST-MODIFIED:20200113T152531Z
UID:2019-1585771200-1585774800@www.pawtuxetrangers.com
SUMMARY:Business Meeting
DESCRIPTION:
URL:https://www.pawtuxetrangers.com/event/business-meeting-150/
LOCATION:Armory Hall\, 59 Remington Street\, Warwick\, RI\, 02888\, United States
END:VEVENT
BEGIN:VEVENT
DTSTART;TZID=America/New_York:20200328T090000
DTEND;TZID=America/New_York:20200328T110000
DTSTAMP:20260420T234138
CREATED:20200113T152456Z
LAST-MODIFIED:20200306T194032Z
UID:2017-1585386000-1585393200@www.pawtuxetrangers.com
SUMMARY:Armory Work Detail
DESCRIPTION:
URL:https://www.pawtuxetrangers.com/event/armory-work-detail-tentative/
LOCATION:Armory Hall\, 59 Remington Street\, Warwick\, RI\, 02888\, United States
END:VEVENT
BEGIN:VEVENT
DTSTART;TZID=America/New_York:20200325T200000
DTEND;TZID=America/New_York:20200325T210000
DTSTAMP:20260420T234138
CREATED:20200113T152342Z
LAST-MODIFIED:20200113T152342Z
UID:2015-1585166400-1585170000@www.pawtuxetrangers.com
SUMMARY:Business Meeting
DESCRIPTION:
URL:https://www.pawtuxetrangers.com/event/business-meeting-149/
LOCATION:Armory Hall\, 59 Remington Street\, Warwick\, RI\, 02888\, United States
END:VEVENT
BEGIN:VEVENT
DTSTART;TZID=America/New_York:20200325T190000
DTEND;TZID=America/New_York:20200325T200000
DTSTAMP:20260420T234138
CREATED:20200113T152309Z
LAST-MODIFIED:20200113T152309Z
UID:2013-1585162800-1585166400@www.pawtuxetrangers.com
SUMMARY:End of Month Dinner
DESCRIPTION:
URL:https://www.pawtuxetrangers.com/event/end-of-month-dinner-15/
LOCATION:Armory Hall\, 59 Remington Street\, Warwick\, RI\, 02888\, United States
END:VEVENT
BEGIN:VEVENT
DTSTART;TZID=America/New_York:20200321T120000
DTEND;TZID=America/New_York:20200321T140000
DTSTAMP:20260420T234138
CREATED:20200113T152229Z
LAST-MODIFIED:20200306T193958Z
UID:2011-1584792000-1584799200@www.pawtuxetrangers.com
SUMMARY:Providence St. Pat's Parade
DESCRIPTION:First reading – 2/26 \nSecond reading – 3/4 \nApproved.
URL:https://www.pawtuxetrangers.com/event/providence-st-pats-parade-tentative-2/
LOCATION:St. Pius Church\, 55 Elmhurst Ave\, Providence\, RI\, United States
END:VEVENT
BEGIN:VEVENT
DTSTART;TZID=America/New_York:20200318T200000
DTEND;TZID=America/New_York:20200318T210000
DTSTAMP:20260420T234138
CREATED:20200113T151858Z
LAST-MODIFIED:20200113T151858Z
UID:2009-1584561600-1584565200@www.pawtuxetrangers.com
SUMMARY:Business Meeting
DESCRIPTION:
URL:https://www.pawtuxetrangers.com/event/business-meeting-148/
LOCATION:Armory Hall\, 59 Remington Street\, Warwick\, RI\, 02888\, United States
END:VEVENT
BEGIN:VEVENT
DTSTART;TZID=America/New_York:20200315T130000
DTEND;TZID=America/New_York:20200315T150000
DTSTAMP:20260420T234138
CREATED:20200113T151708Z
LAST-MODIFIED:20200306T193856Z
UID:2007-1584277200-1584284400@www.pawtuxetrangers.com
SUMMARY:West Warwick St. Pat's Parade
DESCRIPTION:1st Reading – 2/26 \n2nd Reading – 3/4 \nApproved.
URL:https://www.pawtuxetrangers.com/event/west-warwick-st-pats-parade-tentative-2/
LOCATION:Ianotti’s Funeral Home\, 415 Washington St\, Coventry\, RI\, United States
END:VEVENT
BEGIN:VEVENT
DTSTART;TZID=America/New_York:20200311T200000
DTEND;TZID=America/New_York:20200311T210000
DTSTAMP:20260420T234138
CREATED:20200113T145355Z
LAST-MODIFIED:20200113T145355Z
UID:2005-1583956800-1583960400@www.pawtuxetrangers.com
SUMMARY:Business Meeting
DESCRIPTION:
URL:https://www.pawtuxetrangers.com/event/business-meeting-147/
LOCATION:Armory Hall\, 59 Remington Street\, Warwick\, RI\, 02888\, United States
END:VEVENT
BEGIN:VEVENT
DTSTART;TZID=America/New_York:20200307T120000
DTEND;TZID=America/New_York:20200307T140000
DTSTAMP:20260420T234138
CREATED:20200113T145305Z
LAST-MODIFIED:20200306T193751Z
UID:2003-1583582400-1583589600@www.pawtuxetrangers.com
SUMMARY:Pawtucket St. Pat's Parade - Canceled as a Ranger event
DESCRIPTION:1st Reading 2/26 \n2nd Reading 3/4 \nCanceled as a Ranger event.
URL:https://www.pawtuxetrangers.com/event/pawtucket-st-pats-parade/
LOCATION:Pawtucket\, Pawtucket\, RI\, United States
END:VEVENT
BEGIN:VEVENT
DTSTART;TZID=America/New_York:20200304T200000
DTEND;TZID=America/New_York:20200304T210000
DTSTAMP:20260420T234138
CREATED:20200113T145141Z
LAST-MODIFIED:20200113T145141Z
UID:2001-1583352000-1583355600@www.pawtuxetrangers.com
SUMMARY:Business Meeting
DESCRIPTION:
URL:https://www.pawtuxetrangers.com/event/business-meeting-146/
LOCATION:Armory Hall\, 59 Remington Street\, Warwick\, RI\, 02888\, United States
END:VEVENT
BEGIN:VEVENT
DTSTART;TZID=America/New_York:20200226T200000
DTEND;TZID=America/New_York:20200226T210000
DTSTAMP:20260420T234138
CREATED:20200113T144054Z
LAST-MODIFIED:20200113T145046Z
UID:1999-1582747200-1582750800@www.pawtuxetrangers.com
SUMMARY:First Business Meeting of 2020
DESCRIPTION:
URL:https://www.pawtuxetrangers.com/event/first-business-meeting-of-2020/
LOCATION:Armory Hall\, 59 Remington Street\, Warwick\, RI\, 02888\, United States
END:VEVENT
BEGIN:VEVENT
DTSTART;TZID=America/New_York:20200226T190000
DTEND;TZID=America/New_York:20200226T200000
DTSTAMP:20260420T234138
CREATED:20200113T144005Z
LAST-MODIFIED:20200113T144005Z
UID:1997-1582743600-1582747200@www.pawtuxetrangers.com
SUMMARY:End of Month Dinner
DESCRIPTION:
URL:https://www.pawtuxetrangers.com/event/end-of-month-dinner-14/
LOCATION:Armory Hall\, 59 Remington Street\, Warwick\, RI\, 02888\, United States
END:VEVENT
BEGIN:VEVENT
DTSTART;TZID=America/New_York:20200208T160000
DTEND;TZID=America/New_York:20200208T190000
DTSTAMP:20260420T234138
CREATED:20200113T143909Z
LAST-MODIFIED:20200113T143909Z
UID:1995-1581177600-1581188400@www.pawtuxetrangers.com
SUMMARY:Jonny Jam
DESCRIPTION:
URL:https://www.pawtuxetrangers.com/event/jonny-jam/
LOCATION:Aspray Boat House\, 2 East View Street\, Warwick\, RI\, United States
END:VEVENT
BEGIN:VEVENT
DTSTART;TZID=America/New_York:20191211T200000
DTEND;TZID=America/New_York:20191211T210000
DTSTAMP:20260420T234138
CREATED:20190110T213752Z
LAST-MODIFIED:20190110T213752Z
UID:1827-1576094400-1576098000@www.pawtuxetrangers.com
SUMMARY:Last Business Meeting of 2019
DESCRIPTION:
URL:https://www.pawtuxetrangers.com/event/last-business-meeting-of-2019/
LOCATION:Armory Hall\, 59 Remington Street\, Warwick\, RI\, 02888\, United States
END:VEVENT
BEGIN:VEVENT
DTSTART;TZID=America/New_York:20191208T160000
DTEND;TZID=America/New_York:20191208T180000
DTSTAMP:20260420T234138
CREATED:20190110T213707Z
LAST-MODIFIED:20190110T213707Z
UID:1825-1575820800-1575828000@www.pawtuxetrangers.com
SUMMARY:Christmas in the Village
DESCRIPTION:Tentative
URL:https://www.pawtuxetrangers.com/event/christmas-in-the-village-3/
LOCATION:Trinity Church\, 139 Ocean Avenue\, Cranston\, RI\, 02905\, United States
END:VEVENT
BEGIN:VEVENT
DTSTART;TZID=America/New_York:20191207T180000
DTEND;TZID=America/New_York:20191207T200000
DTSTAMP:20260420T234138
CREATED:20190110T213604Z
LAST-MODIFIED:20190110T213604Z
UID:1823-1575741600-1575748800@www.pawtuxetrangers.com
SUMMARY:St. Barbara's Night
DESCRIPTION:Tentative
URL:https://www.pawtuxetrangers.com/event/st-barbaras-night-2/
LOCATION:Artillery Cpy Newport\, 23 Clarke St\, Newport\, RI\, United States
END:VEVENT
BEGIN:VEVENT
DTSTART;TZID=America/New_York:20191204T200000
DTEND;TZID=America/New_York:20191204T210000
DTSTAMP:20260420T234138
CREATED:20190110T213514Z
LAST-MODIFIED:20190110T213514Z
UID:1821-1575489600-1575493200@www.pawtuxetrangers.com
SUMMARY:Business Meeting
DESCRIPTION:
URL:https://www.pawtuxetrangers.com/event/business-meeting-145/
LOCATION:Armory Hall\, 59 Remington Street\, Warwick\, RI\, 02888\, United States
END:VEVENT
END:VCALENDAR