BEGIN:VCALENDAR
VERSION:2.0
PRODID:-//PAWTUXET RANGERS, RIHM  - 1774 - ECPv6.15.20//NONSGML v1.0//EN
CALSCALE:GREGORIAN
METHOD:PUBLISH
X-WR-CALNAME:PAWTUXET RANGERS, RIHM  - 1774
X-ORIGINAL-URL:https://www.pawtuxetrangers.com
X-WR-CALDESC:Events for PAWTUXET RANGERS, RIHM  - 1774
REFRESH-INTERVAL;VALUE=DURATION:PT1H
X-Robots-Tag:noindex
X-PUBLISHED-TTL:PT1H
BEGIN:VTIMEZONE
TZID:America/New_York
BEGIN:DAYLIGHT
TZOFFSETFROM:-0500
TZOFFSETTO:-0400
TZNAME:EDT
DTSTART:20190310T070000
END:DAYLIGHT
BEGIN:STANDARD
TZOFFSETFROM:-0400
TZOFFSETTO:-0500
TZNAME:EST
DTSTART:20191103T060000
END:STANDARD
BEGIN:DAYLIGHT
TZOFFSETFROM:-0500
TZOFFSETTO:-0400
TZNAME:EDT
DTSTART:20200308T070000
END:DAYLIGHT
BEGIN:STANDARD
TZOFFSETFROM:-0400
TZOFFSETTO:-0500
TZNAME:EST
DTSTART:20201101T060000
END:STANDARD
BEGIN:DAYLIGHT
TZOFFSETFROM:-0500
TZOFFSETTO:-0400
TZNAME:EDT
DTSTART:20210314T070000
END:DAYLIGHT
BEGIN:STANDARD
TZOFFSETFROM:-0400
TZOFFSETTO:-0500
TZNAME:EST
DTSTART:20211107T060000
END:STANDARD
END:VTIMEZONE
BEGIN:VEVENT
DTSTART;TZID=America/New_York:20200715T200000
DTEND;TZID=America/New_York:20200715T210000
DTSTAMP:20260420T153730
CREATED:20200113T160653Z
LAST-MODIFIED:20200113T160653Z
UID:2099-1594843200-1594846800@www.pawtuxetrangers.com
SUMMARY:Business Meeting
DESCRIPTION:
URL:https://www.pawtuxetrangers.com/event/business-meeting-165/
LOCATION:Armory Hall\, 59 Remington Street\, Warwick\, RI\, 02888\, United States
END:VEVENT
BEGIN:VEVENT
DTSTART;TZID=America/New_York:20200708T200000
DTEND;TZID=America/New_York:20200708T210000
DTSTAMP:20260420T153730
CREATED:20200113T160613Z
LAST-MODIFIED:20200113T160613Z
UID:2097-1594238400-1594242000@www.pawtuxetrangers.com
SUMMARY:Business Meeting
DESCRIPTION:
URL:https://www.pawtuxetrangers.com/event/business-meeting-164/
LOCATION:Armory Hall\, 59 Remington Street\, Warwick\, RI\, 02888\, United States
END:VEVENT
BEGIN:VEVENT
DTSTART;TZID=America/New_York:20200704T100000
DTEND;TZID=America/New_York:20200704T130000
DTSTAMP:20260420T153730
CREATED:20200113T160540Z
LAST-MODIFIED:20200306T203514Z
UID:2095-1593856800-1593867600@www.pawtuxetrangers.com
SUMMARY:Bristol 4th of July Parade
DESCRIPTION:1st Reading – 2/26 \n2nd Reading – 3/4 \nApproved.
URL:https://www.pawtuxetrangers.com/event/bristol-4th-of-july-parade-3/
LOCATION:Mount Hope High school\, 199 Chestnut Street\, Bristol\, RI\, United States
END:VEVENT
BEGIN:VEVENT
DTSTART;TZID=America/New_York:20200701T200000
DTEND;TZID=America/New_York:20200701T210000
DTSTAMP:20260420T153730
CREATED:20200113T160444Z
LAST-MODIFIED:20200113T160444Z
UID:2093-1593633600-1593637200@www.pawtuxetrangers.com
SUMMARY:Business Meeting
DESCRIPTION:
URL:https://www.pawtuxetrangers.com/event/business-meeting-163/
LOCATION:Armory Hall\, 59 Remington Street\, Warwick\, RI\, 02888\, United States
END:VEVENT
BEGIN:VEVENT
DTSTART;TZID=America/New_York:20200624T200000
DTEND;TZID=America/New_York:20200624T210000
DTSTAMP:20260420T153730
CREATED:20200113T160408Z
LAST-MODIFIED:20200113T160408Z
UID:2091-1593028800-1593032400@www.pawtuxetrangers.com
SUMMARY:Business Meeting
DESCRIPTION:
URL:https://www.pawtuxetrangers.com/event/business-meeting-162/
LOCATION:Armory Hall\, 59 Remington Street\, Warwick\, RI\, 02888\, United States
END:VEVENT
BEGIN:VEVENT
DTSTART;TZID=America/New_York:20200624T190000
DTEND;TZID=America/New_York:20200624T200000
DTSTAMP:20260420T153730
CREATED:20200113T160337Z
LAST-MODIFIED:20200113T160337Z
UID:2089-1593025200-1593028800@www.pawtuxetrangers.com
SUMMARY:End of Month Dinner - free
DESCRIPTION:
URL:https://www.pawtuxetrangers.com/event/end-of-month-dinner-free-4/
LOCATION:Armory Hall\, 59 Remington Street\, Warwick\, RI\, 02888\, United States
END:VEVENT
BEGIN:VEVENT
DTSTART;TZID=America/New_York:20200617T200000
DTEND;TZID=America/New_York:20200617T210000
DTSTAMP:20260420T153730
CREATED:20200113T160259Z
LAST-MODIFIED:20200113T160259Z
UID:2087-1592424000-1592427600@www.pawtuxetrangers.com
SUMMARY:Business Meeting
DESCRIPTION:
URL:https://www.pawtuxetrangers.com/event/business-meeting-161/
LOCATION:Armory Hall\, 59 Remington Street\, Warwick\, RI\, 02888\, United States
END:VEVENT
BEGIN:VEVENT
DTSTART;VALUE=DATE:20200614
DTEND;VALUE=DATE:20200615
DTSTAMP:20260420T153730
CREATED:20200113T155921Z
LAST-MODIFIED:20200306T203448Z
UID:2085-1592092800-1592179199@www.pawtuxetrangers.com
SUMMARY:Gaspee Days Sunday in the Park
DESCRIPTION:1st Reading – 2/26 \n2nd Reading – 3/4 \nApproved.
URL:https://www.pawtuxetrangers.com/event/gaspee-days-sunday-in-the-park-4/
LOCATION:Pawtuxet Park\, E. View Street\, Warwick\, RI\, 02888\, United States
END:VEVENT
BEGIN:VEVENT
DTSTART;TZID=America/New_York:20200613T130000
DTEND;TZID=America/New_York:20200613T133000
DTSTAMP:20260420T153730
CREATED:20200113T155826Z
LAST-MODIFIED:20200306T203425Z
UID:2083-1592053200-1592055000@www.pawtuxetrangers.com
SUMMARY:Battle Streamer Ceremony/Inspection
DESCRIPTION:1st Reading – 2/26 \n2nd Reading – 3/4 \nApproved.
URL:https://www.pawtuxetrangers.com/event/battle-streamer-ceremony/
LOCATION:Pawtuxet Park\, E. View Street\, Warwick\, RI\, 02888\, United States
END:VEVENT
BEGIN:VEVENT
DTSTART;TZID=America/New_York:20200613T100000
DTEND;TZID=America/New_York:20200613T120000
DTSTAMP:20260420T153730
CREATED:20200113T155714Z
LAST-MODIFIED:20200306T203347Z
UID:2081-1592042400-1592049600@www.pawtuxetrangers.com
SUMMARY:Gaspee Days Parade
DESCRIPTION:1st Reading – 2/26 \n2nd Reading – 3/4 \nApproved.
URL:https://www.pawtuxetrangers.com/event/gaspee-days-parade-5/
LOCATION:Pawtuxet Park\, E. View Street\, Warwick\, RI\, 02888\, United States
END:VEVENT
BEGIN:VEVENT
DTSTART;TZID=America/New_York:20200613T080000
DTEND;TZID=America/New_York:20200613T090000
DTSTAMP:20260420T153730
CREATED:20200113T155346Z
LAST-MODIFIED:20200306T203323Z
UID:2079-1592035200-1592038800@www.pawtuxetrangers.com
SUMMARY:Gaspee Days Ecumenical Service
DESCRIPTION:1st Reading – 2/26 \n2nd Reading – 3/4 \nApproved – Voluntary
URL:https://www.pawtuxetrangers.com/event/gaspee-days-ecumenical-service-2/
LOCATION:Trinity Church\, 139 Ocean Avenue\, Cranston\, RI\, 02905\, United States
END:VEVENT
BEGIN:VEVENT
DTSTART;VALUE=DATE:20200612
DTEND;VALUE=DATE:20200615
DTSTAMP:20260420T153730
CREATED:20200113T155245Z
LAST-MODIFIED:20200306T203251Z
UID:2077-1591920000-1592179199@www.pawtuxetrangers.com
SUMMARY:Gaspee Days Encampment
DESCRIPTION:1st Reading – 2/26 \n2nd Reading – 3/4 \nApproved.
URL:https://www.pawtuxetrangers.com/event/gaspee-days-encampment-4/
LOCATION:Pawtuxet Park\, E. View Street\, Warwick\, RI\, 02888\, United States
END:VEVENT
BEGIN:VEVENT
DTSTART;TZID=America/New_York:20200610T200000
DTEND;TZID=America/New_York:20200610T210000
DTSTAMP:20260420T153730
CREATED:20200113T155128Z
LAST-MODIFIED:20200113T155128Z
UID:2075-1591819200-1591822800@www.pawtuxetrangers.com
SUMMARY:Business Meeting
DESCRIPTION:
URL:https://www.pawtuxetrangers.com/event/business-meeting-160/
LOCATION:Armory Hall\, 59 Remington Street\, Warwick\, RI\, 02888\, United States
END:VEVENT
BEGIN:VEVENT
DTSTART;TZID=America/New_York:20200606T100000
DTEND;TZID=America/New_York:20200606T110000
DTSTAMP:20260420T153730
CREATED:20200113T154854Z
LAST-MODIFIED:20200113T154854Z
UID:2067-1591437600-1591441200@www.pawtuxetrangers.com
SUMMARY:RI Yacht Club Opening - Tentative
DESCRIPTION:
URL:https://www.pawtuxetrangers.com/event/ri-yacht-club-opening-tentative-2/
LOCATION:RIYC\, 1 Ocean Avenue\, Cranston\, RI\, 02905\, United States
END:VEVENT
BEGIN:VEVENT
DTSTART;VALUE=DATE:20200606
DTEND;VALUE=DATE:20200607
DTSTAMP:20260420T153730
CREATED:20200113T154942Z
LAST-MODIFIED:20200113T154942Z
UID:2069-1591401600-1591487999@www.pawtuxetrangers.com
SUMMARY:Fife & Drum Concert in the Park - Tentative
DESCRIPTION:Time TBD
URL:https://www.pawtuxetrangers.com/event/fife-drum-concert-in-the-park-tentative/
LOCATION:Pawtuxet Park\, E. View Street\, Warwick\, RI\, 02888\, United States
END:VEVENT
BEGIN:VEVENT
DTSTART;TZID=America/New_York:20200603T200000
DTEND;TZID=America/New_York:20200603T210000
DTSTAMP:20260420T153730
CREATED:20200113T155056Z
LAST-MODIFIED:20200113T155056Z
UID:2073-1591214400-1591218000@www.pawtuxetrangers.com
SUMMARY:Business Meeting
DESCRIPTION:
URL:https://www.pawtuxetrangers.com/event/business-meeting-159/
LOCATION:Armory Hall\, 59 Remington Street\, Warwick\, RI\, 02888\, United States
END:VEVENT
BEGIN:VEVENT
DTSTART;TZID=America/New_York:20200603T200000
DTEND;TZID=America/New_York:20200603T210000
DTSTAMP:20260420T153730
CREATED:20200113T154409Z
LAST-MODIFIED:20200113T154409Z
UID:2065-1591214400-1591218000@www.pawtuxetrangers.com
SUMMARY:Business Meeting
DESCRIPTION:
URL:https://www.pawtuxetrangers.com/event/business-meeting-158/
LOCATION:Armory Hall\, 59 Remington Street\, Warwick\, RI\, 02888\, United States
END:VEVENT
BEGIN:VEVENT
DTSTART;VALUE=DATE:20200601
DTEND;VALUE=DATE:20200602
DTSTAMP:20260420T153730
CREATED:20200113T155023Z
LAST-MODIFIED:20200306T203225Z
UID:2071-1590969600-1591055999@www.pawtuxetrangers.com
SUMMARY:Ancient and Honorables June Day Parade
DESCRIPTION:1st Reading – 3/4
URL:https://www.pawtuxetrangers.com/event/ancient-and-honorables-june-day-parade-tentative/
LOCATION:Fanueil Hall\, 1 Fanueil Hall Square\, Boston\, MA\, United States
END:VEVENT
BEGIN:VEVENT
DTSTART;TZID=America/New_York:20200529T190000
DTEND;TZID=America/New_York:20200529T200000
DTSTAMP:20260420T153730
CREATED:20200113T154336Z
LAST-MODIFIED:20200306T203145Z
UID:2063-1590778800-1590782400@www.pawtuxetrangers.com
SUMMARY:RI Statehood Day Event
DESCRIPTION:1st Reading – 3/4
URL:https://www.pawtuxetrangers.com/event/ri-statehood-day-event/
LOCATION:Imperial Room – Shriners\, 1 Rhodes Place\, Cranston\, RI\, United States
END:VEVENT
BEGIN:VEVENT
DTSTART;TZID=America/New_York:20200527T200000
DTEND;TZID=America/New_York:20200527T210000
DTSTAMP:20260420T153730
CREATED:20200113T154253Z
LAST-MODIFIED:20200113T154253Z
UID:2061-1590609600-1590613200@www.pawtuxetrangers.com
SUMMARY:Business Meeting
DESCRIPTION:
URL:https://www.pawtuxetrangers.com/event/business-meeting-157/
LOCATION:Armory Hall\, 59 Remington Street\, Warwick\, RI\, 02888\, United States
END:VEVENT
BEGIN:VEVENT
DTSTART;TZID=America/New_York:20200527T183000
DTEND;TZID=America/New_York:20200527T200000
DTSTAMP:20260420T153730
CREATED:20200113T154220Z
LAST-MODIFIED:20200113T154220Z
UID:2059-1590604200-1590609600@www.pawtuxetrangers.com
SUMMARY:End of Month Dinner Meet & Greet
DESCRIPTION:
URL:https://www.pawtuxetrangers.com/event/end-of-month-dinner-meet-greet-2/
LOCATION:Armory Hall\, 59 Remington Street\, Warwick\, RI\, 02888\, United States
END:VEVENT
BEGIN:VEVENT
DTSTART;TZID=America/New_York:20200525T123000
DTEND;TZID=America/New_York:20200525T130000
DTSTAMP:20260420T153730
CREATED:20200113T154133Z
LAST-MODIFIED:20200306T203047Z
UID:2057-1590409800-1590411600@www.pawtuxetrangers.com
SUMMARY:Gaspee Days Arts & Crafts Walkthrough
DESCRIPTION:1st Reading – 2/26 \n2nd Reading – 3/4 \nApproved.
URL:https://www.pawtuxetrangers.com/event/gaspee-days-arts-crafts-walkthrough-2/
LOCATION:Pawtuxet Park\, E. View Street\, Warwick\, RI\, 02888\, United States
END:VEVENT
BEGIN:VEVENT
DTSTART;TZID=America/New_York:20200525T120000
DTEND;TZID=America/New_York:20200525T123000
DTSTAMP:20260420T153730
CREATED:20200113T154041Z
LAST-MODIFIED:20200113T154041Z
UID:2055-1590408000-1590409800@www.pawtuxetrangers.com
SUMMARY:Greene Cemetery Memorial
DESCRIPTION:
URL:https://www.pawtuxetrangers.com/event/greene-cemetery-memorial/
LOCATION:Greene Cemetery\, 146 Post Road\, Warwick\, RI\, United States
END:VEVENT
BEGIN:VEVENT
DTSTART;VALUE=DATE:20200525
DTEND;VALUE=DATE:20200526
DTSTAMP:20260420T153730
CREATED:20200113T153948Z
LAST-MODIFIED:20200306T203012Z
UID:2053-1590364800-1590451199@www.pawtuxetrangers.com
SUMMARY:Barrington Memorial Day Parade
DESCRIPTION:1st Reading – 2/26 \n2nd Reading – 3/4 \nApproved.
URL:https://www.pawtuxetrangers.com/event/barrington-memorial-day-parade-tentative-4/
LOCATION:Barrington High School\, 220 Lincoln Avenue\, Barrington\, RI\, United States
END:VEVENT
BEGIN:VEVENT
DTSTART;VALUE=DATE:20200524
DTEND;VALUE=DATE:20200525
DTSTAMP:20260420T153730
CREATED:20200113T153743Z
LAST-MODIFIED:20200113T153743Z
UID:2051-1590278400-1590364799@www.pawtuxetrangers.com
SUMMARY:Exeter Memorial Day Parade - Tentative
DESCRIPTION:
URL:https://www.pawtuxetrangers.com/event/exeter-memorial-day-parade-tentative-2/
LOCATION:Exeter\, Sunderland Rd and Route 102\, Exeter\, RI\, United States
END:VEVENT
BEGIN:VEVENT
DTSTART;VALUE=DATE:20200523
DTEND;VALUE=DATE:20200526
DTSTAMP:20260420T153730
CREATED:20200113T153700Z
LAST-MODIFIED:20200113T153700Z
UID:2049-1590192000-1590451199@www.pawtuxetrangers.com
SUMMARY:Recruiting Booth - Arts & Crafts
DESCRIPTION:
URL:https://www.pawtuxetrangers.com/event/recruiting-booth-arts-crafts/
LOCATION:Pawtuxet Park\, E. View Street\, Warwick\, RI\, 02888\, United States
END:VEVENT
BEGIN:VEVENT
DTSTART;TZID=America/New_York:20200520T200000
DTEND;TZID=America/New_York:20200520T210000
DTSTAMP:20260420T153730
CREATED:20200113T153548Z
LAST-MODIFIED:20200113T153548Z
UID:2047-1590004800-1590008400@www.pawtuxetrangers.com
SUMMARY:Business Meeting
DESCRIPTION:
URL:https://www.pawtuxetrangers.com/event/business-meeting-156/
LOCATION:Armory Hall\, 59 Remington Street\, Warwick\, RI\, 02888\, United States
END:VEVENT
BEGIN:VEVENT
DTSTART;TZID=America/New_York:20200516T130000
DTEND;TZID=America/New_York:20200516T160000
DTSTAMP:20260420T153730
CREATED:20200113T153511Z
LAST-MODIFIED:20200306T202923Z
UID:2045-1589634000-1589644800@www.pawtuxetrangers.com
SUMMARY:Pawtuxet Walking Tours
DESCRIPTION:1st Reading – 2/26 \n2nd Reading – 3/4 \nApproved – Voluntary
URL:https://www.pawtuxetrangers.com/event/pawtuxet-walking-tours-tentative/
LOCATION:Armory Hall\, 59 Remington Street\, Warwick\, RI\, 02888\, United States
END:VEVENT
BEGIN:VEVENT
DTSTART;TZID=America/New_York:20200516T120000
DTEND;TZID=America/New_York:20200516T123000
DTSTAMP:20260420T153730
CREATED:20200113T153424Z
LAST-MODIFIED:20200306T194850Z
UID:2043-1589630400-1589632200@www.pawtuxetrangers.com
SUMMARY:Gaspee Proclamation Ceremony
DESCRIPTION:1st Reading – 2/26 \n2nd Reading – 3/4 \nApproved.
URL:https://www.pawtuxetrangers.com/event/gaspee-proclamation-ceremony/
LOCATION:Pawtuxet Park\, E. View Street\, Warwick\, RI\, 02888\, United States
END:VEVENT
BEGIN:VEVENT
DTSTART;TZID=America/New_York:20200516T100000
DTEND;TZID=America/New_York:20200516T110000
DTSTAMP:20260420T153730
CREATED:20200113T153339Z
LAST-MODIFIED:20200306T194801Z
UID:2041-1589623200-1589626800@www.pawtuxetrangers.com
SUMMARY:Edgewood Yacht Club Opening
DESCRIPTION:1st Reading – 2/26 \n2nd Reading – 3/4 \nApproved.
URL:https://www.pawtuxetrangers.com/event/edgewood-yacht-club-opening/
LOCATION:Edgewood Yacht Club\, 3 Shaw Avenue\, Cranston\, RI\, 02905\, United States
END:VEVENT
END:VCALENDAR