BEGIN:VCALENDAR
VERSION:2.0
PRODID:-//PAWTUXET RANGERS, RIHM  - 1774 - ECPv6.15.20//NONSGML v1.0//EN
CALSCALE:GREGORIAN
METHOD:PUBLISH
X-WR-CALNAME:PAWTUXET RANGERS, RIHM  - 1774
X-ORIGINAL-URL:https://www.pawtuxetrangers.com
X-WR-CALDESC:Events for PAWTUXET RANGERS, RIHM  - 1774
REFRESH-INTERVAL;VALUE=DURATION:PT1H
X-Robots-Tag:noindex
X-PUBLISHED-TTL:PT1H
BEGIN:VTIMEZONE
TZID:America/New_York
BEGIN:DAYLIGHT
TZOFFSETFROM:-0500
TZOFFSETTO:-0400
TZNAME:EDT
DTSTART:20190310T070000
END:DAYLIGHT
BEGIN:STANDARD
TZOFFSETFROM:-0400
TZOFFSETTO:-0500
TZNAME:EST
DTSTART:20191103T060000
END:STANDARD
BEGIN:DAYLIGHT
TZOFFSETFROM:-0500
TZOFFSETTO:-0400
TZNAME:EDT
DTSTART:20200308T070000
END:DAYLIGHT
BEGIN:STANDARD
TZOFFSETFROM:-0400
TZOFFSETTO:-0500
TZNAME:EST
DTSTART:20201101T060000
END:STANDARD
BEGIN:DAYLIGHT
TZOFFSETFROM:-0500
TZOFFSETTO:-0400
TZNAME:EDT
DTSTART:20210314T070000
END:DAYLIGHT
BEGIN:STANDARD
TZOFFSETFROM:-0400
TZOFFSETTO:-0500
TZNAME:EST
DTSTART:20211107T060000
END:STANDARD
BEGIN:DAYLIGHT
TZOFFSETFROM:-0500
TZOFFSETTO:-0400
TZNAME:EDT
DTSTART:20220313T070000
END:DAYLIGHT
BEGIN:STANDARD
TZOFFSETFROM:-0400
TZOFFSETTO:-0500
TZNAME:EST
DTSTART:20221106T060000
END:STANDARD
BEGIN:DAYLIGHT
TZOFFSETFROM:-0500
TZOFFSETTO:-0400
TZNAME:EDT
DTSTART:20230312T070000
END:DAYLIGHT
BEGIN:STANDARD
TZOFFSETFROM:-0400
TZOFFSETTO:-0500
TZNAME:EST
DTSTART:20231105T060000
END:STANDARD
END:VTIMEZONE
BEGIN:VEVENT
DTSTART;TZID=America/New_York:20220530T130000
DTEND;TZID=America/New_York:20220530T133000
DTSTAMP:20260420T011050
CREATED:20220402T193026Z
LAST-MODIFIED:20220402T193026Z
UID:2339-1653915600-1653917400@www.pawtuxetrangers.com
SUMMARY:Gaspee Arts & Crafts Walkthrough
DESCRIPTION:Immediately following the cemetery ceremony.
URL:https://www.pawtuxetrangers.com/event/gaspee-arts-crafts-walkthrough-4/
LOCATION:Greene Cemetery\, 146 Post Road\, Warwick\, RI\, United States
END:VEVENT
BEGIN:VEVENT
DTSTART;TZID=America/New_York:20220530T123000
DTEND;TZID=America/New_York:20220530T130000
DTSTAMP:20260420T011050
CREATED:20220402T192902Z
LAST-MODIFIED:20220402T192902Z
UID:2337-1653913800-1653915600@www.pawtuxetrangers.com
SUMMARY:Memorial Day Ceremony Pawtuxet Cemetery
DESCRIPTION:Immediately following parade. Meet behind Citizens bank.
URL:https://www.pawtuxetrangers.com/event/memorial-day-ceremony-pawtuxet-cemetery/
LOCATION:Greene Cemetery\, 146 Post Road\, Warwick\, RI\, United States
END:VEVENT
BEGIN:VEVENT
DTSTART;TZID=America/New_York:20220530T110000
DTEND;TZID=America/New_York:20220530T130000
DTSTAMP:20260420T011050
CREATED:20220402T192721Z
LAST-MODIFIED:20220402T192721Z
UID:2334-1653908400-1653915600@www.pawtuxetrangers.com
SUMMARY:West Greenwich Memorial Day Parade
DESCRIPTION:Approved by unit vote
URL:https://www.pawtuxetrangers.com/event/west-greenwich-memorial-day-parade/
LOCATION:West Greenwich\, RI\, West Greenwich\, RI\, United States
END:VEVENT
BEGIN:VEVENT
DTSTART;TZID=America/New_York:20220529T140000
DTEND;TZID=America/New_York:20220529T160000
DTSTAMP:20260420T011050
CREATED:20220402T192553Z
LAST-MODIFIED:20220402T192553Z
UID:2332-1653832800-1653840000@www.pawtuxetrangers.com
SUMMARY:Rhode Island State Hood Day Observance
DESCRIPTION:Approved by unit vote.
URL:https://www.pawtuxetrangers.com/event/rhode-island-state-hood-day-observance/
LOCATION:Rhodes On The Pawtuxet\, 1 Rhode Place\, Cranston\, RI\, 02905\, United States
END:VEVENT
BEGIN:VEVENT
DTSTART;TZID=America/New_York:20220521T120000
DTEND;TZID=America/New_York:20220521T160000
DTSTAMP:20260420T011050
CREATED:20220402T192447Z
LAST-MODIFIED:20220402T192447Z
UID:2330-1653134400-1653148800@www.pawtuxetrangers.com
SUMMARY:Gaspee Proclamation and Historic Walking Tours
DESCRIPTION:Approved by unit vote. 
URL:https://www.pawtuxetrangers.com/event/gaspee-proclamation-and-historic-walking-tours/
LOCATION:Armory Hall\, 59 Remington Street\, Warwick\, RI\, 02888\, United States
END:VEVENT
BEGIN:VEVENT
DTSTART;TZID=America/New_York:20220514T100000
DTEND;TZID=America/New_York:20220514T103000
DTSTAMP:20260420T011050
CREATED:20220402T192352Z
LAST-MODIFIED:20220402T192352Z
UID:2328-1652522400-1652524200@www.pawtuxetrangers.com
SUMMARY:Edgewood Yacht Club Opening Day
DESCRIPTION:Approved by unit vote
URL:https://www.pawtuxetrangers.com/event/edgewood-yacht-club-opening-day-3/
LOCATION:Edgewood Yacht Club\, 3 Shaw Avenue\, Cranston\, RI\, 02905\, United States
END:VEVENT
BEGIN:VEVENT
DTSTART;TZID=America/New_York:20220507T120000
DTEND;TZID=America/New_York:20220507T170000
DTSTAMP:20260420T011050
CREATED:20220402T192207Z
LAST-MODIFIED:20220402T192207Z
UID:2326-1651924800-1651942800@www.pawtuxetrangers.com
SUMMARY:Smith's Castle Opening Day
DESCRIPTION:Voluntary event
URL:https://www.pawtuxetrangers.com/event/smiths-castle-opening-day/
LOCATION:Smith’s Castle\, 55 Richard Smith Drive\, North Kingstown\, RI\, United States
END:VEVENT
BEGIN:VEVENT
DTSTART;TZID=America/New_York:20220507T100000
DTEND;TZID=America/New_York:20220507T120000
DTSTAMP:20260420T011050
CREATED:20220402T192115Z
LAST-MODIFIED:20220402T192115Z
UID:2323-1651917600-1651924800@www.pawtuxetrangers.com
SUMMARY:North Smithfield 150th Anniversary Parade
DESCRIPTION:Approved by unit vote.
URL:https://www.pawtuxetrangers.com/event/north-smithfield-150th-anniversary-parade/
LOCATION:North Smithfield\, RI\, North Smithfield\, RI\, United States
END:VEVENT
BEGIN:VEVENT
DTSTART;TZID=America/New_York:20220501T170000
DTEND;TZID=America/New_York:20220501T173000
DTSTAMP:20260420T011050
CREATED:20220402T191950Z
LAST-MODIFIED:20220402T191950Z
UID:2321-1651424400-1651426200@www.pawtuxetrangers.com
SUMMARY:RI Heritage Hall of Fame Ceremony
DESCRIPTION:Colors and Fife& drum. \n2nd reading – 6 APR 22
URL:https://www.pawtuxetrangers.com/event/ri-heritage-hall-of-fame-ceremony/
LOCATION:Crowne Plaza Hotel\, 801 Greenwich Avenue\, Warwick\, RI\, United States
END:VEVENT
BEGIN:VEVENT
DTSTART;TZID=America/New_York:20220429T180000
DTEND;TZID=America/New_York:20220501T180000
DTSTAMP:20260420T011050
CREATED:20220402T191803Z
LAST-MODIFIED:20220402T191803Z
UID:2319-1651255200-1651428000@www.pawtuxetrangers.com
SUMMARY:Ranger/Gaspee Museum for a Weekend
DESCRIPTION:The armory will be open on Friday from 1800-2000\, Saturday from 1000-1600 and Sunday from 1200-1700 \n  \nFriday\, April 29 – Opening ceremony and cocktail reception between the armory and the boathouse.  \nSaturday\, April 30 – 1000 – Color Guard in the park to march children around and pass out flags \n                                1200 – Fife & drum performs in the park \n                                1500 – Cannon and muskets demonstrations in the park \nSunday\, May 1 – 1200 – Color Guard in the park to march children around and pass out flags \n                           1400 – Fife & drum performs in the park \n                            1530 – Cannon and muskets in the park \nTimes subject to slight adjustments \n 
URL:https://www.pawtuxetrangers.com/event/ranger-gaspee-museum-for-a-weekend/
LOCATION:Aspray Boat House\, 2 East View Street\, Warwick\, RI\, United States
END:VEVENT
BEGIN:VEVENT
DTSTART;TZID=America/New_York:20220406T080000
DTEND;TZID=America/New_York:20220406T190000
DTSTAMP:20260420T011050
CREATED:20220402T191250Z
LAST-MODIFIED:20220402T191250Z
UID:2317-1649232000-1649271600@www.pawtuxetrangers.com
SUMMARY:Bank Street Birthday
DESCRIPTION:Help us celebrate the birthday of a 100 year old WWII Veteran. Reporting time to the armory is 1845.
URL:https://www.pawtuxetrangers.com/event/bank-street-birthday/
LOCATION:Armory Hall\, 59 Remington Street\, Warwick\, RI\, 02888\, United States
END:VEVENT
BEGIN:VEVENT
DTSTART;TZID=America/New_York:20201216T200000
DTEND;TZID=America/New_York:20201216T210000
DTSTAMP:20260420T011050
CREATED:20200113T164134Z
LAST-MODIFIED:20200113T164134Z
UID:2179-1608148800-1608152400@www.pawtuxetrangers.com
SUMMARY:Final Business Meeting of the Year
DESCRIPTION:
URL:https://www.pawtuxetrangers.com/event/final-business-meeting-of-the-year-2/
LOCATION:Armory Hall\, 59 Remington Street\, Warwick\, RI\, 02888\, United States
END:VEVENT
BEGIN:VEVENT
DTSTART;TZID=America/New_York:20201213T160000
DTEND;TZID=America/New_York:20201213T183000
DTSTAMP:20260420T011050
CREATED:20200113T164041Z
LAST-MODIFIED:20200113T164041Z
UID:2177-1607875200-1607884200@www.pawtuxetrangers.com
SUMMARY:Christmas in the Village
DESCRIPTION:
URL:https://www.pawtuxetrangers.com/event/christmas-in-the-village-4/
LOCATION:Trinity Church\, 139 Ocean Avenue\, Cranston\, RI\, 02905\, United States
END:VEVENT
BEGIN:VEVENT
DTSTART;TZID=America/New_York:20201209T200000
DTEND;TZID=America/New_York:20201209T210000
DTSTAMP:20260420T011050
CREATED:20200113T163957Z
LAST-MODIFIED:20200113T163957Z
UID:2175-1607544000-1607547600@www.pawtuxetrangers.com
SUMMARY:Business Meeting
DESCRIPTION:
URL:https://www.pawtuxetrangers.com/event/business-meeting-184/
LOCATION:Armory Hall\, 59 Remington Street\, Warwick\, RI\, 02888\, United States
END:VEVENT
BEGIN:VEVENT
DTSTART;TZID=America/New_York:20201206T160000
DTEND;TZID=America/New_York:20201206T190000
DTSTAMP:20260420T011050
CREATED:20200113T163917Z
LAST-MODIFIED:20200113T163917Z
UID:2173-1607270400-1607281200@www.pawtuxetrangers.com
SUMMARY:Holiday Open Armory
DESCRIPTION:
URL:https://www.pawtuxetrangers.com/event/holiday-open-armory-2/
LOCATION:Armory Hall\, 59 Remington Street\, Warwick\, RI\, 02888\, United States
END:VEVENT
BEGIN:VEVENT
DTSTART;TZID=America/New_York:20201205T180000
DTEND;TZID=America/New_York:20201205T200000
DTSTAMP:20260420T011050
CREATED:20200113T163839Z
LAST-MODIFIED:20200113T163839Z
UID:2171-1607191200-1607198400@www.pawtuxetrangers.com
SUMMARY:St. Barbara's Night
DESCRIPTION:
URL:https://www.pawtuxetrangers.com/event/st-barbaras-night-3/
LOCATION:Artillery Cpy Newport\, 23 Clarke St\, Newport\, RI\, United States
END:VEVENT
BEGIN:VEVENT
DTSTART;TZID=America/New_York:20201202T200000
DTEND;TZID=America/New_York:20201202T210000
DTSTAMP:20260420T011050
CREATED:20200113T163755Z
LAST-MODIFIED:20200113T163755Z
UID:2169-1606939200-1606942800@www.pawtuxetrangers.com
SUMMARY:Business Meeting
DESCRIPTION:
URL:https://www.pawtuxetrangers.com/event/business-meeting-183/
LOCATION:Armory Hall\, 59 Remington Street\, Warwick\, RI\, 02888\, United States
END:VEVENT
BEGIN:VEVENT
DTSTART;TZID=America/New_York:20201128T090000
DTEND;TZID=America/New_York:20201128T110000
DTSTAMP:20260420T011050
CREATED:20200113T163625Z
LAST-MODIFIED:20200113T163625Z
UID:2167-1606554000-1606561200@www.pawtuxetrangers.com
SUMMARY:Armory Work Detail - Tentative
DESCRIPTION:
URL:https://www.pawtuxetrangers.com/event/armory-work-detail-tentative-2/
LOCATION:Armory Hall\, 59 Remington Street\, Warwick\, RI\, 02888\, United States
END:VEVENT
BEGIN:VEVENT
DTSTART;TZID=America/New_York:20201125T200000
DTEND;TZID=America/New_York:20201125T210000
DTSTAMP:20260420T011050
CREATED:20200113T163534Z
LAST-MODIFIED:20200113T163534Z
UID:2165-1606334400-1606338000@www.pawtuxetrangers.com
SUMMARY:Business Meeting Canceled
DESCRIPTION:
URL:https://www.pawtuxetrangers.com/event/business-meeting-canceled-7/
LOCATION:Armory Hall\, 59 Remington Street\, Warwick\, RI\, 02888\, United States
END:VEVENT
BEGIN:VEVENT
DTSTART;TZID=America/New_York:20201118T200000
DTEND;TZID=America/New_York:20201118T210000
DTSTAMP:20260420T011050
CREATED:20200113T163437Z
LAST-MODIFIED:20200113T163437Z
UID:2163-1605729600-1605733200@www.pawtuxetrangers.com
SUMMARY:Business Meeting
DESCRIPTION:
URL:https://www.pawtuxetrangers.com/event/business-meeting-182/
LOCATION:Armory Hall\, 59 Remington Street\, Warwick\, RI\, 02888\, United States
END:VEVENT
BEGIN:VEVENT
DTSTART;TZID=America/New_York:20201111T200000
DTEND;TZID=America/New_York:20201111T210000
DTSTAMP:20260420T011050
CREATED:20200113T163401Z
LAST-MODIFIED:20200113T163401Z
UID:2161-1605124800-1605128400@www.pawtuxetrangers.com
SUMMARY:Business Meeting
DESCRIPTION:
URL:https://www.pawtuxetrangers.com/event/business-meeting-181/
LOCATION:Armory Hall\, 59 Remington Street\, Warwick\, RI\, 02888\, United States
END:VEVENT
BEGIN:VEVENT
DTSTART;TZID=America/New_York:20201104T200000
DTEND;TZID=America/New_York:20201104T210000
DTSTAMP:20260420T011050
CREATED:20200113T163329Z
LAST-MODIFIED:20200113T163329Z
UID:2159-1604520000-1604523600@www.pawtuxetrangers.com
SUMMARY:Business Meeting
DESCRIPTION:
URL:https://www.pawtuxetrangers.com/event/business-meeting-180/
LOCATION:Armory Hall\, 59 Remington Street\, Warwick\, RI\, 02888\, United States
END:VEVENT
BEGIN:VEVENT
DTSTART;TZID=America/New_York:20201028T180000
DTEND;TZID=America/New_York:20201028T203000
DTSTAMP:20260420T011050
CREATED:20200113T163250Z
LAST-MODIFIED:20200113T163250Z
UID:2157-1603908000-1603917000@www.pawtuxetrangers.com
SUMMARY:246th Anniversary Dinner
DESCRIPTION:
URL:https://www.pawtuxetrangers.com/event/246th-anniversary-dinner/
LOCATION:Imperial Room – Shriners\, 1 Rhodes Place\, Cranston\, RI\, United States
END:VEVENT
BEGIN:VEVENT
DTSTART;TZID=America/New_York:20201021T200000
DTEND;TZID=America/New_York:20201021T210000
DTSTAMP:20260420T011050
CREATED:20200113T163154Z
LAST-MODIFIED:20200113T163154Z
UID:2155-1603310400-1603314000@www.pawtuxetrangers.com
SUMMARY:Business Meeting
DESCRIPTION:
URL:https://www.pawtuxetrangers.com/event/business-meeting-179/
LOCATION:Armory Hall\, 59 Remington Street\, Warwick\, RI\, 02888\, United States
END:VEVENT
BEGIN:VEVENT
DTSTART;TZID=America/New_York:20201017T090000
DTEND;TZID=America/New_York:20201017T120000
DTSTAMP:20260420T011050
CREATED:20200113T163118Z
LAST-MODIFIED:20200113T163118Z
UID:2153-1602925200-1602936000@www.pawtuxetrangers.com
SUMMARY:Muster Day - Tentative
DESCRIPTION:
URL:https://www.pawtuxetrangers.com/event/muster-day-tentative-2/
LOCATION:Wallum Lake Rod and Gun Club\, 200 Brook Road\, Harrisville\, RI\, United States
END:VEVENT
BEGIN:VEVENT
DTSTART;VALUE=DATE:20201016
DTEND;VALUE=DATE:20201018
DTSTAMP:20260420T011050
CREATED:20200113T163018Z
LAST-MODIFIED:20200113T163018Z
UID:2150-1602806400-1602979199@www.pawtuxetrangers.com
SUMMARY:Centennial Legion Annual Meeting - Tentative
DESCRIPTION:
URL:https://www.pawtuxetrangers.com/event/centennial-legion-annual-meeting-tentative-2/
LOCATION:Gettysburg
END:VEVENT
BEGIN:VEVENT
DTSTART;TZID=America/New_York:20201014T200000
DTEND;TZID=America/New_York:20201014T210000
DTSTAMP:20260420T011051
CREATED:20200113T162727Z
LAST-MODIFIED:20200113T162727Z
UID:2146-1602705600-1602709200@www.pawtuxetrangers.com
SUMMARY:Business Meeting
DESCRIPTION:
URL:https://www.pawtuxetrangers.com/event/business-meeting-178/
LOCATION:Armory Hall\, 59 Remington Street\, Warwick\, RI\, 02888\, United States
END:VEVENT
BEGIN:VEVENT
DTSTART;TZID=America/New_York:20201011T120000
DTEND;TZID=America/New_York:20201011T140000
DTSTAMP:20260420T011051
CREATED:20200113T162901Z
LAST-MODIFIED:20200113T162901Z
UID:2148-1602417600-1602424800@www.pawtuxetrangers.com
SUMMARY:Providence Columbus Day Parade- Tentative
DESCRIPTION:
URL:https://www.pawtuxetrangers.com/event/providence-columbus-day-parade-tentative-4/
LOCATION:Providence\, Providence\, RI\, United States
END:VEVENT
BEGIN:VEVENT
DTSTART;TZID=America/New_York:20201007T200000
DTEND;TZID=America/New_York:20201007T210000
DTSTAMP:20260420T011051
CREATED:20200113T162538Z
LAST-MODIFIED:20200113T162538Z
UID:2142-1602100800-1602104400@www.pawtuxetrangers.com
SUMMARY:Business Meeting
DESCRIPTION:
URL:https://www.pawtuxetrangers.com/event/business-meeting-177/
LOCATION:Armory Hall\, 59 Remington Street\, Warwick\, RI\, 02888\, United States
END:VEVENT
BEGIN:VEVENT
DTSTART;TZID=America/New_York:20201003T120000
DTEND;TZID=America/New_York:20201003T123000
DTSTAMP:20260420T011051
CREATED:20200113T162627Z
LAST-MODIFIED:20200113T162627Z
UID:2144-1601726400-1601728200@www.pawtuxetrangers.com
SUMMARY:McBride's 0K - Tentative
DESCRIPTION:
URL:https://www.pawtuxetrangers.com/event/mcbrides-0k-tentative/
LOCATION:McBride’s Pub\, 161 Wayland Avenue\, Providence\, RI\, United States
END:VEVENT
END:VCALENDAR