BEGIN:VCALENDAR
VERSION:2.0
PRODID:-//PAWTUXET RANGERS, RIHM  - 1774 - ECPv6.15.20//NONSGML v1.0//EN
CALSCALE:GREGORIAN
METHOD:PUBLISH
X-WR-CALNAME:PAWTUXET RANGERS, RIHM  - 1774
X-ORIGINAL-URL:https://www.pawtuxetrangers.com
X-WR-CALDESC:Events for PAWTUXET RANGERS, RIHM  - 1774
REFRESH-INTERVAL;VALUE=DURATION:PT1H
X-Robots-Tag:noindex
X-PUBLISHED-TTL:PT1H
BEGIN:VTIMEZONE
TZID:America/New_York
BEGIN:DAYLIGHT
TZOFFSETFROM:-0500
TZOFFSETTO:-0400
TZNAME:EDT
DTSTART:20150308T070000
END:DAYLIGHT
BEGIN:STANDARD
TZOFFSETFROM:-0400
TZOFFSETTO:-0500
TZNAME:EST
DTSTART:20151101T060000
END:STANDARD
BEGIN:DAYLIGHT
TZOFFSETFROM:-0500
TZOFFSETTO:-0400
TZNAME:EDT
DTSTART:20160313T070000
END:DAYLIGHT
BEGIN:STANDARD
TZOFFSETFROM:-0400
TZOFFSETTO:-0500
TZNAME:EST
DTSTART:20161106T060000
END:STANDARD
BEGIN:DAYLIGHT
TZOFFSETFROM:-0500
TZOFFSETTO:-0400
TZNAME:EDT
DTSTART:20170312T070000
END:DAYLIGHT
BEGIN:STANDARD
TZOFFSETFROM:-0400
TZOFFSETTO:-0500
TZNAME:EST
DTSTART:20171105T060000
END:STANDARD
END:VTIMEZONE
BEGIN:VEVENT
DTSTART;TZID=America/New_York:20160608T190000
DTEND;TZID=America/New_York:20160608T194500
DTSTAMP:20260425T150726
CREATED:20160519T180043Z
LAST-MODIFIED:20160519T180122Z
UID:806-1465412400-1465415100@www.pawtuxetrangers.com
SUMMARY:Marching Practice
DESCRIPTION:
URL:https://www.pawtuxetrangers.com/event/marching-practice-2/
LOCATION:Pawtuxet Park\, E. View Street\, Warwick\, RI\, 02888\, United States
END:VEVENT
BEGIN:VEVENT
DTSTART;VALUE=DATE:20160606
DTEND;VALUE=DATE:20160607
DTSTAMP:20260425T150726
CREATED:20160203T194722Z
LAST-MODIFIED:20160310T171934Z
UID:468-1465171200-1465257599@www.pawtuxetrangers.com
SUMMARY:June Day Boston
DESCRIPTION:1st Reading – 2/17 \n2nd Reading – 3/2 – Tabled \n3/9 – Approved – Voluntary
URL:https://www.pawtuxetrangers.com/event/june-day-boston-tentative/
LOCATION:Fanueil Hall\, 1 Fanueil Hall Square\, Boston\, MA\, United States
END:VEVENT
BEGIN:VEVENT
DTSTART;TZID=America/New_York:20160604T100000
DTEND;TZID=America/New_York:20160604T103000
DTSTAMP:20260425T150726
CREATED:20160203T191659Z
LAST-MODIFIED:20160601T173701Z
UID:457-1465034400-1465036200@www.pawtuxetrangers.com
SUMMARY:Rhode Island Yacht Club Opening
DESCRIPTION:1st Reading – 4/13. \n2nd Reading – 5/4. Approved.
URL:https://www.pawtuxetrangers.com/event/rhode-island-yacht-club-opening-tentative/
LOCATION:RIYC\, 1 Ocean Avenue\, Cranston\, RI\, 02905\, United States
END:VEVENT
BEGIN:VEVENT
DTSTART;TZID=America/New_York:20160601T200000
DTEND;TZID=America/New_York:20160601T210000
DTSTAMP:20260425T150726
CREATED:20160203T192423Z
LAST-MODIFIED:20160203T192423Z
UID:467-1464811200-1464814800@www.pawtuxetrangers.com
SUMMARY:Business Meeting
DESCRIPTION:
URL:https://www.pawtuxetrangers.com/event/business-meeting-16/
LOCATION:Armory Hall\, 59 Remington Street\, Warwick\, RI\, 02888\, United States
END:VEVENT
BEGIN:VEVENT
DTSTART;TZID=America/New_York:20160601T180000
DTEND;TZID=America/New_York:20160601T200000
DTSTAMP:20260425T150726
CREATED:20160203T192351Z
LAST-MODIFIED:20160203T192351Z
UID:466-1464804000-1464811200@www.pawtuxetrangers.com
SUMMARY:Meet and Greet Cookout
DESCRIPTION:
URL:https://www.pawtuxetrangers.com/event/meet-and-greet-cookout/
LOCATION:Armory Hall\, 59 Remington Street\, Warwick\, RI\, 02888\, United States
END:VEVENT
BEGIN:VEVENT
DTSTART;TZID=America/New_York:20160530T113000
DTEND;TZID=America/New_York:20160530T120000
DTSTAMP:20260425T150726
CREATED:20160203T192244Z
LAST-MODIFIED:20160304T213632Z
UID:465-1464607800-1464609600@www.pawtuxetrangers.com
SUMMARY:Gaspee Days Arts & Crafts Walkthrough
DESCRIPTION:1st Reading – 2/17 \n2nd Reading – 3/2 – Approved.
URL:https://www.pawtuxetrangers.com/event/gaspee-days-arts-crafts-walkthrough/
LOCATION:Pawtuxet Park\, E. View Street\, Warwick\, RI\, 02888\, United States
END:VEVENT
BEGIN:VEVENT
DTSTART;TZID=America/New_York:20160530T110000
DTEND;TZID=America/New_York:20160530T113000
DTSTAMP:20260425T150726
CREATED:20160203T192145Z
LAST-MODIFIED:20160512T144146Z
UID:463-1464606000-1464607800@www.pawtuxetrangers.com
SUMMARY:Greene Cemetery Memorial Service
DESCRIPTION:
URL:https://www.pawtuxetrangers.com/event/greene-cemetery-memorial-service-tentative/
LOCATION:Greene Cemetery\, 146 Post Road\, Warwick\, RI\, United States
END:VEVENT
BEGIN:VEVENT
DTSTART;TZID=America/New_York:20160530T090000
DTEND;TZID=America/New_York:20160530T110000
DTSTAMP:20260425T150726
CREATED:20160203T192028Z
LAST-MODIFIED:20160527T121126Z
UID:461-1464598800-1464606000@www.pawtuxetrangers.com
SUMMARY:Barrington Memorial Day Parade
DESCRIPTION:1st Reading – 4/13. \n2nd Reading – 5/4. Approved.
URL:https://www.pawtuxetrangers.com/event/barrington-memorial-day-parade-tentative/
LOCATION:Barrington High School\, 220 Lincoln Avenue\, Barrington\, RI\, United States
END:VEVENT
BEGIN:VEVENT
DTSTART;TZID=America/New_York:20160529T130000
DTEND;TZID=America/New_York:20160529T150000
DTSTAMP:20260425T150726
CREATED:20160203T191859Z
LAST-MODIFIED:20160510T130624Z
UID:459-1464526800-1464534000@www.pawtuxetrangers.com
SUMMARY:Exeter Memorial Day Parade
DESCRIPTION:1st Reading. 3/23. \n2nd Reading. 5/4. Approved.
URL:https://www.pawtuxetrangers.com/event/exeter-memorial-day-parade-tentative/
LOCATION:Exeter\, Sunderland Rd and Route 102\, Exeter\, RI\, United States
END:VEVENT
BEGIN:VEVENT
DTSTART;VALUE=DATE:20160528
DTEND;VALUE=DATE:20160531
DTSTAMP:20260425T150726
CREATED:20160203T191145Z
LAST-MODIFIED:20160316T140457Z
UID:456-1464393600-1464652799@www.pawtuxetrangers.com
SUMMARY:Recruiting Booth - Gaspee Arts & Crafts Festival
DESCRIPTION:
URL:https://www.pawtuxetrangers.com/event/recruiting-booth-gaspee-arts-crafts-festival/
LOCATION:Pawtuxet Park\, E. View Street\, Warwick\, RI\, 02888\, United States
END:VEVENT
BEGIN:VEVENT
DTSTART;TZID=America/New_York:20160527T130000
DTEND;TZID=America/New_York:20160527T131500
DTSTAMP:20260425T150726
CREATED:20160527T121251Z
LAST-MODIFIED:20160527T121534Z
UID:811-1464354000-1464354900@www.pawtuxetrangers.com
SUMMARY:Wyman School 6th Grade Graduation
DESCRIPTION:1st Reading – 5/25
URL:https://www.pawtuxetrangers.com/event/wyman-school-6th-grade-graduation/
LOCATION:Wyman School\, 1 Columbia Avenue\, Warwick\, RI\, United States
END:VEVENT
BEGIN:VEVENT
DTSTART;TZID=America/New_York:20160527T093000
DTEND;TZID=America/New_York:20160527T113000
DTSTAMP:20260425T150726
CREATED:20160512T143717Z
LAST-MODIFIED:20160512T143717Z
UID:803-1464341400-1464348600@www.pawtuxetrangers.com
SUMMARY:Flags In - St. Francis Cemetery
DESCRIPTION:Voluntary.
URL:https://www.pawtuxetrangers.com/event/flags-in-st-francis-cemetery/
LOCATION:St. Francis Cemetery\, 202 Smithfield Ave\, Pawtucket\, RI\, United States
END:VEVENT
BEGIN:VEVENT
DTSTART;TZID=America/New_York:20160525T200000
DTEND;TZID=America/New_York:20160525T210000
DTSTAMP:20260425T150726
CREATED:20160203T191040Z
LAST-MODIFIED:20160203T191040Z
UID:455-1464206400-1464210000@www.pawtuxetrangers.com
SUMMARY:Business Meeting
DESCRIPTION:
URL:https://www.pawtuxetrangers.com/event/business-meeting-15/
LOCATION:Armory Hall\, 59 Remington Street\, Warwick\, RI\, 02888\, United States
END:VEVENT
BEGIN:VEVENT
DTSTART;TZID=America/New_York:20160525T190000
DTEND;TZID=America/New_York:20160525T194500
DTSTAMP:20260425T150726
CREATED:20160519T180004Z
LAST-MODIFIED:20160519T180004Z
UID:805-1464202800-1464205500@www.pawtuxetrangers.com
SUMMARY:Marching Practice
DESCRIPTION:
URL:https://www.pawtuxetrangers.com/event/marching-practice/
LOCATION:Pawtuxet Park\, E. View Street\, Warwick\, RI\, 02888\, United States
END:VEVENT
BEGIN:VEVENT
DTSTART;TZID=America/New_York:20160525T140000
DTEND;TZID=America/New_York:20160525T160000
DTSTAMP:20260425T150726
CREATED:20160519T180259Z
LAST-MODIFIED:20160519T180259Z
UID:807-1464184800-1464192000@www.pawtuxetrangers.com
SUMMARY:Greene Cemetery Work Detail
DESCRIPTION:Voluntary.
URL:https://www.pawtuxetrangers.com/event/greene-cemetery-work-detail/
LOCATION:Greene Cemetery\, 146 Post Road\, Warwick\, RI\, United States
END:VEVENT
BEGIN:VEVENT
DTSTART;TZID=America/New_York:20160522T090000
DTEND;TZID=America/New_York:20160522T110000
DTSTAMP:20260425T150726
CREATED:20160203T190842Z
LAST-MODIFIED:20160512T141010Z
UID:452-1463907600-1463914800@www.pawtuxetrangers.com
SUMMARY:HMEA Walk/Run Opening Ceremonies
DESCRIPTION:1st Reading – 3/16. \n2nd Reading – 3/23. Voluntary \n  \nReporting time 0830. Stepoff 0900.
URL:https://www.pawtuxetrangers.com/event/hmea-walkrun-opening-ceremonies-tentative/
LOCATION:EMC\, 101 Constitution Blvd\, Franklin\, MA\, 02038\, United States
END:VEVENT
BEGIN:VEVENT
DTSTART;TZID=America/New_York:20160521T130000
DTEND;TZID=America/New_York:20160521T160000
DTSTAMP:20260425T150726
CREATED:20160203T154334Z
LAST-MODIFIED:20160304T213326Z
UID:449-1463835600-1463846400@www.pawtuxetrangers.com
SUMMARY:Pawtuxet Village Walking Tours - Tentative
DESCRIPTION:1st Reading 2/17 \n2nd Reading 3/2 – Approved – Voluntary.
URL:https://www.pawtuxetrangers.com/event/pawtuxet-village-walking-tours-tentative/
LOCATION:Pawtuxet Park\, E. View Street\, Warwick\, RI\, 02888\, United States
END:VEVENT
BEGIN:VEVENT
DTSTART;TZID=America/New_York:20160521T120000
DTEND;TZID=America/New_York:20160521T123000
DTSTAMP:20260425T150726
CREATED:20160203T154201Z
LAST-MODIFIED:20160304T213238Z
UID:447-1463832000-1463833800@www.pawtuxetrangers.com
SUMMARY:Gaspee Day Proclamation in the Park
DESCRIPTION:First Reading 2/17 \n2nd Reading – 3/2 – Approved.
URL:https://www.pawtuxetrangers.com/event/gaspee-day-proclamation-in-the-park/
LOCATION:Pawtuxet Park\, E. View Street\, Warwick\, RI\, 02888\, United States
END:VEVENT
BEGIN:VEVENT
DTSTART;TZID=America/New_York:20160521T100000
DTEND;TZID=America/New_York:20160521T103000
DTSTAMP:20260425T150726
CREATED:20160203T154030Z
LAST-MODIFIED:20160512T140430Z
UID:445-1463824800-1463826600@www.pawtuxetrangers.com
SUMMARY:Edgewood Yacht Club Opening
DESCRIPTION:1st Reading –   2/17 \n2nd Reading – 3/2 – Approved. \n0930 Reporting – 1000 Stepoff
URL:https://www.pawtuxetrangers.com/event/edgewood-yacht-club-opening-tentative/
LOCATION:Edgewood Yacht Club\, 3 Shaw Avenue\, Cranston\, RI\, 02905\, United States
END:VEVENT
BEGIN:VEVENT
DTSTART;TZID=America/New_York:20160518T200000
DTEND;TZID=America/New_York:20160518T210000
DTSTAMP:20260425T150726
CREATED:20160203T153859Z
LAST-MODIFIED:20160203T153859Z
UID:444-1463601600-1463605200@www.pawtuxetrangers.com
SUMMARY:Business Meeting
DESCRIPTION:
URL:https://www.pawtuxetrangers.com/event/business-meeting-14/
LOCATION:Armory Hall\, 59 Remington Street\, Warwick\, RI\, 02888\, United States
END:VEVENT
BEGIN:VEVENT
DTSTART;VALUE=DATE:20160514
DTEND;VALUE=DATE:20160516
DTSTAMP:20260425T150726
CREATED:20160219T162703Z
LAST-MODIFIED:20160304T205311Z
UID:582-1463184000-1463356799@www.pawtuxetrangers.com
SUMMARY:Greene Homestead Reenactment
DESCRIPTION:First Reading – 2/17 \n2nd Reading – 3/2 Approved – Voluntary Event
URL:https://www.pawtuxetrangers.com/event/greene-homestead-reenactment/
LOCATION:Greene Homestead\, 50 Taft Street\, Coventry\, RI\, United States
END:VEVENT
BEGIN:VEVENT
DTSTART;TZID=America/New_York:20160511T200000
DTEND;TZID=America/New_York:20160511T210000
DTSTAMP:20260425T150726
CREATED:20160203T153809Z
LAST-MODIFIED:20160203T153809Z
UID:443-1462996800-1463000400@www.pawtuxetrangers.com
SUMMARY:Business Meeting
DESCRIPTION:
URL:https://www.pawtuxetrangers.com/event/business-meeting-13/
LOCATION:Armory Hall\, 59 Remington Street\, Warwick\, RI\, 02888\, United States
END:VEVENT
BEGIN:VEVENT
DTSTART;VALUE=DATE:20160507
DTEND;VALUE=DATE:20160509
DTSTAMP:20260425T150726
CREATED:20160216T142319Z
LAST-MODIFIED:20160304T205225Z
UID:570-1462579200-1462751999@www.pawtuxetrangers.com
SUMMARY:Smith's Castle Opening weekend encampment
DESCRIPTION:1st reading – 2/17 \n2nd reading – 3/2 Approved – Voluntary event.
URL:https://www.pawtuxetrangers.com/event/smiths-castle-opening-weekend-encampment/
LOCATION:Smith’s Castle\, 55 Richard Smith Drive\, North Kingstown\, RI\, United States
END:VEVENT
BEGIN:VEVENT
DTSTART;VALUE=DATE:20160507
DTEND;VALUE=DATE:20160508
DTSTAMP:20260425T150726
CREATED:20160219T162502Z
LAST-MODIFIED:20160304T213536Z
UID:580-1462579200-1462665599@www.pawtuxetrangers.com
SUMMARY:Lexington Muster
DESCRIPTION:1st Reading – 2/17 \n2nd Reading – 3/2 – Tabled
URL:https://www.pawtuxetrangers.com/event/lexington-muster/
LOCATION:Unnamed Venue\, Lexington\, MA\, United States
END:VEVENT
BEGIN:VEVENT
DTSTART;TZID=America/New_York:20160504T200000
DTEND;TZID=America/New_York:20160504T210000
DTSTAMP:20260425T150726
CREATED:20160203T153550Z
LAST-MODIFIED:20160203T153550Z
UID:440-1462392000-1462395600@www.pawtuxetrangers.com
SUMMARY:Business Meeting
DESCRIPTION:
URL:https://www.pawtuxetrangers.com/event/business-meeting-12/
LOCATION:Armory Hall\, 59 Remington Street\, Warwick\, RI\, 02888\, United States
END:VEVENT
BEGIN:VEVENT
DTSTART;TZID=America/New_York:20160430T170000
DTEND;TZID=America/New_York:20160430T180000
DTSTAMP:20260425T150726
CREATED:20160408T143933Z
LAST-MODIFIED:20160426T165050Z
UID:642-1462035600-1462039200@www.pawtuxetrangers.com
SUMMARY:RI Heritage Hall of Fame
DESCRIPTION:4 Person Color Guard needed \n1st Reading 4/6. \n2nd Reading 4/14. Approved – Voluntary event.
URL:https://www.pawtuxetrangers.com/event/ri-heritage-hall-of-fame/
LOCATION:Rhodes On The Pawtuxet\, 1 Rhode Place\, Cranston\, RI\, 02905\, United States
END:VEVENT
BEGIN:VEVENT
DTSTART;TZID=America/New_York:20160430T113000
DTEND;TZID=America/New_York:20160430T120000
DTSTAMP:20260425T150726
CREATED:20160203T190707Z
LAST-MODIFIED:20160304T205109Z
UID:450-1462015800-1462017600@www.pawtuxetrangers.com
SUMMARY:CELL Little League Opening Day
DESCRIPTION:1st Reading – 2/17 \n2nd Reading – 3/2 Approved – Voluntary Event
URL:https://www.pawtuxetrangers.com/event/cell-little-league-opening-day/
LOCATION:Cranston Stadium\, 20 Jordan Ave\, Cranston\, RI\, United States
END:VEVENT
BEGIN:VEVENT
DTSTART;TZID=America/New_York:20160427T200000
DTEND;TZID=America/New_York:20160427T210000
DTSTAMP:20260425T150726
CREATED:20160203T153446Z
LAST-MODIFIED:20160203T153446Z
UID:439-1461787200-1461790800@www.pawtuxetrangers.com
SUMMARY:Business Meeting
DESCRIPTION:
URL:https://www.pawtuxetrangers.com/event/business-meeting-11/
LOCATION:Armory Hall\, 59 Remington Street\, Warwick\, RI\, 02888\, United States
END:VEVENT
BEGIN:VEVENT
DTSTART;TZID=America/New_York:20160427T151500
DTEND;TZID=America/New_York:20160427T161500
DTSTAMP:20260425T150726
CREATED:20160408T144031Z
LAST-MODIFIED:20160408T144031Z
UID:644-1461770100-1461773700@www.pawtuxetrangers.com
SUMMARY:Wyman School visit to the armory
DESCRIPTION:Voluntary
URL:https://www.pawtuxetrangers.com/event/wyman-school-visit-to-the-armory/
LOCATION:Armory Hall\, 59 Remington Street\, Warwick\, RI\, 02888\, United States
END:VEVENT
BEGIN:VEVENT
DTSTART;TZID=America/New_York:20160423T080000
DTEND;TZID=America/New_York:20160423T110000
DTSTAMP:20260425T150726
CREATED:20160203T153355Z
LAST-MODIFIED:20160304T205034Z
UID:437-1461398400-1461409200@www.pawtuxetrangers.com
SUMMARY:Greene Cemetery Cleanup
DESCRIPTION:1st Reading – 2/17 \n2nd Reading – 3/2 Approved – Voluntary Event.
URL:https://www.pawtuxetrangers.com/event/greene-cemetery-cleanup-tentative/
LOCATION:Greene Cemetery\, 146 Post Road\, Warwick\, RI\, United States
END:VEVENT
END:VCALENDAR